BEGIN:VCALENDAR
VERSION:2.0
PRODID:-//Teatro Mercadante - ECPv6.15.20//NONSGML v1.0//EN
CALSCALE:GREGORIAN
METHOD:PUBLISH
X-ORIGINAL-URL:https://www.teatromercadante.com
X-WR-CALDESC:Eventi per Teatro Mercadante
REFRESH-INTERVAL;VALUE=DURATION:PT1H
X-Robots-Tag:noindex
X-PUBLISHED-TTL:PT1H
BEGIN:VTIMEZONE
TZID:Europe/Helsinki
BEGIN:DAYLIGHT
TZOFFSETFROM:+0200
TZOFFSETTO:+0300
TZNAME:EEST
DTSTART:20250330T010000
END:DAYLIGHT
BEGIN:STANDARD
TZOFFSETFROM:+0300
TZOFFSETTO:+0200
TZNAME:EET
DTSTART:20251026T010000
END:STANDARD
BEGIN:DAYLIGHT
TZOFFSETFROM:+0200
TZOFFSETTO:+0300
TZNAME:EEST
DTSTART:20260329T010000
END:DAYLIGHT
BEGIN:STANDARD
TZOFFSETFROM:+0300
TZOFFSETTO:+0200
TZNAME:EET
DTSTART:20261025T010000
END:STANDARD
BEGIN:DAYLIGHT
TZOFFSETFROM:+0200
TZOFFSETTO:+0300
TZNAME:EEST
DTSTART:20270328T010000
END:DAYLIGHT
BEGIN:STANDARD
TZOFFSETFROM:+0300
TZOFFSETTO:+0200
TZNAME:EET
DTSTART:20271031T010000
END:STANDARD
END:VTIMEZONE
BEGIN:VEVENT
DTSTART;TZID=Europe/Helsinki:20260307T210000
DTEND;TZID=Europe/Helsinki:20260307T230000
DTSTAMP:20260423T225053
CREATED:20250624T190014Z
LAST-MODIFIED:20251018T102440Z
UID:10000155-1772917200-1772924400@www.teatromercadante.com
SUMMARY:Vanessa Gravina\, Nicola Rignanese "Pazza"
DESCRIPTION:Lo spettacolo va in scena per la prima volta a Broadway nel 1980\, per poi essere riproposto al cinema dallo stesso Topor in una fortunatissima versione che vede Barbara Streisand nei panni della  protagonista\, Claudia Draper. \n\nClaudia Draper\, una squillo di lusso\, viene accusata dell’omicidio di un anziano cliente e rischia venticinque anni di carcere. Pur di salvarla\, la ricca famiglia si affida ad un valente legale per farla dichiarare incapace di intendere e di volere e farla internare in un istituto psichiatrico\, dal quale potrà uscire dopo pochi anni. Ma la donna si sbarazza del legale pagato dai genitori e viene affidata a un avvocato d’ufficio\, il quale intuisce – dietro il contegno ostico dell’indesiderata cliente – un’intelligenza acuta e la capacità di collaborare alla propria difesa. Claudia lo fa a prescindere da ogni possibile cavillo giudiziario\, solo svelando dolorosamente\, con disperata causticità\, lo scabroso entroterra familiare nel quale è maturata la sua scelta di vita e le intollerabili pretese del cliente che scatenarono la sua micidiale reazione di difesa.
URL:https://www.teatromercadante.com/eventi/vanessa-gravina-nicola-rignanese-2/
CATEGORIES:Rassegna "Mettiamoci in prosa"
ATTACH;FMTTYPE=image/jpeg:https://www.teatromercadante.com/wp-content/uploads/2025/06/PAZZA-8594-e1750411813622.jpg
END:VEVENT
BEGIN:VEVENT
DTSTART;TZID=Europe/Helsinki:20260308T173000
DTEND;TZID=Europe/Helsinki:20260308T193000
DTSTAMP:20260423T225053
CREATED:20250624T190046Z
LAST-MODIFIED:20251018T104239Z
UID:10000154-1772991000-1772998200@www.teatromercadante.com
SUMMARY:Vanessa Gravina\, Nicola Rignanese "Pazza"
DESCRIPTION:Lo spettacolo va in scena per la prima volta a Broadway nel 1980\, per poi essere riproposto al cinema dallo stesso Topor in una fortunatissima versione che vede Barbara Streisand nei panni della  protagonista\, Claudia Draper. \n\nClaudia Draper\, una squillo di lusso\, viene accusata dell’omicidio di un anziano cliente e rischia venticinque anni di carcere. Pur di salvarla\, la ricca famiglia si affida ad un valente legale per farla dichiarare incapace di intendere e di volere e farla internare in un istituto psichiatrico\, dal quale potrà uscire dopo pochi anni. Ma la donna si sbarazza del legale pagato dai genitori e viene affidata a un avvocato d’ufficio\, il quale intuisce – dietro il contegno ostico dell’indesiderata cliente – un’intelligenza acuta e la capacità di collaborare alla propria difesa. Claudia lo fa a prescindere da ogni possibile cavillo giudiziario\, solo svelando dolorosamente\, con disperata causticità\, lo scabroso entroterra familiare nel quale è maturata la sua scelta di vita e le intollerabili pretese del cliente che scatenarono la sua micidiale reazione di difesa.
URL:https://www.teatromercadante.com/eventi/vanessa-gravina-nicola-rignanese/
CATEGORIES:Rassegna "Mettiamoci in prosa"
ATTACH;FMTTYPE=image/jpeg:https://www.teatromercadante.com/wp-content/uploads/2025/06/PAZZA-8594-e1750411813622.jpg
END:VEVENT
BEGIN:VEVENT
DTSTART;TZID=Europe/Helsinki:20260315T183000
DTEND;TZID=Europe/Helsinki:20260315T203000
DTSTAMP:20260423T225053
CREATED:20250624T190057Z
LAST-MODIFIED:20251014T175632Z
UID:10000162-1773599400-1773606600@www.teatromercadante.com
SUMMARY:Scintilla e Camba - Io Marte\, tu Mercole
DESCRIPTION:Gianluca “Scintilla” Fubelli e Federica Camba si raccontano al pubblico\, portando sul palco la loro relazione reale\, fatta di complicità\, differenze\, melodie e tante risate; lei imprevedibile\, lui\nesplosivo\, lei profonda\, lui diretto\, lei parla\, lui ascolta…lei parla\, lui forse ascolta…lei parla ancora…lui ha smesso di ascoltare da un bel pò. Tra uno sketch ed un racconto\, un pizzicotto ed una carezza\, si attraversano le grandi domande dell’amore… Chi ha ragione? Chi ha sbagliato? Chi ha lasciato il dentifricio aperto? E soprattutto: chi lo ha detto che per capirsi bisogna essere uguali?\nPerchè\, alla fine\, i rapporti di coppia sono sempre tutto il contrario di tutto\, continui e cortocircuiti tra pianeti lontani: “Io Marte\, tu Mercole”. \nATTENZIONE: Questo spettacolo sostituisce “Capafresca” di e con Giovanni Vernia\, per sopraggiunti impegni televisivi improrogabili. Abbonamenti e biglietti del precedente spettacolo saranno validi anche per il presente. \n 
URL:https://www.teatromercadante.com/eventi/scintilla-camba/
CATEGORIES:Rassegna "Comi-città"
ATTACH;FMTTYPE=image/jpeg:https://www.teatromercadante.com/wp-content/uploads/2025/06/Locandina-Io-Marte-tu-Mercole-e1760464498327.jpg
END:VEVENT
BEGIN:VEVENT
DTSTART;TZID=Europe/Helsinki:20260321T210000
DTEND;TZID=Europe/Helsinki:20260321T233000
DTSTAMP:20260423T225053
CREATED:20250624T190052Z
LAST-MODIFIED:20251018T101944Z
UID:10000166-1774126800-1774135800@www.teatromercadante.com
SUMMARY:Gioele Dix “MA PER FORTUNA CHE C’ERA IL GABER”
DESCRIPTION:In occasione del ventennale della sua scomparsa\, Gioele Dix rende omaggio al talento inimitabile di Giorgio Gaber\, l’artista da molti considerato come il migliore interprete delle aspirazioni di giovani che – per citare le parole di una sua canzone – “stavano cercando\, magari con un po’ di presunzione\, di cambiare il mondo”. Grazie alla sua sensibilità (e a quella del suo straordinario compagno di scrittura Sandro Luporini) Gaber ha saputo intercettare gli umori di una generazione vitale\, polemica\, inquieta\, spesso anticipandone contraddizioni e cambi di rotta. Ma per fortuna che c’era il Gaber è il più recente di una serie di tributi che Gioele Dix\, a partire dal 2004\, anno in cui si tenne il primo Festival Gaber a Viareggio\, ha dedicato all’artista milanese del quale è stato convinto ammiratore fin dall’adolescenza. Lo spettacolo è costruito come un insolito itinerario all’interno del teatro-canzone di Gaber e Luporini\, in cui si intrecciano brani conosciuti del loro repertorio con musiche e testi variamente inediti: versi mai musicati\, canzoni mai eseguite dal vivo\, monologhi abbozzati e mai completati. Decisivo è stato per realizzarlo l’apporto della Fondazione Gaber\, che ha svelato l’esistenza di questi preziosi materiali e li ha messi a disposizione del progetto. Ma per fortuna che c’era il Gaber è dunque uno spettacolo assolutamente speciale\, appassionato e originale\, nel quale convivono sorprese (un esilarante monologo inedito sulla Rivoluzione d’Ottobre) e rievocazioni personali (il primo incontro assolutamente casuale fra Gaber e Dix nella hall di un albergo di Mestre)\, brani d’annata (Il Riccardo\, Barbera e champagne) e bozze di canzoni tipicamente alla Gaber-Luporini su cui inventare una musica (Appunti di democrazia). In scena nella doppia veste di attore e di cantante\, Gioele Dix è accompagnato da due eccellenti musicisti\, Silvano Belfiore al pianoforte e Savino Cesario alle chitarre\, entrambi complici da anni delle sue affettuose scorribande gaberiane.
URL:https://www.teatromercadante.com/eventi/gioele-dix/
CATEGORIES:Music All
ATTACH;FMTTYPE=image/jpeg:https://www.teatromercadante.com/wp-content/uploads/2025/06/Gioele-Dix©Laila-Pozzo15-scaled-e1750411550721.jpg
END:VEVENT
BEGIN:VEVENT
DTSTART;TZID=Europe/Helsinki:20260328T210000
DTEND;TZID=Europe/Helsinki:20260328T230000
DTSTAMP:20260423T225053
CREATED:20250721T110947Z
LAST-MODIFIED:20260311T111527Z
UID:10000183-1774731600-1774738800@www.teatromercadante.com
SUMMARY:La banda degli onesti "Casa di frontiera"
DESCRIPTION:In un futuro indefinito\, l’Italia è stata divisa in due. Dopo la secessione tutti i Meridionali residenti al Nord\, che non sono riusciti a rimpatriare\, sono stati confinati in centri molto simili alle riserve degli Indiani d’America; in una di queste case\, al confine col territorio padano\, vivono i protagonisti della nostra storia: Bernardino e sua sorella Concetta. Bernardino desidera fortemente diventare a tutti gli effetti cittadino del Nord e\, inseguendo questo sogno\, ha persino modificato illecitamente il proprio cognome\, in modo da poter vantare una fantomatica discendenza tedesca. Al contrario Concetta\, spalleggiata dal proprio fidanzato Vito\, sudista “irriducibile”\, continua a condurre una vita caratterizzata da abitudini e ritmi prettamente meridionali\, facendo continuamente impazzire di rabbia Bernardino. A complicare ulteriormente la situazione\, la presenza costante sia di Olga\, l’assistente sociale\, con il compito di preparare i fratelli al difficile esame di ammissione al Nord\, sia della dirimpettaia nordista col suo fastidioso figlioletto. \nIn questo paradossale contesto si svolgono le esilaranti vicende di questa commedia che\, pur trattando temi politici\, non si discosta mai dalla narrazione fantastica\, regalando momenti di comicità travolgente con spunti di riflessione su problemi sociali alquanto spinosi e tristemente attuali\, nonostante il testo sia stato scritto da Gianfelice Imparato più di 30 anni fa.
URL:https://www.teatromercadante.com/eventi/la-banda-degli-onesti-casa-di-frontiera/
CATEGORIES:Festival "Bombetta d'Oro"
ATTACH;FMTTYPE=image/jpeg:https://www.teatromercadante.com/wp-content/uploads/2026/02/Casa-di-frontiera-loc-scaled-e1773227520979.jpg
END:VEVENT
BEGIN:VEVENT
DTSTART;TZID=Europe/Helsinki:20260329T183000
DTEND;TZID=Europe/Helsinki:20260329T203000
DTSTAMP:20260423T225053
CREATED:20260203T171046Z
LAST-MODIFIED:20260318T105932Z
UID:10000186-1774809000-1774816200@www.teatromercadante.com
SUMMARY:La banda degli onesti "Casa di frontiera"
DESCRIPTION:In un futuro indefinito\, l’Italia è stata divisa in due. Dopo la secessione tutti i Meridionali residenti al Nord\, che non sono riusciti a rimpatriare\, sono stati confinati in centri molto simili alle riserve degli Indiani d’America; in una di queste case\, al confine col territorio padano\, vivono i protagonisti della nostra storia: Bernardino e sua sorella Concetta. Bernardino desidera fortemente diventare a tutti gli effetti cittadino del Nord e\, inseguendo questo sogno\, ha persino modificato illecitamente il proprio cognome\, in modo da poter vantare una fantomatica discendenza tedesca. Al contrario Concetta\, spalleggiata dal proprio fidanzato Vito\, sudista “irriducibile”\, continua a condurre una vita caratterizzata da abitudini e ritmi prettamente meridionali\, facendo continuamente impazzire di rabbia Bernardino. A complicare ulteriormente la situazione\, la presenza costante sia di Olga\, l’assistente sociale\, con il compito di preparare i fratelli al difficile esame di ammissione al Nord\, sia della dirimpettaia nordista col suo fastidioso figlioletto. \nIn questo paradossale contesto si svolgono le esilaranti vicende di questa commedia che\, pur trattando temi politici\, non si discosta mai dalla narrazione fantastica\, regalando momenti di comicità travolgente con spunti di riflessione su problemi sociali alquanto spinosi e tristemente attuali\, nonostante il testo sia stato scritto da Gianfelice Imparato più di 30 anni fa.
URL:https://www.teatromercadante.com/eventi/la-banda-degli-onesti-casa-di-frontiera-copy/
CATEGORIES:Festival "Bombetta d'Oro",Fuori abbonamento
ATTACH;FMTTYPE=image/jpeg:https://www.teatromercadante.com/wp-content/uploads/2026/02/Casa-di-frontiera-loc-scaled-e1773227520979.jpg
END:VEVENT
BEGIN:VEVENT
DTSTART;TZID=Europe/Helsinki:20260411T210000
DTEND;TZID=Europe/Helsinki:20260411T230000
DTSTAMP:20260423T225053
CREATED:20250721T111232Z
LAST-MODIFIED:20260407T095525Z
UID:10000184-1775941200-1775948400@www.teatromercadante.com
SUMMARY:Teatro Stabile Nisseno "Il Paraninfo"
DESCRIPTION:Pasquale Minnella vorrebbe nel suo paese siciliano tutti ammogliati e sposati. La sua è proprio un’ossessione e cerca in tutti i modi di raggiungere il suo obbiettivo che è: “MATRIMONIO PER TUTTI”. A dire il vero in passato è riuscito a far sposare alcune coppie anche se i matrimoni non sono finiti tutti benissimo. Anzi. Ma Pasquale si è messo in testa di fare una doppia accoppiata vincente: in un colpo solo\, un doppio matrimonio.\nLe sorelle Patané con il vedovo Pappalardo e con l’ingenuo Tenentino del nord. Ma bisogna fare incontrare le due coppie quasi casualmente. Le due donne non devono sapere che i due uomini sono i loro pretendenti. E i due uomini non devono sapere che le due donne potrebbero diventare ipoteticamente le loro mogli. Due matrimoni complicati da combinare. Ma per Pasquale\, moderno Paraninfo niente è impossibile. Anche se questo caso per l’aspetto fisico delle sorelle Patané sembra veramente problematico.\nCi riuscirà? E come ci riuscirà. A quale prezzo? Lo scoprirete solamente godendovi fino alla fine la commedia. Una serie di gags\, colpi di scena e situazioni comiche vi accompagneranno per tutto lo spettacolo. E vi assicuriamo che difficilmente riuscirete a trattenere le risate.
URL:https://www.teatromercadante.com/eventi/teatro-stabile-nisseno/
CATEGORIES:Festival "Bombetta d'Oro"
ATTACH;FMTTYPE=image/jpeg:https://www.teatromercadante.com/wp-content/uploads/2025/07/Nisseno.jpg
END:VEVENT
BEGIN:VEVENT
DTSTART;TZID=Europe/Helsinki:20260418T210000
DTEND;TZID=Europe/Helsinki:20260418T233000
DTSTAMP:20260423T225053
CREATED:20250624T190049Z
LAST-MODIFIED:20251016T163112Z
UID:10000156-1776546000-1776555000@www.teatromercadante.com
SUMMARY:Stefano Massini "ALFABETO DELLE EMOZIONI"
DESCRIPTION:Noi siamo quello che proviamo. E raccontarci agli altri significa raccontare le nostre emozioni. Ma come farlo\, in un momento che sembra confondere tutto con tutto\, perdendo i confini fra gli stati d’animo? Ci viene detto che siamo analfabeti emotivi\, e proprio da qui parte Stefano Massini – lo scrittore così amato per i suoi racconti in tv del giovedì sera a “Piazzapulita” – per un viaggio profondissimo e ironico al tempo stesso nel labirinto del nostro sentire e sentirci. In un immaginario alfabeto in cui ogni lettera è un’emozione (P come Paura\, F come Felicità\, M come Malinconia…)\, Massini trascina il pubblico in un susseguirsi di storie e di esempi irresistibili\, con l’obiettivo unico di chiamare per nome ciò che ci muove da dentro. Scorrono visi\, ritratti\, nomi\, situazioni. Ad andare in scena è la forza e la fragilità dell’essere umano\, dipinta con l’estro e il divertimento di un appassionato narratore\, definito da Repubblica “il più popolare raccontastorie del momento”.
URL:https://www.teatromercadante.com/eventi/stefano-massini/
CATEGORIES:Rassegna "Mettiamoci in prosa"
ATTACH;FMTTYPE=image/jpeg:https://www.teatromercadante.com/wp-content/uploads/2025/06/Stefano-Massini_phMarcoBorrelli_270420_06650-e1750411651963.jpg
END:VEVENT
BEGIN:VEVENT
DTSTART;TZID=Europe/Helsinki:20260419T173000
DTEND;TZID=Europe/Helsinki:20260419T193000
DTSTAMP:20260423T225053
CREATED:20250624T190014Z
LAST-MODIFIED:20251018T104316Z
UID:10000157-1776619800-1776627000@www.teatromercadante.com
SUMMARY:Stefano Massini "ALFABETO DELLE EMOZIONI"
DESCRIPTION:Noi siamo quello che proviamo. E raccontarci agli altri significa raccontare le nostre emozioni. Ma come farlo\, in un momento che sembra confondere tutto con tutto\, perdendo i confini fra gli stati d’animo? Ci viene detto che siamo analfabeti emotivi\, e proprio da qui parte Stefano Massini – lo scrittore così amato per i suoi racconti in tv del giovedì sera a “Piazzapulita” – per un viaggio profondissimo e ironico al tempo stesso nel labirinto del nostro sentire e sentirci. In un immaginario alfabeto in cui ogni lettera è un’emozione (P come Paura\, F come Felicità\, M come Malinconia…)\, Massini trascina il pubblico in un susseguirsi di storie e di esempi irresistibili\, con l’obiettivo unico di chiamare per nome ciò che ci muove da dentro. Scorrono visi\, ritratti\, nomi\, situazioni. Ad andare in scena è la forza e la fragilità dell’essere umano\, dipinta con l’estro e il divertimento di un appassionato narratore\, definito da Repubblica “il più popolare raccontastorie del momento”.
URL:https://www.teatromercadante.com/eventi/stefano-massini-2/
CATEGORIES:Rassegna "Mettiamoci in prosa"
ATTACH;FMTTYPE=image/jpeg:https://www.teatromercadante.com/wp-content/uploads/2025/06/Stefano-Massini_phMarcoBorrelli_270420_06650-e1750411651963.jpg
END:VEVENT
BEGIN:VEVENT
DTSTART;TZID=Europe/Helsinki:20260516T210000
DTEND;TZID=Europe/Helsinki:20260516T223000
DTSTAMP:20260423T225053
CREATED:20260122T175602Z
LAST-MODIFIED:20260122T175854Z
UID:10000185-1778965200-1778970600@www.teatromercadante.com
SUMMARY:Herbert Ballerina
DESCRIPTION:Sappiamo cosa state pensando\, e avete ragione: è proprio così! Il solo\, unico (più unico che raro!) e inimitabile Herbert Ballerina ha finalmente uno spettacolo teatrale tutto suo! \nÈ il primissimo (di quella che sarà una lunga serie\, statene certi!). Il titolo – Come una catapulta – è già divertente di suo. Ma non basta. Perché Herbert ci parla di mille (e una) cose\, a ruota libera\, con il suo stile dimesso ma terribilmente ironico. La verità è che nessuno di noi/voi è pronto per questo spettacolo: tra scatoloni di ogni dimensione disseminati sul palco e un immancabile busto di Fred Bongusto\, Herbert ci apre la mente su temi come il Molise (che esiste davvero!)\, i tatuaggi di coppia\, i traslochi\, i riflettori (o erano le riflessioni?)\, gli architetti satanici\, i medici e gli psicologi allucina(n)ti\, gli amici pelosetti (animali\, chiaro!)\, i documentaristi mancati e Robocop in analisi. E ancora\, sferzate di istrionismo su personaggi famosi come Michael Jordan\, Elon Musk\, Will Smith\, Pablo Picasso. \nInsomma\, un mosaico di assurdità ordinarie e quotidiane\, tanto divertenti quanto realistiche! Raccontate come solo Herbert sa fare: strappando risate\, dall’inizio alla fine. In pratica\, se avete voglia di essere catapultati nell’orbita del sano divertimento o degli esilaranti nonsense\, Herbert è l’uomo giusto per voi e questo è decisamente il vostro spettacolo!
URL:https://www.teatromercadante.com/eventi/herbert-ballerina-2/
CATEGORIES:Rassegna "Comi-città"
ATTACH;FMTTYPE=image/jpeg:https://www.teatromercadante.com/wp-content/uploads/2026/01/Ballerina-26-01-25-scaled-e1769104510170.jpg
END:VEVENT
END:VCALENDAR