BEGIN:VCALENDAR
VERSION:2.0
PRODID:-//Teatro Mercadante - ECPv6.15.20//NONSGML v1.0//EN
CALSCALE:GREGORIAN
METHOD:PUBLISH
X-ORIGINAL-URL:https://www.teatromercadante.com
X-WR-CALDESC:Eventi per Teatro Mercadante
REFRESH-INTERVAL;VALUE=DURATION:PT1H
X-Robots-Tag:noindex
X-PUBLISHED-TTL:PT1H
BEGIN:VTIMEZONE
TZID:Europe/Helsinki
BEGIN:DAYLIGHT
TZOFFSETFROM:+0200
TZOFFSETTO:+0300
TZNAME:EEST
DTSTART:20240331T010000
END:DAYLIGHT
BEGIN:STANDARD
TZOFFSETFROM:+0300
TZOFFSETTO:+0200
TZNAME:EET
DTSTART:20241027T010000
END:STANDARD
BEGIN:DAYLIGHT
TZOFFSETFROM:+0200
TZOFFSETTO:+0300
TZNAME:EEST
DTSTART:20250330T010000
END:DAYLIGHT
BEGIN:STANDARD
TZOFFSETFROM:+0300
TZOFFSETTO:+0200
TZNAME:EET
DTSTART:20251026T010000
END:STANDARD
BEGIN:DAYLIGHT
TZOFFSETFROM:+0200
TZOFFSETTO:+0300
TZNAME:EEST
DTSTART:20260329T010000
END:DAYLIGHT
BEGIN:STANDARD
TZOFFSETFROM:+0300
TZOFFSETTO:+0200
TZNAME:EET
DTSTART:20261025T010000
END:STANDARD
END:VTIMEZONE
BEGIN:VEVENT
DTSTART;TZID=Europe/Helsinki:20251206T210000
DTEND;TZID=Europe/Helsinki:20251206T233000
DTSTAMP:20260424T061150
CREATED:20250624T190026Z
LAST-MODIFIED:20250909T154748Z
UID:10000159-1765054800-1765063800@www.teatromercadante.com
SUMMARY:Vincenzo Comunale
DESCRIPTION:Comunale è autore e interprete di vari spettacoli comici\, one man show con i quali ha calcato i palchi delle principali città Italiane\, ma anche estere (ha fatto spettacolo per Italiani a Londra\, Parigi\, Lisbona e col prossimo tour anche ad Amsterdam). Tra i primi comici italiani ad approdare con un suo special su Amazon Prime\, ne ha poi pubblicato online un altro dal titolo “Un’Altra Cosa”. Nel 2023 si esibisce con uno speciale “Vincenzo Comunale show” a Piazza del Plebiscito (Napoli) davanti a circa 6.000 persone. Comunale propone uno spettacolo dal vivo composto da monologhi comici che spaziano su vari argomenti\, cercando sempre di guardare la realtà da altre angolazioni\, evidenziandone le contraddizioni ed esprimendo punti di vista originali. Comunale da voce alla sua generazione (29 anni\, a metà tra millennials e generazione Z) e la sua città (ironizza e ribalda gli stereotipi su Napoli\, ma rifuggendo sempre dalla retorica). Lo spettatore è costantemente coinvolto\, non per essere preso in giro\, ma per essere parte attiva dello show: le risposte del pubblico diventano motore narrativo dello spettacolo stesso grazie ai frequenti momenti di improvvisazione. Argomenti e notizie di attualità vengono spesso integrate nello spettacolo\, il che\, assieme alle improvvisazioni\, rende ogni replica diversa dalla precedente.
URL:https://www.teatromercadante.com/eventi/vincenzo-comunale/
CATEGORIES:Rassegna "Comi-città"
ATTACH;FMTTYPE=image/jpeg:https://www.teatromercadante.com/wp-content/uploads/2025/06/Comunale-e1750414671525.jpg
END:VEVENT
BEGIN:VEVENT
DTSTART;TZID=Europe/Helsinki:20251207T193000
DTEND;TZID=Europe/Helsinki:20251207T230000
DTSTAMP:20260424T061150
CREATED:20250624T190007Z
LAST-MODIFIED:20250910T101557Z
UID:10000175-1765135800-1765148400@www.teatromercadante.com
SUMMARY:Omar Sosa – Marialy Pacheco
DESCRIPTION:Il progetto “Manos” segna l’incontro tra due pianisti cubani di fama internazionale\, Omar Sosa e Marialy Pacheco\, uniti da una profonda affinità artistica e da una comune ricerca di nuove sonorità. In questo concerto\, tratto dall’omonimo album\, i due artisti propongono un repertorio che spazia da pagine di intensa intimità a momenti di energia travolgente. \nUn concerto che unisce virtuosismo pianistico e profondità espressiva\, capace di raccontare attraverso le mani dei due interpreti la ricchezza musicale e culturale di Cuba e del mondo.
URL:https://www.teatromercadante.com/eventi/omar-sosa-marialy-pacheco/
CATEGORIES:Stagione concertistica
ATTACH;FMTTYPE=image/jpeg:https://www.teatromercadante.com/wp-content/uploads/2025/06/Sosa-Pacheco.jpg
END:VEVENT
BEGIN:VEVENT
DTSTART;TZID=Europe/Helsinki:20251213T210000
DTEND;TZID=Europe/Helsinki:20251213T230000
DTSTAMP:20260424T061150
CREATED:20250624T190010Z
LAST-MODIFIED:20251017T090815Z
UID:10000164-1765659600-1765666800@www.teatromercadante.com
SUMMARY:Matthew Lee
DESCRIPTION:Matthew Lee anche quest’anno presenta il suo speciale regalo di Natale\, ormai diventato una tradizione. Saranno infatti i grandi classici natalizi\, da “Santa Claus is coming to town” a “Santa Baby”\, da “Jingle Bells” a “Rocking around the Christmas Tree”\, da “Let it Snow” a “‘Il be home for Xmas”\, che arricchiranno la speciale versione natalizia del suo show “L’importante\, nella vita\, è avere un Piano”. \nL’importante\, nella vita\, è avere un piano! Ma a volte il piano A non basta\, e servono delle alternative. Chi meglio di Matthew Lee\, eclettico e straordinario pianista pesarese definito dalla stampa anglosassone “The Genius of Rock ‘n’ Roll”\, per affrontare la questione? Al centro della scena Matthew Lee con il suo pianoforte\, e la musica che tutti amiamo\, dalle radici del rock’n’roll ai giorni nostri\, con la concessione di qualche “licenza musicale”\, per dimostrare come anche alla base di canzoni storiche della musica italiana ci siano\, in fondo\, il blues ed il R’n’R. Un fiume di note coinvolgenti\, uno storytelling appassionante\, per guidare gli spettatori alla scoperta della musica che ci fa cantare e ballare da oltre 60 anni\, attraverso i brani di Elvis\, Little Richard\, Ray Charles\, Jerry Lee Lewis\, con naturalmente i successi di Matthew Lee e gli omaggi a Bennato\, Modugno\, Concato e tanti altri. Uno spettacolo per tutti\, fatto di ritmo\, passione e stile\, con protagonista Matthew Lee\, le sue storie ed il suo pianoforte. \nLo spettacolo è presentato da Equipe Eventi di Fanzia Verlicchi
URL:https://www.teatromercadante.com/eventi/matthew-lee/
CATEGORIES:Music All
ATTACH;FMTTYPE=image/jpeg:https://www.teatromercadante.com/wp-content/uploads/2025/06/Matthew-Lee-ok-scaled.jpg
END:VEVENT
BEGIN:VEVENT
DTSTART;TZID=Europe/Helsinki:20251220T210000
DTEND;TZID=Europe/Helsinki:20251220T233000
DTSTAMP:20260424T061150
CREATED:20250624T190020Z
LAST-MODIFIED:20251016T165624Z
UID:10000160-1766264400-1766273400@www.teatromercadante.com
SUMMARY:Luca Bizzarri
DESCRIPTION:Un nuovo spettacolo ispirato al podcast e al libro omonimo di Luca Bizzarri. Un’altra sagace declinazione di “Non Hanno Un Amico” dopo il grande successo del tour della prima versione. Un podcast nato per raccontare una campagna elettorale che è diventato rapidamente seguitissimo fenomeno di costume.\nI tempi e la storia sono cambiati rapidamente e così anche lo spettacolo teatrale\, con le sue folgoranti illuminazioni comiche\, si aggiorna e cresce. La comunicazione politica dei nostri tempi\, i fenomeni social\, il costume e il malcostume di un nuovo millennio: uno specchio spesso impietoso ma mai banale condotto con l’irriverente intelligenza di un grande interprete.
URL:https://www.teatromercadante.com/eventi/luca-bizzarri/
CATEGORIES:Rassegna "Comi-città"
ATTACH;FMTTYPE=image/jpeg:https://www.teatromercadante.com/wp-content/uploads/2025/06/Luca_Bizzarri_non_hanno_un_amico_2.jpg
END:VEVENT
BEGIN:VEVENT
DTSTART;TZID=Europe/Helsinki:20251221T193000
DTEND;TZID=Europe/Helsinki:20251221T230000
DTSTAMP:20260424T061150
CREATED:20250624T190036Z
LAST-MODIFIED:20251017T162037Z
UID:10000176-1766345400-1766358000@www.teatromercadante.com
SUMMARY:Pastor Ron "GOSPEL SHOW"
DESCRIPTION:La formazione ha fatto il suo debutto in Italia nel 2010 riscuotendo un clamoroso successo di pubblico e critica. Lo spettacolo vede come protagonista l’esilarante Pastor Ronald Hubbard\, una delle figure più conosciute e carismatiche nel panorama gospel. Un personaggio che ha saputo incantare anche il pubblico italiano con la sua personalità strabordante e coinvolgente. Pastor Ron e il suo gruppo si sono esibiti su prestigiosi palcoscenici\, letteralmente ammaliando ogni genere di pubblico. II repertorio presentato spazia a 360 fra il gospel tradizionale e quello contemporaneo: un vero e proprio viaggio\, dalle origini\, allo spiritual\, per arrivare alle versioni più moderne e scatenate di incredibile genere musicale. Oltre a una sezione interamente dedicata al Natale\, il programma include anche diversi brani composti dallo stesso Pastor Ron. Accanto al Pastore Ron sul palco\, 6 artisti fra cantanti e band: voci potenti e vellutate in pieno stile BLACK. Una miscela esplosiva\, un affiatamento collaudato in anni di tournée\, una presa diretta e immediata sul pubblico! Due ore di musica gospel TOP LEVEL in cui si inseriscono elementi di comicità e umorismo che trascineranno letteralmente lo spettatore in un vortice di sano divertimento! I concerti i Pastor Ron non possono essere descritti a parole: si tratta di una vera propria ‘GOSPEL EXPERIENCE’ in cui lo spettatore è coinvolto sin dalle prime note. \nDottor Ronald Ixaac Hubbard (Pastor Ron) \nE’ conosciuto come “Triple Man” che significa non solo che è in grado di cantare\, ballare e recitare\, ma che è guidato e ispirato dalla più forte Trinità: dal Padre\, dal Figlio e dallo Spirito Santo. Ron è fermamente convinto che vi siano tanti modi per divulgare la Parola di Gesù Cristo\, soprattutto con sincero e sano umorismo: questo è il modo con cui lavora. La sua personalità è “straripante”\, il suo umorismo è esplosivo e contagioso: trascinando tutto e tutti nel suo moto dirompente\, Ron arriva diretto al cuore delle persone! La sua esperienza in campo teatrale è estesa e varia. I suoi studi presso la famosissima Interlochen Music Academy e presso il Cleveland Institute of Music si riflettono nella sua persistenza nell’eccellenza\, sia come solista che in gruppo. In Italia Pastor Ron è divenuto ormai un personaggio famoso ed è molto amato.
URL:https://www.teatromercadante.com/eventi/pastor-ron/
CATEGORIES:Stagione concertistica
ATTACH;FMTTYPE=image/jpeg:https://www.teatromercadante.com/wp-content/uploads/2025/06/Pastor-Ron.jpg
END:VEVENT
END:VCALENDAR