BEGIN:VCALENDAR
VERSION:2.0
PRODID:-//Teatro Mercadante - ECPv6.15.20//NONSGML v1.0//EN
CALSCALE:GREGORIAN
METHOD:PUBLISH
X-ORIGINAL-URL:https://www.teatromercadante.com
X-WR-CALDESC:Eventi per Teatro Mercadante
REFRESH-INTERVAL;VALUE=DURATION:PT1H
X-Robots-Tag:noindex
X-PUBLISHED-TTL:PT1H
BEGIN:VTIMEZONE
TZID:Europe/Helsinki
BEGIN:DAYLIGHT
TZOFFSETFROM:+0200
TZOFFSETTO:+0300
TZNAME:EEST
DTSTART:20240331T010000
END:DAYLIGHT
BEGIN:STANDARD
TZOFFSETFROM:+0300
TZOFFSETTO:+0200
TZNAME:EET
DTSTART:20241027T010000
END:STANDARD
BEGIN:DAYLIGHT
TZOFFSETFROM:+0200
TZOFFSETTO:+0300
TZNAME:EEST
DTSTART:20250330T010000
END:DAYLIGHT
BEGIN:STANDARD
TZOFFSETFROM:+0300
TZOFFSETTO:+0200
TZNAME:EET
DTSTART:20251026T010000
END:STANDARD
BEGIN:DAYLIGHT
TZOFFSETFROM:+0200
TZOFFSETTO:+0300
TZNAME:EEST
DTSTART:20260329T010000
END:DAYLIGHT
BEGIN:STANDARD
TZOFFSETFROM:+0300
TZOFFSETTO:+0200
TZNAME:EET
DTSTART:20261025T010000
END:STANDARD
END:VTIMEZONE
BEGIN:VEVENT
DTSTART;TZID=Europe/Helsinki:20251108T210000
DTEND;TZID=Europe/Helsinki:20251108T233000
DTSTAMP:20260424T075134
CREATED:20250624T190022Z
LAST-MODIFIED:20251016T172328Z
UID:10000170-1762635600-1762644600@www.teatromercadante.com
SUMMARY:of NEW TROLLS
DESCRIPTION:Nella storia e nella vita dei New Trolls c’è e c’è stato di tutto\, dal progressive rock al rock sinfonico\, dall’hard rock al jazz rock\, dal pop al Festival di Sanremo. C’è il “Concerto grosso” e hit come “Quella carezza della sera”. Ci sono amori e incomprensioni\, gioie e dolori\, ma in qualsiasi passo c’è sempre stata tanta passione\, arte e professionalità. \nPiù di 55 anni  anni  di storia sono passati\, dalla brillante apertura dei concerti italiani dei Rolling Stones e dei Led Zeppelin\, che hanno consacrato la stella dei New Trolls nel firmamento delle band di importanza mondiale; da allora non si sono più fermati\, stregando con la tecnica\, le vocalità polifoniche e con le innovative partiture\, le platee di tutto il mondo. Milioni di “note”\, scritte\, interpretate e rimaste impresse nella storia musicale italiana\, dai più grandi successi della band genovese\, nata ne lontano  1967: il primo singolo “Sensazioni”\, “Senza orario Senza bandiera” il primo Concept Album\, “Una miniera”\, “Visioni”\, “Concerto Grosso per i New Trolls”\,  “Quella Carezza della Sera”\, “Aldebaran”\, Faccia di Cane” e tante altre a testimonianza delle loro profonde e ben radicate affinità con la musica. \nGianni Belleno e Nico di Palo\, storici membri del gruppo-leggenda della musica  italiana\,  con il loro progetto “Of New Trolls”\, faranno rivivere con le loro hit indimenticabili\, in  un concerto esclusivo\,  insieme a musicisti di grande spessore come Claudio Cinquegrana\, Stefano Genti e Nando Corradini\, le grandi emozioni della nostra gioventù. Due ore di ricordi\, storie\, aneddoti e brani che hanno fatto la storia della musica leggera italiana. Una colonna che accompagnerà gli spettatori\, anche dopo il ritorno a casa.
URL:https://www.teatromercadante.com/eventi/of-new-trolls/
CATEGORIES:Rassegna "Rock & Jazz"
ATTACH;FMTTYPE=image/jpeg:https://www.teatromercadante.com/wp-content/uploads/2025/06/of-New-Trolls-e1750415376530.jpg
END:VEVENT
BEGIN:VEVENT
DTSTART;TZID=Europe/Helsinki:20251109T193000
DTEND;TZID=Europe/Helsinki:20251109T230000
DTSTAMP:20260424T075134
CREATED:20250624T190001Z
LAST-MODIFIED:20250910T101523Z
UID:10000173-1762716600-1762729200@www.teatromercadante.com
SUMMARY:Leonardo Colafelice - Orchestra Filarmonica Pugliese
DESCRIPTION:Il concerto celebra il grande repertorio sinfonico e vede protagonista l’Orchestra Filarmonica Pugliese\, guidata dal direttore americano Garrett Keast.\nIl programma si apre con la drammatica Ouverture da La Forza del Destino di Verdi\, composizione teatrale e coinvolgente. Il cuore della serata è affidato al Concerto n. 3 per pianoforte e orchestra di Beethoven\, interpretato dal noto pianista altamurano Leonardo Colafelice.\nPer concludere\, il trascinante Capriccio Spagnolo di Korsakov\, finale ricco di colori e ritmi che evocano le atmosfere vivaci del folclore iberico e mettono in luce il virtuosismo dell’intera orchestra.
URL:https://www.teatromercadante.com/eventi/echi-deuropa/
CATEGORIES:Stagione concertistica
ATTACH;FMTTYPE=image/png:https://www.teatromercadante.com/wp-content/uploads/2025/06/Colafelice-Keast-e1750415033213.png
END:VEVENT
BEGIN:VEVENT
DTSTART;TZID=Europe/Helsinki:20251115T210000
DTEND;TZID=Europe/Helsinki:20251115T230000
DTSTAMP:20260424T075134
CREATED:20250721T105139Z
LAST-MODIFIED:20250909T165118Z
UID:10000179-1763240400-1763247600@www.teatromercadante.com
SUMMARY:Stanlio & Ollio - Amici fino all'ultima risata
DESCRIPTION:“C’è sempre uno stupido a cui non accade mai niente\, e un furbo che in realtà è il più stupido di tutti. Solo che non lo sa.” \nStan Laurel e Oliver Hardy sono la coppia comica più famosa nel mondo; tutti li conoscono e tutti li hanno amati per quella loro goffa ingenuità che li rendeva sullo schermo due adulti mai davvero cresciuti che continuano a farsi i dispetti come due bambini. Scrivere una commedia sulla loro vita artistica è un’impresa impossibile\, visti la quantità di film girati e il materiale archiviato su di loro\, eppure della loro vita privata sappiamo poco. Quanti sanno che Oliver Hardy aveva avviato un allevamento di polli che poi regalava agli amici perché gli dispiaceva mandarli al macello? Quanti sanno che Stan Laurel fu arrestato perché percorse 50 miglia contromano in autostrada completamente ubriaco? E cosa dire poi della loro vita sentimentale? Tra mogli\, amanti\, fughe rocambolesche\, divorzi e accuse di bigamia: in alcuni momenti sembra davvero una farsa. Abbiamo così voluto portare in scena una commedia che mescola fatti reali di vita vissuta dai due attori con eventi di pura fantasia\, per raccontare la storia di un’amicizia vera durata più di trent’anni. La narrazione delle loro vicende è contaminata anche da battute\, citazioni e gags tratte dai loro film\, perché forse è proprio così che Stan Laurel scriveva e trovava le idee più esilaranti: attingendo dalla vita\, che a volte è più assurda di qualsiasi finzione.
URL:https://www.teatromercadante.com/eventi/stanlio-ollio-amici-fino-allultima-risata/
CATEGORIES:Festival "Bombetta d'Oro"
ATTACH;FMTTYPE=image/jpeg:https://www.teatromercadante.com/wp-content/uploads/2025/07/stanlio-e-ollio.jpg
END:VEVENT
BEGIN:VEVENT
DTSTART;TZID=Europe/Helsinki:20251116T183000
DTEND;TZID=Europe/Helsinki:20251116T203000
DTSTAMP:20260424T075134
CREATED:20250624T190057Z
LAST-MODIFIED:20250926T083018Z
UID:10000163-1763317800-1763325000@www.teatromercadante.com
SUMMARY:Samuel Peron\, Veera Kinnunen "HISTORIA"
DESCRIPTION:Lo spettacolo\, ideato dal maestro Daniele Bocchini\, prodotto da TGC Eventi e distribuito da EQUIPE EVENTI di Fanzia Verlicchi\, racconta una storia di riscatto e di emancipazione ambientata nella Buenos Aires degli anni ’30 del secolo scorso\, nei luoghi in cui ebbe origine il tango. In una milonga d’altri tempi\, Historia porta in scena le coreografie degli amatissimi maestri di ballo Samuel Peron e Veera Kinnunen\, la straordinaria voce di Stefania Caracciolo e la musica dal vivo di cinque musicisti professionisti: Daniele Bocchini (trombone)\, Marco Postacchini (sax\, flauto\, arrangiamenti)\, Enzo Proietti (pianoforte\, fisarmonica)\, Graziano Brufani (contrabbasso)\, Leonardo Ramadori (percussioni). \nLo spettacolo affronta temi attuali attraverso una storia di emigrazione. Esteban\, protagonista e voce narrante di Historia\, è una donna che affronta un viaggio oltreoceano col miraggio di una vita migliore insieme al suo amato\, ma una volta arrivata a destinazione viene abbandonata e si ritrova sola nella realtà malfamata e maschilista di Buenos Aires\, tra la povertà e il degrado dei conventillos. In questa città immensa\, sconosciuta e fortemente pregiudizievole nei confronti della donna\, Esteban\, affascinata e sedotta da una musica nuova fatta di ritmi diversi\, che imperversa di giorno nelle strade e di notte nelle milonghe e che è proibita al mondo femminile\, si traveste da uomo. Questo le consente di essere libera di esprimere il suo talento musicale\, ma al tempo stesso la priva della propria identità. Da questo intimo dualismo nasce un ritmo\, un ostinato che diventa la base per il racconto\, per improvvisare una melodia e per ballare. Nello spettacolo i protagonisti\, attraverso il canto\, il ballo e l’interpretazione scenica portano il pubblico a riflettere su diversi temi: la nostalgia dell’emigrato\, la ricerca della propria identità\, l’uguaglianza di genere e la dignità della donna\, il talento e la passione come strumenti di emancipazione e di sopravvivenza. \nLa narrazione è supportata dal sound elegante e raffinato del son latino di Carlos Eleta Almaran\, Miguel Metamoroso\, Isolina Carrillo\, alla poesia in musica di Carlos Gardel\, Osvaldo Farrès\, Astor Piazzolla\, Pablo Beltran Ruiz\, fino al pop internazionale di Sting\, Cher e Pino Daniele.
URL:https://www.teatromercadante.com/eventi/samuel-peron-veera-kinnunen/
CATEGORIES:Music All
ATTACH;FMTTYPE=image/jpeg:https://www.teatromercadante.com/wp-content/uploads/2025/06/Historia-Migliorato-e1750414900182.jpg
END:VEVENT
BEGIN:VEVENT
DTSTART;TZID=Europe/Helsinki:20251122T210000
DTEND;TZID=Europe/Helsinki:20251122T233000
DTSTAMP:20260424T075134
CREATED:20250624T190057Z
LAST-MODIFIED:20251028T164227Z
UID:10000148-1763845200-1763854200@www.teatromercadante.com
SUMMARY:Giuseppe Zeno\, Euridice Axen "TRAVOLTI DA UN INSOLITO DESTINO..."
DESCRIPTION:Affrontare a teatro Travolti da un insolito destino nell’azzurro mare di agosto di Lina Wertmüller\, una delle maggiori registe del cinema italiano -autrice che ha profondamente segnato la cultura e l’immaginario del nostro Paese -è una sfida che abbiamo deciso di accettare con la dovuta umiltà. La nostra versione di Travolti…\, basata sul testo teatrale di Lina Wertmüller (la sua opera postuma! Quale onore…) scritto con Valerio Ruiz\, ricolloca la storia nella dimensione del contemporaneo\, scegliendo come nuovo campo di battaglia il differente clima socioculturale di una società tardo capitalista\, in cui nuove tensioni e nuove contraddizioni determinano e orientano conflitti e emozioni tra i personaggi.\nNegli ultimi\, recentissimi\, anni abbiamo infatti assistito a uno stravolgimento degli equilibri di genere\, e abbiamo visto maturare una coscienza completamente nuova e una prospettiva più sfaccettata e inclusiva su temi come il sesso e la razza\, che assumono un peso fondamentale all’interno di un testo come questo. Se l’acquisizione di queste nuove consapevolezze nutre gli animati battibecchi del primo atto\, ambientato sul lussuoso yacht già presente nel film -le litigate tra Raffaella e Toti\, amici/nemici portatori di valori inconciliabili\, le continue scaramucce tra Raffaella e Gennarino\, i cominci scambi tra Gennarino e il suo capo Pippo –è nel secondo atto\, quando Gennarino e Raffaella\, ormai naufraghi\, approdano sull’isola\, che il mutamento degli equilibri di genere assume una decisiva importanza drammaturgica\, ridefinendo anche gli equilibri tra i due protagonisti.\nFarsi carico di tutto ciò\, non significa però smussare la tagliente ironia e l’energia caustica che contraddistinguono Lina Wertmüller: pur riequilibrando i rapporti di forza tra i due protagonisti in nome della parità di genere\, il testo non perde la sua capacità di provocare\, divertire\, spiazzare. Travolti… è un racconto d’amore e di lotta di classe e\, anche se il terreno di conflitto dei due personaggi ha subito degli slittamenti dal 1974 a oggi\, la crepa che li divide resta insanabile: una destinata ad andare avanti per la propria strada di privilegio\, l’altro destinato ad essere lasciato indietro.\nLo spettacolo\, quindi\, evoca il film senza imitarlo\, traducendo la visione cinematografica in azione teatrale: tanto con la presenza e la fisicità degli attori che in scena sudano\, si rincorrono\, lottano\, si amano\, quanto ricorrendo a una dimensione simbolica che lascia aperto allo spettatore uno spazio di immaginazione e memoria\, quanto ancora attraverso l’affilatezza di dialoghi grotteschi\, struggenti o comici. Da questo punto di vista\, è per me una straordinaria risorsa lavorare con attori di grande talento e sensibilità come Euridice Axen e Giuseppe Zeno. Due interpreti capaci di far vibrare le corde della passione e dell’ironia e di trovare una propria personale misura per dare corpo ai ruoli appartenuti a due icone del cinema italiano: Mariangela Melato e Giancarlo Giannini. Equilibristi\, lottatori\, nemici e amanti\, Gennarino e Raffaella riempiranno il palco della tensione sensuale e della ruvida poesia che si fa strada nei loro cuori induriti. E\, nell’orizzonte selvaggio e primordiale dell’isola\, cercheranno di uno stato di natura in cui sia davvero possibile incontrarsi e amarsi al di là di ogni differenza.\nUna volta in salvo\, lontano l’isola\, per Gennarino e Raffaella non ci sarà salvezza\, perché l’amore non basta ad amarsi\, sembra dirci la Wertmüller nell’amaro epilogo di una storia che\, a quasi mezzo secolo di distanza\, non smette di essere una potente allegoria dei conflitti ideologici\, economici e di genere che attraversano la società umana. \nMarcello Cotugno
URL:https://www.teatromercadante.com/eventi/giuseppe-zeno-euridice-axen-copy/
CATEGORIES:Rassegna "Mettiamoci in prosa"
ATTACH;FMTTYPE=image/jpeg:https://www.teatromercadante.com/wp-content/uploads/2025/06/Zeno-Axen.jpg
END:VEVENT
BEGIN:VEVENT
DTSTART;TZID=Europe/Helsinki:20251123T173000
DTEND;TZID=Europe/Helsinki:20251123T190000
DTSTAMP:20260424T075134
CREATED:20250624T190011Z
LAST-MODIFIED:20251028T164134Z
UID:10000147-1763919000-1763924400@www.teatromercadante.com
SUMMARY:Giuseppe Zeno\, Euridice Axen "TRAVOLTI DA UN INSOLITO DESTINO..."
DESCRIPTION:Affrontare a teatro Travolti da un insolito destino nell’azzurro mare di agosto di Lina Wertmüller\, una delle maggiori registe del cinema italiano -autrice che ha profondamente segnato la cultura e l’immaginario del nostro Paese -è una sfida che abbiamo deciso di accettare con la dovuta umiltà. La nostra versione di Travolti…\, basata sul testo teatrale di Lina Wertmüller (la sua opera postuma! Quale onore…) scritto con Valerio Ruiz\, ricolloca la storia nella dimensione del contemporaneo\, scegliendo come nuovo campo di battaglia il differente clima socioculturale di una società tardo capitalista\, in cui nuove tensioni e nuove contraddizioni determinano e orientano conflitti e emozioni tra i personaggi.\nNegli ultimi\, recentissimi\, anni abbiamo infatti assistito a uno stravolgimento degli equilibri di genere\, e abbiamo visto maturare una coscienza completamente nuova e una prospettiva più sfaccettata e inclusiva su temi come il sesso e la razza\, che assumono un peso fondamentale all’interno di un testo come questo. Se l’acquisizione di queste nuove consapevolezze nutre gli animati battibecchi del primo atto\, ambientato sul lussuoso yacht già presente nel film -le litigate tra Raffaella e Toti\, amici/nemici portatori di valori inconciliabili\, le continue scaramucce tra Raffaella e Gennarino\, i cominci scambi tra Gennarino e il suo capo Pippo –è nel secondo atto\, quando Gennarino e Raffaella\, ormai naufraghi\, approdano sull’isola\, che il mutamento degli equilibri di genere assume una decisiva importanza drammaturgica\, ridefinendo anche gli equilibri tra i due protagonisti.\nFarsi carico di tutto ciò\, non significa però smussare la tagliente ironia e l’energia caustica che contraddistinguono Lina Wertmüller: pur riequilibrando i rapporti di forza tra i due protagonisti in nome della parità di genere\, il testo non perde la sua capacità di provocare\, divertire\, spiazzare. Travolti… è un racconto d’amore e di lotta di classe e\, anche se il terreno di conflitto dei due personaggi ha subito degli slittamenti dal 1974 a oggi\, la crepa che li divide resta insanabile: una destinata ad andare avanti per la propria strada di privilegio\, l’altro destinato ad essere lasciato indietro.\nLo spettacolo\, quindi\, evoca il film senza imitarlo\, traducendo la visione cinematografica in azione teatrale: tanto con la presenza e la fisicità degli attori che in scena sudano\, si rincorrono\, lottano\, si amano\, quanto ricorrendo a una dimensione simbolica che lascia aperto allo spettatore uno spazio di immaginazione e memoria\, quanto ancora attraverso l’affilatezza di dialoghi grotteschi\, struggenti o comici. Da questo punto di vista\, è per me una straordinaria risorsa lavorare con attori di grande talento e sensibilità come Euridice Axen e Giuseppe Zeno. Due interpreti capaci di far vibrare le corde della passione e dell’ironia e di trovare una propria personale misura per dare corpo ai ruoli appartenuti a due icone del cinema italiano: Mariangela Melato e Giancarlo Giannini. Equilibristi\, lottatori\, nemici e amanti\, Gennarino e Raffaella riempiranno il palco della tensione sensuale e della ruvida poesia che si fa strada nei loro cuori induriti. E\, nell’orizzonte selvaggio e primordiale dell’isola\, cercheranno di uno stato di natura in cui sia davvero possibile incontrarsi e amarsi al di là di ogni differenza.\nUna volta in salvo\, lontano l’isola\, per Gennarino e Raffaella non ci sarà salvezza\, perché l’amore non basta ad amarsi\, sembra dirci la Wertmüller nell’amaro epilogo di una storia che\, a quasi mezzo secolo di distanza\, non smette di essere una potente allegoria dei conflitti ideologici\, economici e di genere che attraversano la società umana. \nMarcello Cotugno
URL:https://www.teatromercadante.com/eventi/giuseppe-zeno-euridice-axen/
CATEGORIES:Rassegna "Mettiamoci in prosa"
ATTACH;FMTTYPE=image/jpeg:https://www.teatromercadante.com/wp-content/uploads/2025/06/Zeno-Axen.jpg
END:VEVENT
BEGIN:VEVENT
DTSTART;TZID=Europe/Helsinki:20251130T193000
DTEND;TZID=Europe/Helsinki:20251130T230000
DTSTAMP:20260424T075134
CREATED:20250624T190051Z
LAST-MODIFIED:20250909T163951Z
UID:10000174-1764531000-1764543600@www.teatromercadante.com
SUMMARY:SERGIO CAMMARIERE
DESCRIPTION:Sergio Cammariere\, noto per la sua eleganza artistica e il suo carisma al pianoforte\, celebra trent’anni di carriera con un progetto unico e intimo: Piano Solo e Voce. Questo concerto nasce dal desiderio dei fan di ascoltare il maestro in una veste pura\, in cui si esibisce solo con il suo strumento e la sua voce.\nAd arricchire l’esperienza musicale\, Cammariere sarà affiancato in alcune composizioni dagli ospiti speciali Giovanna Famulari al violoncello e Daniele Tittarelli al sax soprano. Le sue melodie\, spoglie di ogni artificio\, catturano l’essenza della sua arte\, unendo musica\, cinema\, teatro e letteratura in un’esperienza unica\, dando vita a un concerto che fonde jazz\, ritmi latini e sudamericani attraverso la sua intensa e raffinata espressività. Una performance pensata per esaltare l’armonia tra le diverse forme d’arte e per avvicinare il grande pubblico.\nOgni composizione esplora vari generi musicali\, dal minimalismo sperimentale al blues\, dalla canzone d’autore al jazz. Il pianismo raffinato di Cammariere ci trasporta in un mondo ricco di colori\, accogliente e profondamente emozionante. La performance includerà i classici di Sergio e brani tratti dal suo ultimo lavoro discografico\, “Una Sola Giornata”. Questo album\, ricco di ispirazione\, contiene tracce inedite frutto della collaborazione tra il pianoforte di Cammariere e i testi di Roberto Kunstler. Le canzoni conducono l’ascoltatore in un viaggio senza confini\, dove musica e poesia si fondono armoniosamente.\nL’affinità tra i tre musicisti si manifesta nella loro collaborazione artistica. Sergio Cammariere\, Giovanna Famulari e Daniele Tittarelli condividono una passione profonda per la musica e un desiderio comune di esplorare nuovi orizzonti sonori. La loro sintonia musicale è evidente nelle performance\, dove ogni nota è eseguita con precisione e sensibilità. Questo progetto non rappresenta solo un punto culminante nella carriera di Cammariere\, ma anche un momento di connessione artistica tra tre talenti straordinari.
URL:https://www.teatromercadante.com/eventi/sergio-cammariere/
CATEGORIES:Stagione concertistica
ATTACH;FMTTYPE=image/jpeg:https://www.teatromercadante.com/wp-content/uploads/2025/06/Sergio-Cammariere-e1750414796835.jpg
END:VEVENT
END:VCALENDAR