BEGIN:VCALENDAR
VERSION:2.0
PRODID:-//Teatro Mercadante - ECPv6.15.20//NONSGML v1.0//EN
CALSCALE:GREGORIAN
METHOD:PUBLISH
X-ORIGINAL-URL:https://www.teatromercadante.com
X-WR-CALDESC:Eventi per Teatro Mercadante
REFRESH-INTERVAL;VALUE=DURATION:PT1H
X-Robots-Tag:noindex
X-PUBLISHED-TTL:PT1H
BEGIN:VTIMEZONE
TZID:Europe/Helsinki
BEGIN:DAYLIGHT
TZOFFSETFROM:+0200
TZOFFSETTO:+0300
TZNAME:EEST
DTSTART:20230326T010000
END:DAYLIGHT
BEGIN:STANDARD
TZOFFSETFROM:+0300
TZOFFSETTO:+0200
TZNAME:EET
DTSTART:20231029T010000
END:STANDARD
BEGIN:DAYLIGHT
TZOFFSETFROM:+0200
TZOFFSETTO:+0300
TZNAME:EEST
DTSTART:20240331T010000
END:DAYLIGHT
BEGIN:STANDARD
TZOFFSETFROM:+0300
TZOFFSETTO:+0200
TZNAME:EET
DTSTART:20241027T010000
END:STANDARD
BEGIN:DAYLIGHT
TZOFFSETFROM:+0200
TZOFFSETTO:+0300
TZNAME:EEST
DTSTART:20250330T010000
END:DAYLIGHT
BEGIN:STANDARD
TZOFFSETFROM:+0300
TZOFFSETTO:+0200
TZNAME:EET
DTSTART:20251026T010000
END:STANDARD
END:VTIMEZONE
BEGIN:VEVENT
DTSTART;TZID=Europe/Helsinki:20241201T183000
DTEND;TZID=Europe/Helsinki:20241201T203000
DTSTAMP:20260419T203049
CREATED:20240703T180732Z
LAST-MODIFIED:20240910T175434Z
UID:10000128-1733077800-1733085000@www.teatromercadante.com
SUMMARY:Il turno di notte
DESCRIPTION:“Il turno di notte” è uno spettacolo scritto e diretto da Gianpiero Francese e portato in scena dalla compagnia Opera. In scena la crisi dei lavoratori dell’auto di Melfi.\nIl mondo del teatro si interroga sul dramma che stanno vivendo i lavoratori alle prese con gli effetti della transizione energetica nel settore automotive. \n“Tra denuncia e ironia nasce uno spettacolo che focalizza l’attenzione proprio su quello che sta accadendo a Melfi e negli altri stabilimenti del gruppo Stellantis”. \nSette gli attori in scena: Dino Paradiso\, Peppe Centola\, Erminio Truncellito\, Giuseppe Ranoia\, Simona Ianigro\, Manola Rotunno e Gabriele Grano. \nLa storia “si sviluppa – è spiegato in un comunicato – da un episodio fatale che determina la chiusura dei sei operai in uno spogliatoio della fabbrica. Qui\, tra i lavoratori\, comincia un lungo e duro confronto/confessione che li porta ad affrontare a muso duro il loro padrone francese. Un chiaro riferimento alla stretta attualità dello stabilimento Stellantis di Melfi\, la cui matrice è transalpina\, alle prese con un processo di riqualificazione che\, nella realtà come nella finzione\, sta determinando sconquassi al suo interno e nelle fabbriche dell’indotto”. Uno spettacolo divertente che lascia riflettere.
URL:https://www.teatromercadante.com/eventi/il-turno-di-notte/
CATEGORIES:Festival "Bombetta d'Oro"
ATTACH;FMTTYPE=image/jpeg:https://www.teatromercadante.com/wp-content/uploads/2024/07/Paradiso-e1720029997397.jpg
END:VEVENT
BEGIN:VEVENT
DTSTART;TZID=Europe/Helsinki:20241212T193000
DTEND;TZID=Europe/Helsinki:20241212T203000
DTSTAMP:20260419T203049
CREATED:20241203T104129Z
LAST-MODIFIED:20241203T173554Z
UID:10000134-1734031800-1734035400@www.teatromercadante.com
SUMMARY:Family concert - Il carnevale degli animali
DESCRIPTION:FAMILY CONCERT | IL CARNEVALE DEGLI ANIMALI | 12 DICEMBRE\n\nMusica: Camille Saint-Saëns – Testo: Silvano Picerno\n\nVoce recitante: Silvano Picerno\nPianoforte: Leonardo Colafelice\, Cristina Di Lecce\nDirettore: Alfredo Cornacchia\nEnsemble del Mercadante \nÈ paradossale come questa suite\, scritta in poco tempo\, abbia reso alla fama di Camille Saint- Saens molto di più rispetto ad altre opere. Il compositore era erroneamente convinto che lo spirito gaio che traspare dalla partitura non si adattasse alla sua reputazione e solo ad un anno dalla morte\, il mondo poté finalmente conoscere il contenuto di questa “burla” musicale assolutamente geniale. Il testo recitato\, invece\, è frutto della maestria e della sensibilità di un artista poliedrico specializzato in teatro comico. Con i quattordici brani musicali della composizione prendono vita la marcia del leone\, galline e galli\, emioni\, tartarughe\, elefanti\, canguri\, pesci\, asini\, uccelli\, fossili\, il cigno e si animano in uno spettacolo che lascerà incantato il pubblico di tutte le età e\, allo stesso tempo lo divertirà. \nQuesto evento è organizzato da Gli Amici del Teatro Mercadante con l’obiettivo di dare la possibilità ai più piccoli di avvicinarsi al mondo del teatro e della musica classica.\nInfatti il costo del biglietto è di soli 1€ per gli spettatori fino ai 13 anni di età e di 5€ per tutti gli altri (+ 1€ di prevendita).
URL:https://www.teatromercadante.com/eventi/family-concert-il-carnevale-degli-animali/
CATEGORIES:Fuori abbonamento
ATTACH;FMTTYPE=image/jpeg:https://www.teatromercadante.com/wp-content/uploads/2024/12/Il-carnevale-degli-animali-scaled-e1733223124415.jpg
END:VEVENT
BEGIN:VEVENT
DTSTART;TZID=Europe/Helsinki:20241215T190000
DTEND;TZID=Europe/Helsinki:20241215T213000
DTSTAMP:20260419T203049
CREATED:20240625T190059Z
LAST-MODIFIED:20240910T175513Z
UID:10000121-1734289200-1734298200@www.teatromercadante.com
SUMMARY:Neri per caso
DESCRIPTION:Il gruppo a cappella più famoso del panorama italiano diventato noto al pubblico nel 1995 vincendo la sezione “Nuove Proposte” del Festival di Sanremo. Il brano “Le ragazze” li ha sbalzati in vetta alle classifiche traghettando l’omonimo album alla conquista di ben 6 dischi di platino con quasi 700.000 copie vendute. \nNel corso della loro carriera i Neri Per Caso hanno collaborato con alcuni tra i più importanti artisti italiani (Lucio Dalla\, Gino Paoli\, Claudio Baglioni\, Renato Zero\, Mario Biondi) e stranieri (Bobby McFerrin\, solo per citarne uno). \nI Neri Per Caso proporranno un viaggio musicale che\, partendo dall’Inghilterra dei Beatles\, farà tappe in tutto il mondo riproponendo i successi di alcuni dei più grandi esponenti della musica internazionale come\, ad esempio\, Sting\, per poi arrivare in Italia e poi a Napoli con il sound di sapore blues di Pino Daniele e in Sicilia con l’omaggio a Franco Battiato.  \n\n\n\n\nSito WEB:\nhttps://www.facebook.com/neripercasoufficiale
URL:https://www.teatromercadante.com/eventi/neri-per-caso/
CATEGORIES:Stagione concertistica
ATTACH;FMTTYPE=image/webp:https://www.teatromercadante.com/wp-content/uploads/2024/06/neri-per-caso.webp
END:VEVENT
BEGIN:VEVENT
DTSTART;TZID=Europe/Helsinki:20241221T210000
DTEND;TZID=Europe/Helsinki:20241221T230000
DTSTAMP:20260419T203049
CREATED:20240625T190006Z
LAST-MODIFIED:20240910T175541Z
UID:10000098-1734814800-1734822000@www.teatromercadante.com
SUMMARY:La valigia
DESCRIPTION:Come si fa a capire\, indovinare i pensieri di un emigrante alla vigilia di una partenza che porta il marchio dell’irreversibilità? Esiste un gioco\, una sorta di test psicologico\, che si avvicina a quella simulazione impossibile. Si devono scrivere su un foglio 12 cose che si porterebbero con sé\, per sempre.\nUna volta fatta la lista\, ad ogni due cose va associato un ricordo. Ad ogni due ricordi\, un sentimento. Il sentimento dominante indica quello stato d’animo.\nQuando si parte per non tornare mai più\, come si guarda ad ogni oggetto che si lascia? E soprattutto\, come si guarda ad ogni oggetto che si prende con sé?\nUna storia dissacrante\, ironica\, di amore e odio verso un paese che si lascia. Una carrellata di personaggi che riemergono dalla memoria; uomini e donne raccontati con il filtro della distanza\, della distorsione e della comicità.\nLa valigia\, così personale e unica\, di Dovlatov diventa metafora della diasporica condizione umana\, di un sentirsi emigranti dello spazio e del tempo. Emigriamo dalla nostra giovinezza\, da un passato fatto di persone\, di immagini\, di episodi e sentimenti che il ricordo ha la forza di immortalare e resuscitare.\nAttraverso gli oggetti e i ricordi che questi attivano\, Giuseppe Battiston dà vita a una serie di personaggi. In questo continuo passaggio tra presente e passato\, si articola lo spettacolo che usa come dispositivo di racconto e di evocazione uno studio radiofonico\, attingendo alla storia di Dovlatov giornalista e reporter\, in cui un presentatore si aggancia al mondo sonoro per evocare la propria storia. Un testo per provare a dissacrare il sacro; per imparare a rispettare ciò che rispettabile non è\, per capire che\, a dispetto di ogni logica\, i valori umani esistono solo al di fuori delle convenzioni. Cosa contiene la sua valigia che un giorno\, per caso\, salta fuori dal suo armadio\, dimenticata?
URL:https://www.teatromercadante.com/eventi/la-valigia/
CATEGORIES:Rassegna "Mettiamoci in prosa"
ATTACH;FMTTYPE=image/jpeg:https://www.teatromercadante.com/wp-content/uploads/2024/06/Giuseppe-Battiston.jpg
END:VEVENT
BEGIN:VEVENT
DTSTART;TZID=Europe/Helsinki:20241222T173000
DTEND;TZID=Europe/Helsinki:20241222T193000
DTSTAMP:20260419T203049
CREATED:20240625T190043Z
LAST-MODIFIED:20240910T175601Z
UID:10000099-1734888600-1734895800@www.teatromercadante.com
SUMMARY:La valigia
DESCRIPTION:Come si fa a capire\, indovinare i pensieri di un emigrante alla vigilia di una partenza che porta il marchio dell’irreversibilità? Esiste un gioco\, una sorta di test psicologico\, che si avvicina a quella simulazione impossibile. Si devono scrivere su un foglio 12 cose che si porterebbero con sé\, per sempre.\nUna volta fatta la lista\, ad ogni due cose va associato un ricordo. Ad ogni due ricordi\, un sentimento. Il sentimento dominante indica quello stato d’animo.\nQuando si parte per non tornare mai più\, come si guarda ad ogni oggetto che si lascia? E soprattutto\, come si guarda ad ogni oggetto che si prende con sé?\nUna storia dissacrante\, ironica\, di amore e odio verso un paese che si lascia. Una carrellata di personaggi che riemergono dalla memoria; uomini e donne raccontati con il filtro della distanza\, della distorsione e della comicità.\nLa valigia\, così personale e unica\, di Dovlatov diventa metafora della diasporica condizione umana\, di un sentirsi emigranti dello spazio e del tempo. Emigriamo dalla nostra giovinezza\, da un passato fatto di persone\, di immagini\, di episodi e sentimenti che il ricordo ha la forza di immortalare e resuscitare.\nAttraverso gli oggetti e i ricordi che questi attivano\, Giuseppe Battiston dà vita a una serie di personaggi. In questo continuo passaggio tra presente e passato\, si articola lo spettacolo che usa come dispositivo di racconto e di evocazione uno studio radiofonico\, attingendo alla storia di Dovlatov giornalista e reporter\, in cui un presentatore si aggancia al mondo sonoro per evocare la propria storia. Un testo per provare a dissacrare il sacro; per imparare a rispettare ciò che rispettabile non è\, per capire che\, a dispetto di ogni logica\, i valori umani esistono solo al di fuori delle convenzioni. Cosa contiene la sua valigia che un giorno\, per caso\, salta fuori dal suo armadio\, dimenticata?
URL:https://www.teatromercadante.com/eventi/la-valigia-22-dic/
CATEGORIES:Rassegna "Mettiamoci in prosa"
ATTACH;FMTTYPE=image/jpeg:https://www.teatromercadante.com/wp-content/uploads/2024/06/Giuseppe-Battiston.jpg
END:VEVENT
END:VCALENDAR