BEGIN:VCALENDAR
VERSION:2.0
PRODID:-//Teatro Mercadante - ECPv6.15.20//NONSGML v1.0//EN
CALSCALE:GREGORIAN
METHOD:PUBLISH
X-WR-CALNAME:Teatro Mercadante
X-ORIGINAL-URL:https://www.teatromercadante.com
X-WR-CALDESC:Eventi per Teatro Mercadante
REFRESH-INTERVAL;VALUE=DURATION:PT1H
X-Robots-Tag:noindex
X-PUBLISHED-TTL:PT1H
BEGIN:VTIMEZONE
TZID:Europe/Helsinki
BEGIN:DAYLIGHT
TZOFFSETFROM:+0200
TZOFFSETTO:+0300
TZNAME:EEST
DTSTART:20230326T010000
END:DAYLIGHT
BEGIN:STANDARD
TZOFFSETFROM:+0300
TZOFFSETTO:+0200
TZNAME:EET
DTSTART:20231029T010000
END:STANDARD
BEGIN:DAYLIGHT
TZOFFSETFROM:+0200
TZOFFSETTO:+0300
TZNAME:EEST
DTSTART:20240331T010000
END:DAYLIGHT
BEGIN:STANDARD
TZOFFSETFROM:+0300
TZOFFSETTO:+0200
TZNAME:EET
DTSTART:20241027T010000
END:STANDARD
BEGIN:DAYLIGHT
TZOFFSETFROM:+0200
TZOFFSETTO:+0300
TZNAME:EEST
DTSTART:20250330T010000
END:DAYLIGHT
BEGIN:STANDARD
TZOFFSETFROM:+0300
TZOFFSETTO:+0200
TZNAME:EET
DTSTART:20251026T010000
END:STANDARD
END:VTIMEZONE
BEGIN:VEVENT
DTSTART;TZID=Europe/Helsinki:20241004T210000
DTEND;TZID=Europe/Helsinki:20241004T223000
DTSTAMP:20260419T234008
CREATED:20240625T190010Z
LAST-MODIFIED:20240920T100514Z
UID:10000094-1728075600-1728081000@www.teatromercadante.com
SUMMARY:Frank Gambale
DESCRIPTION:Nato come chitarrista blues ed indirizzato al jazz da Chick Corea\, Frank Gambale è divenuto celebre per far parte della Elektric Band del grande tastierista. Artista che non si è mai risparmiato in termini di sperimentazione ed innovazione\, Gambale ha apportato al suo strumento nuove tecniche ed accordature che lo hanno distinto e che sono diventate con il tempo il suo marchio di fabbrica: il ‘Gambale Technique Sweep Picking’ continua ad ispirare generazioni di musicisti: artisti jazz\, rock\, metal e prog lo guardano con soggezione e considerano un tecnico incredibile e un musicista insuperabile. \nIl Natural High Trio che ho messo insieme per scrivere ed esibirmi in un contesto diverso dove è più naturale\, più acustico e dove lo strumento respira. La musica è stimolante e bella e ha uno spirito gioioso. I due album da cui proviene la musica di questo trio sono Natural High e Natural Selection. Sono passati diversi anni dall’ultima volta che ho eseguito questa musica dal vivo e quindi\, ho voluto riproporre questa bellissima musica con i miei nuovi fratelli musicali Dominique DiPiazza – basso e Jerry Leonide – pianoforte. \nhttp://www.frankgambale.com/
URL:https://www.teatromercadante.com/eventi/frank-gambale/
CATEGORIES:Rassegna "Rock & Jazz"
ATTACH;FMTTYPE=image/png:https://www.teatromercadante.com/wp-content/uploads/2024/06/4-ottobre-trio.png
END:VEVENT
BEGIN:VEVENT
DTSTART;TZID=Europe/Helsinki:20241011T210000
DTEND;TZID=Europe/Helsinki:20241011T230000
DTSTAMP:20260419T234008
CREATED:20240625T190018Z
LAST-MODIFIED:20240920T100333Z
UID:10000095-1728680400-1728687600@www.teatromercadante.com
SUMMARY:I Love Hammond
DESCRIPTION:Un progetto che nasce per l’occasione tra musicisti  pugliesi\, con i quali ci sono state collaborazioni pregresse sia concertistiche che discografiche. \nUn viaggio attraverso le sonorità di uno strumento musicale che ha segnato un’epoca nella storia della musica moderna. \nNegli anni ’50 moltissimi musicisti jazz iniziarono ad utilizzare i nuovi suoni dell’organo elettrico che nel decennio successivo si affermò in maniera definitiva anche nella musica pop. In questi due decenni\, infatti\, questo strumento fu impiegato moltissimo nella realizzazione di album easy listening diventando così uno degli strumenti musicali più apprezzati e conosciuti dal grande pubblico. \nTra i tantissimi ad usufruire di questo strumento possiamo citare gente del calibro di: Keith Emerson\, Rick Wakeman\,  Jimmy Smith\, Dave “Baby” Cortez\, Booker T\, Brian Auger\, e tanti altri.
URL:https://www.teatromercadante.com/eventi/i-love-hammond/
CATEGORIES:Rassegna "Rock & Jazz"
ATTACH;FMTTYPE=image/png:https://www.teatromercadante.com/wp-content/uploads/2024/06/11-ottobre-2024.png
END:VEVENT
BEGIN:VEVENT
DTSTART;TZID=Europe/Helsinki:20241018T210000
DTEND;TZID=Europe/Helsinki:20241018T230000
DTSTAMP:20260419T234008
CREATED:20240625T190005Z
LAST-MODIFIED:20240920T100607Z
UID:10000096-1729285200-1729292400@www.teatromercadante.com
SUMMARY:Mazzarano Eramo Astorino Trio
DESCRIPTION:Cinzia Eramo e Pino Mazzarano\, sono un duo consolidato da oltre quindici anni di collaborazione che si arricchisce della presenza carismatica del violoncellista Giovanni Astorino per condividere la scelta di un repertorio di jazz contemporaneo\, ispirato ai temi di grandi artisti come Pat Metheny\, Carla Bley\, David Bowie\, Joni Mitchell\, Leonard Cohen\, con un linguaggio vitale e creativo che invita ad esplorare sempre nuove sonorità\, grazie al linguaggio comune dell’improvvisazione e conseguenza naturale del loro solido interplay. \n“Rebel Hearts” è uno sguardo realistico sul mondo\, radice di un certo attivismo musicale con attenzione ai temi della globalizzazione\, della guerra\, dell’ecologia che trascendono in un inno alla bellezza\, alla vita\, all’amore in tutte le sue forme.
URL:https://www.teatromercadante.com/eventi/mazzarano-eramo-astorino-trio/
CATEGORIES:Rassegna "Rock & Jazz"
ATTACH;FMTTYPE=image/png:https://www.teatromercadante.com/wp-content/uploads/2024/06/18-ottobre-2024.png
END:VEVENT
BEGIN:VEVENT
DTSTART;TZID=Europe/Helsinki:20241025T210000
DTEND;TZID=Europe/Helsinki:20241025T230000
DTSTAMP:20260419T234008
CREATED:20240625T190028Z
LAST-MODIFIED:20240920T100722Z
UID:10000097-1729890000-1729897200@www.teatromercadante.com
SUMMARY:Gianfranco Menzella 4et.
DESCRIPTION:Un viaggio nella New York degli anni 80 e 90\, un tributo all’estetica di un grande sassofonista che insieme a Michael Brecker ha delineato il linguaggio postcoltraniano: Bob Berg. I brani dal sound moderno con  richiami pop e davisiani\, fanno parte del repertorio di Berg degli ultimi anni della sua carriera influenzata dalle collaborazioni con M.Stern\, C.Corea\, D.Kikoski. Tra i brani una composizione originale “Mr Berg” composto da Gianfranco Menzella. \nhttps://audio.com/gianfranco-menzella
URL:https://www.teatromercadante.com/eventi/gianfranco-menzella-4et/
CATEGORIES:Rassegna "Rock & Jazz"
ATTACH;FMTTYPE=image/png:https://www.teatromercadante.com/wp-content/uploads/2024/06/25-ottobre-2024-1.png
END:VEVENT
BEGIN:VEVENT
DTSTART;TZID=Europe/Helsinki:20241026T210000
DTEND;TZID=Europe/Helsinki:20241026T213000
DTSTAMP:20260419T234008
CREATED:20240703T172435Z
LAST-MODIFIED:20240910T174859Z
UID:10000126-1729976400-1729978200@www.teatromercadante.com
SUMMARY:Il piccolo principe... in arte Totò
DESCRIPTION:Lo spettacolo narra le vicende della vita giovanile di uno dei più grandi Attori e Maestri della comicità internazionale che Napoli abbia mai partorito: Antonio De Curtis\, in arte Totò. Immersi in un’atmosfera surreale\, lo spettacolo racconta le vicende e vicissitudini che l’attore partenopeo ha dovuto affrontare prima di arrivare al grande successo ed essere riconosciuto a livello nazionale come il vero e proprio “Principe della Risata”. In scena Antonio Grosso\, nei panni del grande artista\, accompagnato da Antonello Pascale che interpreta i diversi personaggi che Totò incontra sul suo cammino: dagli amici\, ai parenti\, dal popolo che anima le strade del famoso quartiere de La Sanità dove lui stesso e cresciuto\, agli amori e le delusioni\, passando poi per gli artisti che ha conosciuto\, gli impresari teatrali ed i commilitoni con cui e partito soldato per servire la patria. Con Il Piccolo Principe in arte Totò\, si vuole omaggiare la grandezza del Maestro\, in tutte le sue forme\, artistiche emozionali e psicologiche\, dimostrando che dietro una delle più grandi Maschere del Cinema moderno si nascondeva un animo sensibile che\, con tenacia\, talento\, passione ed umiltà e diventato un’icona della Comicità Archetipa\, riconosciuta dai più grandi maestri del Novecento Italiano. Tutti i personaggi prendono vita dalle voci dei due interpreti in scena\, unici esecutori di tutte le vicende narrate\, secondo i canoni della teatralità italiana. Un lavoro originale perché per la prima volta si porta in scena un periodo della vita di Totò\, non conosciuta al grande pubblico.
URL:https://www.teatromercadante.com/eventi/il-piccolo-principe-in-arte-toto/
CATEGORIES:Festival "Bombetta d'Oro"
ATTACH;FMTTYPE=image/jpeg:https://www.teatromercadante.com/wp-content/uploads/2024/07/Locandina-Toto-e1720173650282.jpeg
END:VEVENT
END:VCALENDAR