BEGIN:VCALENDAR
VERSION:2.0
PRODID:-//Teatro Mercadante - ECPv6.15.20//NONSGML v1.0//EN
CALSCALE:GREGORIAN
METHOD:PUBLISH
X-ORIGINAL-URL:https://www.teatromercadante.com
X-WR-CALDESC:Eventi per Teatro Mercadante
REFRESH-INTERVAL;VALUE=DURATION:PT1H
X-Robots-Tag:noindex
X-PUBLISHED-TTL:PT1H
BEGIN:VTIMEZONE
TZID:Europe/Helsinki
BEGIN:DAYLIGHT
TZOFFSETFROM:+0200
TZOFFSETTO:+0300
TZNAME:EEST
DTSTART:20230326T010000
END:DAYLIGHT
BEGIN:STANDARD
TZOFFSETFROM:+0300
TZOFFSETTO:+0200
TZNAME:EET
DTSTART:20231029T010000
END:STANDARD
BEGIN:DAYLIGHT
TZOFFSETFROM:+0200
TZOFFSETTO:+0300
TZNAME:EEST
DTSTART:20240331T010000
END:DAYLIGHT
BEGIN:STANDARD
TZOFFSETFROM:+0300
TZOFFSETTO:+0200
TZNAME:EET
DTSTART:20241027T010000
END:STANDARD
BEGIN:DAYLIGHT
TZOFFSETFROM:+0200
TZOFFSETTO:+0300
TZNAME:EEST
DTSTART:20250330T010000
END:DAYLIGHT
BEGIN:STANDARD
TZOFFSETFROM:+0300
TZOFFSETTO:+0200
TZNAME:EET
DTSTART:20251026T010000
END:STANDARD
END:VTIMEZONE
BEGIN:VEVENT
DTSTART;TZID=Europe/Helsinki:20240404T213000
DTEND;TZID=Europe/Helsinki:20240404T223000
DTSTAMP:20260420T091725
CREATED:20240314T151235Z
LAST-MODIFIED:20240328T151845Z
UID:10000089-1712266200-1712269800@www.teatromercadante.com
SUMMARY:Family concert - Orchestra del Teatro Petruzzelli
DESCRIPTION:FAMILY CONCERT | PELLICCIA | 4 APRILE\n\n\n\nIn collaborazione con la Fondazione Petruzzelli\, il Teatro Mercadante organizza un Family Concert che vede come protagonista l’Orchestra del Teatro Petruzzelli\, diretta dal Mº Giovanni Pelliccia.\nObiettivo di questo concerto è quello di dare la possibilità ai più piccoli di avvicinarsi al mondo del teatro e della musica classica.\nIl costo del biglietto è di 1 euro per gli spettatori fino ai 13 anni di età e di 5 euro per tutti gli altri. I biglietti sono in vendita al Botteghino del Teatro Mercadante e su http://www.vivaticket.it.
URL:https://www.teatromercadante.com/eventi/family-concert-orchestra-del-teatro-petruzzelli/
CATEGORIES:Fuori abbonamento
ATTACH;FMTTYPE=image/jpeg:https://www.teatromercadante.com/wp-content/uploads/2024/03/2024-04-04-scaled.jpg
END:VEVENT
BEGIN:VEVENT
DTSTART;TZID=Europe/Helsinki:20240405T230000
DTEND;TZID=Europe/Helsinki:20240406T010000
DTSTAMP:20260420T091725
CREATED:20240315T143816Z
LAST-MODIFIED:20240315T145520Z
UID:10000090-1712358000-1712365200@www.teatromercadante.com
SUMMARY:THE BEATBOX & CARLO MASSARINI - MAGICAL MYSTERY STORY
DESCRIPTION:The Magical Mistery Story è il nuovo spettacolo dei The Beatbox dedicato alla storia ed alla musica dei Beatles. Attraverso le canzoni\, i racconti di Carlo Massarini\, cambi di scena\, di abiti e di strumenti \nmusicali\, nell’arco di due ore andremo a conoscere e rivivere l’incredibile avventura dei Beatles\, e di come abbiano cambiato il corso della musica odierna con le loro indimenticabili canzoni. \nSul palco The Beatbox formazione nota in tutta Europa con centinaia di concerti ogni anno e partecipazioni ai maggiori festival dedicati ai Beatles\, formata da quattro giovani musicisti: Marco Breglia\, Filippo Caretti\, Michele Caputo e Federico Franchi della stessa età dei Beatles\, che interpreteranno fedelmente i grandi successi del quartetto di Liverpool. \nCarlo Massarini\, noto conduttore e giornalista musicale\, nell’arco dei quattro cambi che caratterizzano lo spettacolo\, racconterà la storia dei Beatles\, svelandone aneddoti e curiosità e tanto altro. \nPer ottenere il risultato desiderato nulla è stato lasciato al caso: dalla strumentazione\, originale e identica a quella usata dai Beatles nei loro storici concerti e per incidere gli album\, fino ai  cambi di abiti e trucco per farci rivivere il momento storico. I vestiti di scena sono stati confezionati su misura per la band\, dalla stessa sartoria inglese che creò quelli dei Fab Four per la tournée americana. \nUno show che attraversa i ricordi e le scoperte di più generazioni e che intende riportare l’entusiasmo e la positività dei mitici anni ‘60. La scaletta ripercorre gli storici successi al Cavern Club di Liverpool fino ad arrivare ai capolavori che hanno preceduto lo scioglimento della band nel 1970. \nI BeatBox ripropongono fedelmente le hit della discografia dei Beatles con una accuratezza esecutiva assoluta\, restituendo all’ascoltatore l’impatto sonoro e soprattutto vocale del leggendario quartetto. \nI tour dei The Beatbox annualmente toccano: Francia\, Belgio\, fino a Russia\, Germania\, Romania e Svizzera. Sono sempre ospiti d’onore dei Beatles Day Europei come quelli di Genova\, Bellinzona\, Sanremo e Salso Maggiore. I BeatBox radunano un pubblico non solo “over 30”\, ma anche tanti giovanissimi. Una musica senza età per chi ama un genere che non ha seguito la moda. \nIl tour teatrale toccherà le principali città italiane\, nelle due ore di concerto\, vivremo indimenticabili emozioni ascoltando: Love me do\, She loves you\, A hard day’s night\, Yesterday\, Yellow Submarine\, Hello Goodbye\, Hey Jude\, Come together\, Let it be\, Get Back\, solo per citare alcune hit\, a cui si aggiungeranno vere e proprie chicche per appassionati come: In my life\, Girl\, Norwegian wood e tante altre pietre miliari della musica moderna. \nChiudete gli occhi e riapriteli per un viaggio negli anni 60.
URL:https://www.teatromercadante.com/eventi/the-beatbox-carlo-massarini-magical-mystery-story/
CATEGORIES:Fuori abbonamento
ATTACH;FMTTYPE=image/jpeg:https://www.teatromercadante.com/wp-content/uploads/2024/03/Beatbox.jpeg
END:VEVENT
BEGIN:VEVENT
DTSTART;TZID=Europe/Helsinki:20240406T230000
DTEND;TZID=Europe/Helsinki:20240407T010000
DTSTAMP:20260420T091725
CREATED:20230620T193036Z
LAST-MODIFIED:20240323T094223Z
UID:10000053-1712444400-1712451600@www.teatromercadante.com
SUMMARY:Ma non avevamo detto "per sempre"?
DESCRIPTION:Luca e Giulia sono due attori in crisi\, due artisti alla perenne ricerca dell’attimo perfetto\, frustrati dal continuo tendere verso quel momento di vita scenica autentica che richiede un equilibrio sottile. Entrambi sentono di non aver ancora avuto la sognata occasione di un’intera carriera\, ossessionati dalla missione di scoprire “cos’è comico?… e l’oggetto della commedia dev’essere  necessariamente basso? Perché la tragedia e la commedia non possono esprimere uno stesso pensiero elevato\, uno stesso sentire profondo?”\nMa Luca e Giulia sono anche una coppia in crisi\, per la stessa ricerca di quell’equilibrio che trasformi la vita in sogno e il sogno nello spettacolo perfetto\, pur consapevoli che questo viaggio utopico\, in un continuo ribaltarsi di piani tra il palcoscenico e la vita reale\, possa essere la sola via\, l’ultimo tentativo per ricostruirsi dalle proprie macerie. Viaggio del quale noi spettatori siamo a volte complici\, altre semplici testimoni\, emozionandoci nello specchiarci e riconoscendo “i meandri nascosti della nostra anima\, il nostro essere meschini\, vigliacchi\, furbi\, con tutte le nostre bassezze che non esibiamo su Facebook ma che non per questo ci rendono meno onesti”… e vulnerabili nell’amare.\nIl testo \, ispirato ad una commedia francese \, che ha riscosso un notevole successo in patria\, arriva sulle nostre scene con la raffinata interpretazione di due attori capaci di stupirci nel rendere profondamente umani i personaggi mentre affrontano i loro drammi con un disincanto a tratti sconfinante nel cinismo\, senza mai strizzare l’occhio alla gag o all’effetto comico.\nQuesto esilarante viaggio\, col suo mirabile gioco di specchi\, si rivelerà un viaggio nelle nostre vite\, con un finale a sorpresa figlio della tradizione goldoniana\, in cui il teatro conferma il suo fondarsi “sulla capacità dell’uomo di emozionare un altro uomo”. Proprio come nel finale de “Gli innamorati” goldoniani\, sembra poi ammonirci: “Che pazzia volersi tormentare per amore\, volere che il balsamo si converta in veleno. Specchiatevi\, signori\, in questi innamorati: ridete di loro ma non fate che si debba ridere di voi”.
URL:https://www.teatromercadante.com/eventi/ma-non-avevamo-detto-per-sempre/
CATEGORIES:Rassegna "Mettiamoci in prosa"
ATTACH;FMTTYPE=image/jpeg:https://www.teatromercadante.com/wp-content/uploads/2023/06/Catania-Foschi-e1687433654265.jpg
END:VEVENT
BEGIN:VEVENT
DTSTART;TZID=Europe/Helsinki:20240407T193000
DTEND;TZID=Europe/Helsinki:20240407T213000
DTSTAMP:20260420T091725
CREATED:20230620T193010Z
LAST-MODIFIED:20240323T094300Z
UID:10000054-1712518200-1712525400@www.teatromercadante.com
SUMMARY:Ma non avevamo detto "per sempre"?
DESCRIPTION:Luca e Giulia sono due attori in crisi\, due artisti alla perenne ricerca dell’attimo perfetto\, frustrati dal continuo tendere verso quel momento di vita scenica autentica che richiede un equilibrio sottile. Entrambi sentono di non aver ancora avuto la sognata occasione di un’intera carriera\, ossessionati dalla missione di scoprire “cos’è comico?… e l’oggetto della commedia dev’essere  necessariamente basso? Perché la tragedia e la commedia non possono esprimere uno stesso pensiero elevato\, uno stesso sentire profondo?”\nMa Luca e Giulia sono anche una coppia in crisi\, per la stessa ricerca di quell’equilibrio che trasformi la vita in sogno e il sogno nello spettacolo perfetto\, pur consapevoli che questo viaggio utopico\, in un continuo ribaltarsi di piani tra il palcoscenico e la vita reale\, possa essere la sola via\, l’ultimo tentativo per ricostruirsi dalle proprie macerie. Viaggio del quale noi spettatori siamo a volte complici\, altre semplici testimoni\, emozionandoci nello specchiarci e riconoscendo “i meandri nascosti della nostra anima\, il nostro essere meschini\, vigliacchi\, furbi\, con tutte le nostre bassezze che non esibiamo su Facebook ma che non per questo ci rendono meno onesti”… e vulnerabili nell’amare.\nIl testo \, ispirato ad una commedia francese \, che ha riscosso un notevole successo in patria\, arriva sulle nostre scene con la raffinata interpretazione di due attori capaci di stupirci nel rendere profondamente umani i personaggi mentre affrontano i loro drammi con un disincanto a tratti sconfinante nel cinismo\, senza mai strizzare l’occhio alla gag o all’effetto comico.\nQuesto esilarante viaggio\, col suo mirabile gioco di specchi\, si rivelerà un viaggio nelle nostre vite\, con un finale a sorpresa figlio della tradizione goldoniana\, in cui il teatro conferma il suo fondarsi “sulla capacità dell’uomo di emozionare un altro uomo”. Proprio come nel finale de “Gli innamorati” goldoniani\, sembra poi ammonirci: “Che pazzia volersi tormentare per amore\, volere che il balsamo si converta in veleno. Specchiatevi\, signori\, in questi innamorati: ridete di loro ma non fate che si debba ridere di voi”.
URL:https://www.teatromercadante.com/eventi/ma-non-avevamo-detto-per-sempre-2/
CATEGORIES:Rassegna "Mettiamoci in prosa"
ATTACH;FMTTYPE=image/jpeg:https://www.teatromercadante.com/wp-content/uploads/2023/06/Catania-Foschi-e1687433654265.jpg
END:VEVENT
BEGIN:VEVENT
DTSTART;TZID=Europe/Helsinki:20240419T230000
DTEND;TZID=Europe/Helsinki:20240420T010000
DTSTAMP:20260420T091725
CREATED:20230621T193054Z
LAST-MODIFIED:20240329T090401Z
UID:10000045-1713567600-1713574800@www.teatromercadante.com
SUMMARY:Il malloppo
DESCRIPTION:Due ladri inesperti decidono di svaligiare la banca accanto all’impresa di pompe funebri in cui lavorano\, ma sono costretti a nascondere la refurtiva nella bara della madre appena deceduta di uno di loro. Così tra furti\, omicidi\, intrighi amorosi e indagini\, inizia una rocambolesca sequela di situazioni spassose e assurde\, tipiche dell’umorismo nero britannico. \nNote di regia\nIl Malloppo di Joe Orton è una dark comedy dai toni farseschi e dalla comicità dissacrante. Il dialogo serrato\, iperbolico e surreale\, mutuato dal teatro dell’assurdo mette in campo una critica spietata alla società inglese degli anni Sessanta. Ma Orton\, con il suo stile anarchico\, contro le forme della “buona società borghese”\, anticipa i toni della cultura underground e della rivoluzione punk. Il rituale della celebrazione funebre e del matrimonio\, il fideismo religioso\, la legalità e la giustizia vengono spogliati del loro significato profondo per lasciare spazio ai desideri morbosi che le convenzioni borghesi vogliono reprimere e tenere nascosti. Si tratta di una commedia tutta da ridere\, ma Il Malloppo non è soltanto questo. «È un incubo freudiano» dice il giovane Hal che sistema il corpo della madre in un armadio\, per poi nascondere i soldi rubati nella bara della defunta. Orton\, con il suo humor sottile e corrosivo\, ci spinge a mostrare lo scandalo dei “fantasmi nascosti negli armadi”. \nATTENZIONE\nLe date di recupero\, che sarebbe dovuto andare in scena il 13 e 14 gennaio 2024\, sono:\n– 19 aprile ore 21\,00 per chi possiede l’abbonamento “Prosa turno DOMENICA” e chi ha acquistato i biglietti singoli per la data del 14 gennaio ore 17\,30;\n– 20 aprile ore 21\,00 per chi possiede l’abbonamento “Prosa turno SABATO” o “PACCHETTO MERCADANTE” e chi ha acquistato i biglietti singoli per la data del 13 gennaio ore 21\,00.
URL:https://www.teatromercadante.com/eventi/il-malloppo-2/
CATEGORIES:Rassegna "Mettiamoci in prosa"
ATTACH;FMTTYPE=image/jpeg:https://www.teatromercadante.com/wp-content/uploads/2023/06/24-04-19-20-MALLOPO-scaled.jpg
END:VEVENT
BEGIN:VEVENT
DTSTART;TZID=Europe/Helsinki:20240420T230000
DTEND;TZID=Europe/Helsinki:20240421T010000
DTSTAMP:20260420T091725
CREATED:20230621T193045Z
LAST-MODIFIED:20240329T090512Z
UID:10000043-1713654000-1713661200@www.teatromercadante.com
SUMMARY:Il malloppo
DESCRIPTION:Due ladri inesperti decidono di svaligiare la banca accanto all’impresa di pompe funebri in cui lavorano\, ma sono costretti a nascondere la refurtiva nella bara della madre appena deceduta di uno di loro. Così tra furti\, omicidi\, intrighi amorosi e indagini\, inizia una rocambolesca sequela di situazioni spassose e assurde\, tipiche dell’umorismo nero britannico. \nNote di regia\nIl Malloppo di Joe Orton è una dark comedy dai toni farseschi e dalla comicità dissacrante. Il dialogo serrato\, iperbolico e surreale\, mutuato dal teatro dell’assurdo mette in campo una critica spietata alla società inglese degli anni Sessanta. Ma Orton\, con il suo stile anarchico\, contro le forme della “buona società borghese”\, anticipa i toni della cultura underground e della rivoluzione punk. Il rituale della celebrazione funebre e del matrimonio\, il fideismo religioso\, la legalità e la giustizia vengono spogliati del loro significato profondo per lasciare spazio ai desideri morbosi che le convenzioni borghesi vogliono reprimere e tenere nascosti. Si tratta di una commedia tutta da ridere\, ma Il Malloppo non è soltanto questo. «È un incubo freudiano» dice il giovane Hal che sistema il corpo della madre in un armadio\, per poi nascondere i soldi rubati nella bara della defunta. Orton\, con il suo humor sottile e corrosivo\, ci spinge a mostrare lo scandalo dei “fantasmi nascosti negli armadi”. \nATTENZIONE\nLe date di recupero\, che sarebbe dovuto andare in scena il 13 e 14 gennaio 2024\, sono:\n– 19 aprile ore 21\,00 per chi possiede l’abbonamento “Prosa turno DOMENICA” e chi ha acquistato i biglietti singoli per la data del 14 gennaio ore 17\,30;\n– 20 aprile ore 21\,00 per chi possiede l’abbonamento “Prosa turno SABATO” o “PACCHETTO MERCADANTE” e chi ha acquistato i biglietti singoli per la data del 13 gennaio ore 21\,00.
URL:https://www.teatromercadante.com/eventi/il-malloppo/
CATEGORIES:Rassegna "Mettiamoci in prosa"
ATTACH;FMTTYPE=image/jpeg:https://www.teatromercadante.com/wp-content/uploads/2023/06/24-04-19-20-MALLOPO-scaled.jpg
END:VEVENT
BEGIN:VEVENT
DTSTART;TZID=Europe/Helsinki:20240421T213000
DTEND;TZID=Europe/Helsinki:20240421T233000
DTSTAMP:20260420T091725
CREATED:20230620T193000Z
LAST-MODIFIED:20240315T160038Z
UID:10000072-1713735000-1713742200@www.teatromercadante.com
SUMMARY:Le quattro stagioni
DESCRIPTION:La grande musica classica è di scena: sul palco Daniele Orlando al violino e I Solisti Aquilani\, una tra le formazioni più importanti della tradizione musicale italiana\, eseguiranno un programma affascinante e molto amato dal pubblico: Le Quattro Stagioni di Antonio Vivaldi. \n \nLa storia dei Solisti Aquilani comincia nel 1968. I Solisti Veneti\, i Virtuosi di Roma e I Musici dominavano allora una scena musicale sui generis\, tesa alla valorizzazione dell’antico patrimonio strumentale italiano. I Solisti Aquilani riuscirono ad inserirsi in quello stesso panorama e ad affermarsi nel volgere di pochissimi anni. \nOggi\, a oltre cinquant’anni di distanza\, I Solisti Aquilani hanno tenuto oltre seimila concerti in tutto il mondo – dall’Africa all’America\, dall’Europa al Medio ed Estremo Oriente – collaborano regolarmente con gli artisti più prestigiosi (Mischa Maisky\, Mario Brunello\, Giovanni Sollima\, Dee Dee Bridgewater\, Salvatore Accardo\, Luis Bacalov\, Michele Campanella\, Ramin Bahrami\, John Malkovich\, solo per citarne alcuni)\, hanno all’attivo una rilevante produzione discografica e progetti e iniziative dedicate al territorio e ai giovani musicisti emergenti. \nL’attenzione al territorio e alle sue più sottili valenze rendono la storia dei Solisti Aquilani assolutamente originale nel panorama delle compagini cameristiche italiane. Poche tra esse\, infatti\, hanno saputo trovare un equilibrio così sapiente tra impegni locali\, nazionali ed esteri contribuendo in modo determinante all’affermazione\, in campo internazionale\, dell’immagine di una regione viva e feconda. Ma\, più ancora\, quel che contraddistingue I Solisti Aquilani è stato ed è il progetto di un nuovo modo di essere musicisti\, non solo esecutori ma protagonisti di una esperienza umana e musicale diversa\, quella legata alla produzione e alla esportazione della musica\, immagine ed espressione di un “Made in Italy” unico\, originale\, forte.
URL:https://www.teatromercadante.com/eventi/le-quattro-stagioni/
CATEGORIES:Stagione concertistica
ATTACH;FMTTYPE=image/jpeg:https://www.teatromercadante.com/wp-content/uploads/2023/06/daniele-orlando2.jpg
END:VEVENT
BEGIN:VEVENT
DTSTART;TZID=Europe/Helsinki:20240424T230000
DTEND;TZID=Europe/Helsinki:20240425T010000
DTSTAMP:20260420T091725
CREATED:20231207T095940Z
LAST-MODIFIED:20240423T073204Z
UID:10000082-1713999600-1714006800@www.teatromercadante.com
SUMMARY:Non mi trovo
DESCRIPTION:𝐀𝐓𝐓𝐄𝐍𝐙𝐈𝐎𝐍𝐄\nSiamo spiacenti di comunicare che\, a causa di sopravvenuti motivi personali dell’organizzazione\, lo spettacolo di 𝐏𝐢𝐧𝐮𝐜𝐜𝐢𝐨\, “𝐍𝐨𝐧 𝐦𝐢 𝐭𝐫𝐨𝐯𝐨”\, in programma al Teatro Mercadante di Altamura mercoledì 24 aprile\, è stato 𝐀𝐍𝐍𝐔𝐋𝐋𝐀𝐓𝐎.\n𝐈 𝐛𝐢𝐠𝐥𝐢𝐞𝐭𝐭𝐢 𝐨𝐧𝐥𝐢𝐧𝐞 saranno rimborsati esclusivamente facendo richiesta direttamente a 𝐕𝐢𝐯𝐚𝐭𝐢𝐜𝐤𝐞𝐭.\nPer i 𝐛𝐢𝐠𝐥𝐢𝐞𝐭𝐭𝐢 𝐟𝐢𝐬𝐢𝐜𝐢 acquistati al botteghino\, è possibile richiedere il 𝐫𝐢𝐦𝐛𝐨𝐫𝐬𝐨 𝐨 l’emissione di un 𝐛𝐮𝐨𝐧𝐨 equivalente 𝐞𝐧𝐭𝐫𝐨 𝐞 𝐧𝐨𝐧 𝐨𝐥𝐭𝐫𝐞 𝐢𝐥 𝟏𝟓 𝐦𝐚𝐠𝐠𝐢𝐨\, previo appuntamento da concordare contattando il box office https://wa.me/+390803101222\nOltre tale data\, non saranno ammesse deroghe.\n  \n  \n  \nIn un’aula di tribunale Pinuccio si trova a farsi processare con la surreale richiesta di essere condannato perché inadeguato al mondo contemporaneo. L’attore sul palco è dietro una balaustra di tribunale rivolto verso il pubblico. Al suo lato il banco del giudice con un cancelliere pronto a interagire con l’invio su una proiezione e\, emblematiche immagini e video catturate dal web e non solo. \nSul banco dell’imputato passano le prove di questa inadeguatezza rese palesi da un cancelliere che le mostra al pubblico per l’occasione in veste di giuria popolare nel processo. La carrellata di teste e prove vedono il meglio del web e della comunicazione contemporanea. Da tiktok alla carta stampata\, Pinuccio cercherà di convincere il giudice e la giuria popolare a farlo condannare ad un ergastolo pure di non continuare a vivere nella società attuale.
URL:https://www.teatromercadante.com/eventi/non-mi-trovo/
CATEGORIES:Fuori abbonamento
ATTACH;FMTTYPE=image/png:https://www.teatromercadante.com/wp-content/uploads/2023/12/Progetto-senza-titolo-16.png
END:VEVENT
END:VCALENDAR