BEGIN:VCALENDAR
VERSION:2.0
PRODID:-//Teatro Mercadante - ECPv6.15.20//NONSGML v1.0//EN
CALSCALE:GREGORIAN
METHOD:PUBLISH
X-ORIGINAL-URL:https://www.teatromercadante.com
X-WR-CALDESC:Eventi per Teatro Mercadante
REFRESH-INTERVAL;VALUE=DURATION:PT1H
X-Robots-Tag:noindex
X-PUBLISHED-TTL:PT1H
BEGIN:VTIMEZONE
TZID:Europe/Helsinki
BEGIN:DAYLIGHT
TZOFFSETFROM:+0200
TZOFFSETTO:+0300
TZNAME:EEST
DTSTART:20230326T010000
END:DAYLIGHT
BEGIN:STANDARD
TZOFFSETFROM:+0300
TZOFFSETTO:+0200
TZNAME:EET
DTSTART:20231029T010000
END:STANDARD
BEGIN:DAYLIGHT
TZOFFSETFROM:+0200
TZOFFSETTO:+0300
TZNAME:EEST
DTSTART:20240331T010000
END:DAYLIGHT
BEGIN:STANDARD
TZOFFSETFROM:+0300
TZOFFSETTO:+0200
TZNAME:EET
DTSTART:20241027T010000
END:STANDARD
BEGIN:DAYLIGHT
TZOFFSETFROM:+0200
TZOFFSETTO:+0300
TZNAME:EEST
DTSTART:20250330T010000
END:DAYLIGHT
BEGIN:STANDARD
TZOFFSETFROM:+0300
TZOFFSETTO:+0200
TZNAME:EET
DTSTART:20251026T010000
END:STANDARD
END:VTIMEZONE
BEGIN:VEVENT
DTSTART;TZID=Europe/Helsinki:20240302T230000
DTEND;TZID=Europe/Helsinki:20240303T010000
DTSTAMP:20260420T104750
CREATED:20230620T193052Z
LAST-MODIFIED:20230907T073010Z
UID:10000051-1709420400-1709427600@www.teatromercadante.com
SUMMARY:Il padre della sposa
DESCRIPTION:Giovanni un imprenditore e padre di famiglia\, che oltre a possedere una azienda\, ha una bella figlia ventiduenne a cui vuole molto bene e di cui è molto geloso\, che sta per convolare a nozze. La ragazza sta per sposare Ludo\, rampollo di una ricca famiglia\, ma l’imminente matrimonio con annessi caotici preparativi avranno un effetto straniante sul povero padre\, che in cuor suo non vuole accettare il fatto che la figlia sia ormai una donna e il solo pensiero di lasciare l’adorata fanciulla nelle mani di uno sconosciuto lo fa dar di matto. A peggiorare le cose ci si metterà il prezzo esorbitante del matrimonio. La goccia che farà traboccare il vaso\, sarà l’invasione dell’eccentrico organizzatore di matrimoni Boris\, nella scelta di organizzare il ricevimento proprio in casa\, situazione che farà crollare i nervi al sempre più stressato padre\, che tra una figuraccia e un’altra finirà addirittura in prigione. Lo spettacolo si presenta come una divertente comedy piena di gag riuscite e momenti coinvolgenti con alcune situazioni tenere e divertenti.
URL:https://www.teatromercadante.com/eventi/il-padre-della-sposa/
CATEGORIES:Rassegna "Mettiamoci in prosa"
ATTACH;FMTTYPE=image/webp:https://www.teatromercadante.com/wp-content/uploads/2023/06/Il-Padre-della-sposa-e1687433520290.webp
END:VEVENT
BEGIN:VEVENT
DTSTART;TZID=Europe/Helsinki:20240303T193000
DTEND;TZID=Europe/Helsinki:20240303T213000
DTSTAMP:20260420T104750
CREATED:20230620T193017Z
LAST-MODIFIED:20230907T072923Z
UID:10000052-1709494200-1709501400@www.teatromercadante.com
SUMMARY:Il padre della sposa
DESCRIPTION:Giovanni un imprenditore e padre di famiglia\, che oltre a possedere una azienda\, ha una bella figlia ventiduenne a cui vuole molto bene e di cui è molto geloso\, che sta per convolare a nozze. La ragazza sta per sposare Ludo\, rampollo di una ricca famiglia\, ma l’imminente matrimonio con annessi caotici preparativi avranno un effetto straniante sul povero padre\, che in cuor suo non vuole accettare il fatto che la figlia sia ormai una donna e il solo pensiero di lasciare l’adorata fanciulla nelle mani di uno sconosciuto lo fa dar di matto. A peggiorare le cose ci si metterà il prezzo esorbitante del matrimonio. La goccia che farà traboccare il vaso\, sarà l’invasione dell’eccentrico organizzatore di matrimoni Boris\, nella scelta di organizzare il ricevimento proprio in casa\, situazione che farà crollare i nervi al sempre più stressato padre\, che tra una figuraccia e un’altra finirà addirittura in prigione. Lo spettacolo si presenta come una divertente comedy piena di gag riuscite e momenti coinvolgenti con alcune situazioni tenere e divertenti.
URL:https://www.teatromercadante.com/eventi/il-padre-della-sposa-2/
CATEGORIES:Rassegna "Mettiamoci in prosa"
ATTACH;FMTTYPE=image/webp:https://www.teatromercadante.com/wp-content/uploads/2023/06/Il-Padre-della-sposa-e1687433520290.webp
END:VEVENT
BEGIN:VEVENT
DTSTART;TZID=Europe/Helsinki:20240309T230000
DTEND;TZID=Europe/Helsinki:20240310T010000
DTSTAMP:20260420T104750
CREATED:20230831T160341Z
LAST-MODIFIED:20230906T085954Z
UID:10000078-1710025200-1710032400@www.teatromercadante.com
SUMMARY:Gioco al massacro
DESCRIPTION:Due ragazzini litigano al parco ed uno di questi colpisce l’altro al volto con un bastone. I genitori\, due coppie\, decidono di incontrarsi per discutere del fatto e risolvere la cosa da persone civili.
URL:https://www.teatromercadante.com/eventi/gioco-al-massacro/
CATEGORIES:Festival "Bombetta d'Oro"
ATTACH;FMTTYPE=image/jpeg:https://www.teatromercadante.com/wp-content/uploads/2023/08/Gioco-al-massacro-2.jpg
END:VEVENT
BEGIN:VEVENT
DTSTART;TZID=Europe/Helsinki:20240310T213000
DTEND;TZID=Europe/Helsinki:20240310T233000
DTSTAMP:20260420T104750
CREATED:20230620T193047Z
LAST-MODIFIED:20230906T090054Z
UID:10000071-1710106200-1710113400@www.teatromercadante.com
SUMMARY:The Big B's
DESCRIPTION:Concerto in Re minore per due violini BWV 1043 di Bach\, la Danza ungherese n. 1 in Sol minore di Brahms\, le Danze popolari rumene di Béla Bartók e le “9 sinfonie in 9 minuti”\, parafrasi sulle Nove sinfonie di Ludwig van Beethoven. Ma anche brani degli stessi Janoska\, oltre che loro arrangiamenti\, un Blue Rondo à la Turk di Dave Brubeck e un tango di Piazzolla che vedrà la partecipazione di Arpád Janoska alla voce.\nIl tutto\, ovviamente\, in stile Janoska\, che è davvero arduo da spiegare a parole. Ma ci proviamo.\nNelle creazioni dei quattro talenti la base classica incontra altri generi creando variopinti contrasti con il jazz\, il pop e le sonorità latine. Il risultato non è\, tuttavia\, un semplice mix di stili\, ma piuttosto una sintesi creativa. Un altro aspetto che contraddistingue lo Stile Janoska è l’atmosfera che i musicisti riescono a creare con il pubblico. «La nostra musica deve commuovere lo spettatore: questa è la cosa più importante per noi – rivela František Janoska – e ci riusciamo interpretando il materiale musicale in modo giocoso e gioioso. Lo Stile Janoska è molto più di un sound: è musica esperienziale che va ascoltata e vissuta dal vivo».\nFrantišek Jánoška è nato nel 1986 a Bratislava. Compiuti gli studi in pianoforte alla Universität für Musik und darstellende Kunst di Vienna\, ha vinto vari concorsi internazionali (fra i quali la Franz Liszt Piano Competition di Budapest) e ha suonato con importanti orchestre europee. Molto apprezzato anche come compositore\, ha già scritto una Sinfonia che ha debuttato nel 2019 alla Konzerthaus di Vienna e una Rapsodia commissionata dalla Esterházy Palace di Eisenstadt ed eseguita per la prima volta dalla Haydn Philharmonic.
URL:https://www.teatromercadante.com/eventi/the-big-bs/
CATEGORIES:Stagione concertistica
ATTACH;FMTTYPE=image/jpeg:https://www.teatromercadante.com/wp-content/uploads/2023/06/Janoska.jpg
END:VEVENT
BEGIN:VEVENT
DTSTART;TZID=Europe/Helsinki:20240316T230000
DTEND;TZID=Europe/Helsinki:20240317T010000
DTSTAMP:20260420T104750
CREATED:20230620T193028Z
LAST-MODIFIED:20230907T073047Z
UID:10000058-1710630000-1710637200@www.teatromercadante.com
SUMMARY:Storie sconcertanti
DESCRIPTION:Dario Vergassola festeggia venti anni di carriera come intervistatore comico! Dopo gli esordi con le spassose interviste a calciatori e veline realizzate per Zelig\, cercherà un approccio più serioso intervistando gli ospiti del salotto di Serena Dandini ma realizzerà invece esempi magistrali di graffiante satira. Ma poi non ha più smesso di realizzare interviste in TV e dal vivo coinvolgendo scrittori\, scienziati\, politici\, sindacalisti senza farsi mancare brillanti manager o austeri professori.\nOrmai temuto da tutti\, ha recentemente iniziato ad intervistare anche altri esseri viventi trovando nella natura esempi di grande virtù su cui possiamo comunque ridere ma anche imparare a salvare il nostro mondo da una catastrofe ecologica. Tutto questo infinito repertorio di domande/battute (e relative risposte) viene adesso riproposto In uno spettacolo dal ritmo così serrato ed incalzante che si rischia di perdersi in un esilarante sconcerto. Ma saranno proprio le nostre convinzioni a vacillare alla luce della satira intelligente di Dario Vergassola senza peraltro farci mancare spunti per ironizzare su noi stessi.
URL:https://www.teatromercadante.com/eventi/storie-sconcertanti/
CATEGORIES:Rassegna "Comi-città"
ATTACH;FMTTYPE=image/jpeg:https://www.teatromercadante.com/wp-content/uploads/2023/06/Vergassola_new-scaled-e1687433604472.jpg
END:VEVENT
BEGIN:VEVENT
DTSTART;TZID=Europe/Helsinki:20240317T213000
DTEND;TZID=Europe/Helsinki:20240317T230000
DTSTAMP:20260420T104750
CREATED:20240209T075724Z
LAST-MODIFIED:20240209T080357Z
UID:10000087-1710711000-1710716400@www.teatromercadante.com
SUMMARY:Il Violino Brillante
DESCRIPTION:Un concerto dedicato alla musica romantica che prende vita grazie all’armoniosa unione di un violino e un pianoforte\, con un programma che celebra alcuni tra tra i più importanti brani cameristici. Giovanni Andrea Zanon\, a soli 25 anni\, è già una star del violino. Regolarmente ospite dei più prestigiosi teatri e delle maggiori orchestre della scena internazionale\, si è esibito nella cerimonia di chiusura dei giochi olimpici invernali di Pechino nel 2022\, trasmessa in mondovisione. Suona il meraviglioso violino Stradivari “Maréchal Berthier”\, Cremona 1716. Assieme a lui sul palco ci sarà Leonardo Colafelice\, pianista altamurano di fama internazionale e direttore artistico del Festival. \nProgramma\nJ. Brahms\nSonata No. 3\, Op. 108 \nA. Dvorak\n4 pezzi romantici\, Op. 75 \nE. Grieg\nSonata No. 3\, Op. 45 \nH. Wieniawski\nPolonaise No. 1\, Op. 4
URL:https://www.teatromercadante.com/eventi/il-violino-brillante/
CATEGORIES:Festival dell'Alta Murgia
ATTACH;FMTTYPE=image/jpeg:https://www.teatromercadante.com/wp-content/uploads/2024/02/evento_3_65b213f7c0811.jpg
END:VEVENT
BEGIN:VEVENT
DTSTART;TZID=Europe/Helsinki:20240323T230000
DTEND;TZID=Europe/Helsinki:20240324T010000
DTSTAMP:20260420T104750
CREATED:20230620T193045Z
LAST-MODIFIED:20230906T090132Z
UID:10000062-1711234800-1711242000@www.teatromercadante.com
SUMMARY:Vasame
DESCRIPTION:Uno spettacolo che parla d’ammore e che ha come filo conduttore la musica del cantautore Enzo Gragnaniello e la spumeggiante presenza di Marisa Laurito che canta e recita” l’ammore” nelle sue tenere struggenti e divertenti sfaccettature. Una musica originaria\, atavica e istintiva che si rivela al pubblico attraverso sonorità e ritmiche sincere\, dirette e che ha lo scopo di ricondurlo alle sue\nradici più remote e ancor di più a punti di riflessione sulla condizione attuale che il mondo sta vivendo. Un invito al sentimento più semplice e complesso: l’ammore\, la chiave di tutto. Insieme a loro una band di tre bravissimi musicisti.
URL:https://www.teatromercadante.com/eventi/vasame/
CATEGORIES:Music All
ATTACH;FMTTYPE=image/jpeg:https://www.teatromercadante.com/wp-content/uploads/2023/06/Laurito-Gragnaniello-e1687433536694.jpg
END:VEVENT
BEGIN:VEVENT
DTSTART;TZID=Europe/Helsinki:20240324T213000
DTEND;TZID=Europe/Helsinki:20240324T230000
DTSTAMP:20260420T104750
CREATED:20240209T080203Z
LAST-MODIFIED:20240209T080254Z
UID:10000088-1711315800-1711321200@www.teatromercadante.com
SUMMARY:From Paris to Hollywood
DESCRIPTION:Guidata dal direttore d’orchestra Michele Nitti\, l’Orchestra Filarmonica Pugliese si unisce ai pianisti Marco Schiavo e Sergio Marchegiani in un concerto conclusivo indimenticabile. La serata presenterà brani iconici come l’entusiasmante Ouverture di ‘Orfeo all’Inferno’ di Offenbach\, famosa soprattutto per il “can-can”\, il brillante concerto per due pianoforti e orchestra di Poulenc e le celebri melodie tratte dalle due suite della “Carmen” di Bizet\, note al grande pubblico anche per essere state utilizzate come colonne sonore in rinomate pellicole cinematografiche. \nProgramma\nJ. Offenbach\nOverture da “Orfeo all’inferno” \nF. Poulenc\nConcerto per due pianoforti e orchestra \nG. Bizet\nSuite di Carmen nn. 1 e 2
URL:https://www.teatromercadante.com/eventi/from-paris-to-hollywood/
CATEGORIES:Festival dell'Alta Murgia
ATTACH;FMTTYPE=image/jpeg:https://www.teatromercadante.com/wp-content/uploads/2024/02/evento_4_65b214b9e8fb2.jpg
END:VEVENT
END:VCALENDAR