BEGIN:VCALENDAR
VERSION:2.0
PRODID:-//Teatro Mercadante - ECPv6.15.20//NONSGML v1.0//EN
CALSCALE:GREGORIAN
METHOD:PUBLISH
X-WR-CALNAME:Teatro Mercadante
X-ORIGINAL-URL:https://www.teatromercadante.com
X-WR-CALDESC:Eventi per Teatro Mercadante
REFRESH-INTERVAL;VALUE=DURATION:PT1H
X-Robots-Tag:noindex
X-PUBLISHED-TTL:PT1H
BEGIN:VTIMEZONE
TZID:Europe/Helsinki
BEGIN:DAYLIGHT
TZOFFSETFROM:+0200
TZOFFSETTO:+0300
TZNAME:EEST
DTSTART:20230326T010000
END:DAYLIGHT
BEGIN:STANDARD
TZOFFSETFROM:+0300
TZOFFSETTO:+0200
TZNAME:EET
DTSTART:20231029T010000
END:STANDARD
BEGIN:DAYLIGHT
TZOFFSETFROM:+0200
TZOFFSETTO:+0300
TZNAME:EEST
DTSTART:20240331T010000
END:DAYLIGHT
BEGIN:STANDARD
TZOFFSETFROM:+0300
TZOFFSETTO:+0200
TZNAME:EET
DTSTART:20241027T010000
END:STANDARD
BEGIN:DAYLIGHT
TZOFFSETFROM:+0200
TZOFFSETTO:+0300
TZNAME:EEST
DTSTART:20250330T010000
END:DAYLIGHT
BEGIN:STANDARD
TZOFFSETFROM:+0300
TZOFFSETTO:+0200
TZNAME:EET
DTSTART:20251026T010000
END:STANDARD
END:VTIMEZONE
BEGIN:VEVENT
DTSTART;TZID=Europe/Helsinki:20240203T230000
DTEND;TZID=Europe/Helsinki:20240204T010000
DTSTAMP:20260422T112657
CREATED:20230620T193039Z
LAST-MODIFIED:20230907T072730Z
UID:10000048-1707001200-1707008400@www.teatromercadante.com
SUMMARY:Paradiso XXXIII
DESCRIPTION:Uno spettacolo divulgativo senza che niente sia spiegato.\nDante Alighieri\, nel 33esimo canto del Paradiso\, si trova nell’impaccio dell’essere umano che prova a descrivere l’immenso\, l’indicibile\, prova a raccontare l’irraccontabile.\nQuesto scarto rispetto alla “somma meraviglia” sarà messo in scena creando un’esperienza unica\, quasi fisica per lo spettatore al cospetto dell’immensità. \nElio Germano e Teho Teardo sono voce e musica per dire la bellezza e avvicinarsi al mistero\, l’immenso\, l’indicibile ricercato da Dante nei versi del XXXIII canto del Paradiso.\nDal suono avvincente ed “etterno” germoglia la musica inaudita e imprevedibile del compositore d’avanguardia e scaturisce la regia visionaria e impalpabile di Simone Ferrari e Lulu Helbaek\, poeti dello sguardo\, capaci di muoversi tra cerimonie olimpiche\, teatro e show portando sempre con loro una stilla di magia del Cirque du Soleil. Grazie alla loro esperienza crossmediale\, accadrà qualcosa di magico e meraviglioso di inspiegabile\, trascendendo qualsiasi concetto di teatro\, concerto o rappresentazione dantesca attraverso una contaminazione di linguaggi tecnologici e\nteatrali.
URL:https://www.teatromercadante.com/eventi/paradiso-xxxiii/
CATEGORIES:Rassegna "Mettiamoci in prosa"
ATTACH;FMTTYPE=image/jpeg:https://www.teatromercadante.com/wp-content/uploads/2023/06/ELIO-GERMANOTEHO-TEARDO_Fabrizio-Cestari-e1687433496202.jpg
END:VEVENT
BEGIN:VEVENT
DTSTART;TZID=Europe/Helsinki:20240204T193000
DTEND;TZID=Europe/Helsinki:20240204T213000
DTSTAMP:20260422T112657
CREATED:20230620T193012Z
LAST-MODIFIED:20230907T072802Z
UID:10000050-1707075000-1707082200@www.teatromercadante.com
SUMMARY:Paradiso XXXIII
DESCRIPTION:Uno spettacolo divulgativo senza che niente sia spiegato.\nDante Alighieri\, nel 33esimo canto del Paradiso\, si trova nell’impaccio dell’essere umano che prova a descrivere l’immenso\, l’indicibile\, prova a raccontare l’irraccontabile.\nQuesto scarto rispetto alla “somma meraviglia” sarà messo in scena creando un’esperienza unica\, quasi fisica per lo spettatore al cospetto dell’immensità. \nElio Germano e Teho Teardo sono voce e musica per dire la bellezza e avvicinarsi al mistero\, l’immenso\, l’indicibile ricercato da Dante nei versi del XXXIII canto del Paradiso.\nDal suono avvincente ed “etterno” germoglia la musica inaudita e imprevedibile del compositore d’avanguardia e scaturisce la regia visionaria e impalpabile di Simone Ferrari e Lulu Helbaek\, poeti dello sguardo\, capaci di muoversi tra cerimonie olimpiche\, teatro e show portando sempre con loro una stilla di magia del Cirque du Soleil. Grazie alla loro esperienza crossmediale\, accadrà qualcosa di magico e meraviglioso di inspiegabile\, trascendendo qualsiasi concetto di teatro\, concerto o rappresentazione dantesca attraverso una contaminazione di linguaggi tecnologici e\nteatrali.
URL:https://www.teatromercadante.com/eventi/paradiso-xxxiii-2/
CATEGORIES:Rassegna "Mettiamoci in prosa"
ATTACH;FMTTYPE=image/jpeg:https://www.teatromercadante.com/wp-content/uploads/2023/06/ELIO-GERMANOTEHO-TEARDO_Fabrizio-Cestari-e1687433496202.jpg
END:VEVENT
BEGIN:VEVENT
DTSTART;TZID=Europe/Helsinki:20240210T230000
DTEND;TZID=Europe/Helsinki:20240211T010000
DTSTAMP:20260422T112657
CREATED:20230831T155649Z
LAST-MODIFIED:20230906T085707Z
UID:10000077-1707606000-1707613200@www.teatromercadante.com
SUMMARY:Che stress andare a teatro
DESCRIPTION:Tutto nasce quando ad una coppia Fofò e Catena  (marito e moglie) molto ignoranti\, vengono regalati dalla padrona di casa due biglietti omaggio per andare a vedere a teatro uno spettacolo di ricerca. Uno spettacolo radical chic. Dopo i primi tentennamenti e dubbi decidono di andare. C’è da scegliere però l’abbigliamento adatto per una serata così “speciale”. “Cappello o non cappello ” . “Abito lungo o corto” . “Vestito con cravatta o senza”. Scelte difficili per chi non pratica abitualmente un teatro. O per meglio dire per chi come Fofò e Catena non lo praticano affatto. Però il tempo stringe e bisogna decidere in fretta. Se poi a far perdere tempo ci si mette pure una “strana” vicina  di casa che non perde occasione per presentarsi sempre con scuse diverse a casa dei coniugi Fofò/Catena tutto diventa più complicato e inverosimile. Come è tipico della FARSA\, non mancano i colpi di scena\, i ribaltamenti di ruolo\, le situazioni paradossalmente comiche che s’innescano una nell’altra. Sono tutti spunti possibili per ampliare le scene in altrettante ipotesi brillanti\, con la chiara intenzione di rendere quanto più comico possibile il tessuto drammaturgico. Cercando – al tempo stesso – di lasciare intatta la carica ironica del testo\, destinandola ai suoi scopi minimi (se non di critica sociale) quanto meno di riflessione. La nostra Compagnia cerca di raccontare frammenti di verità (quando è possibile) attraverso lo strumento del divertimento: sia esso nel segno della commedia\, che in quello\, più surreale e fisico\, della farsa. Buon divertimento
URL:https://www.teatromercadante.com/eventi/che-stress-andare-a-teatro/
CATEGORIES:Festival "Bombetta d'Oro"
ATTACH;FMTTYPE=image/jpeg:https://www.teatromercadante.com/wp-content/uploads/2023/08/che-stress-andare-a-teatro-e1693504465528.jpeg
END:VEVENT
BEGIN:VEVENT
DTSTART;TZID=Europe/Helsinki:20240217T230000
DTEND;TZID=Europe/Helsinki:20240218T010000
DTSTAMP:20260422T112657
CREATED:20230620T193045Z
LAST-MODIFIED:20230906T085803Z
UID:10000061-1708210800-1708218000@www.teatromercadante.com
SUMMARY:Pur di fare commedia
DESCRIPTION:Paolo Belli torna in teatro con “Pur di far Commedia”\, piece scritta ancora una volta con Alberto Di Risio\, evoluzione naturale di “Pur di fare Musica”. La commedia è ambientata in una sala prove dove Paolo tenta tra mille difficoltà di allestire uno spettacolo\, tra musicisti e attori ritardatari e personaggi surreali che cercano ogni occasione per guadagnare la ribalta. “Pur di far commedia” è l’occasione per raccontare in chiave comica episodi di vita vissuta\, aneddoti e leggende di una carriera lunga 30 anni. Tutti elementi che porteranno Paolo a doversi districare tra equivoci\, paradossi ed eccessi di protagonismo\, per cercare comunque di portare a casa “la serata”. Non manca ovviamente la musica\, che fa da collante naturale a una serie di gag esilaranti\, per un nuovo ed irresistibile mix di risate e canzoni.
URL:https://www.teatromercadante.com/eventi/pur-di-fare-commedia/
CATEGORIES:Music All
ATTACH;FMTTYPE=image/jpeg:https://www.teatromercadante.com/wp-content/uploads/2023/06/paolo-belli-22-014A8558-ALTA-COVER-copia-800x932-1-e1687433559418.jpg
END:VEVENT
BEGIN:VEVENT
DTSTART;TZID=Europe/Helsinki:20240218T213000
DTEND;TZID=Europe/Helsinki:20240218T230000
DTSTAMP:20260422T112657
CREATED:20240209T074842Z
LAST-MODIFIED:20240209T074842Z
UID:10000085-1708291800-1708297200@www.teatromercadante.com
SUMMARY:Suono d'Amore
DESCRIPTION:Il concerto di inaugurazione del III Festival dell’Alta Murgia è dedicato all’amore: nella prima parte verrà eseguito l’emozionante concerto per arpa e orchestra di Reinhold Glière\, nella seconda parte saranno eseguite alcune meravigliose composizioni e colonne sonore di Elgar\, Massenet\, Rota\, Morricone e Gardel. Vincitrice del primo premio all’International Harp Contest in Israele nel 2021\, Claudia Lucia Lamanna è la seconda italiana nella storia a trionfare\, dopo oltre vent’anni\, nella più antica e prestigiosa competizione per arpa al mondo. La sua vibrante energia e la sua maturità interpretativa\, unite al suo virtuosismo naturale\, la rendono una tra le più entusiasmanti soliste della nuova generazione. \nProgramma\nR. Glière\nConcerto per Arpa e orchestra op. 74\nI. Allegro moderato\nII. Tema con variazioni\nIII. Allegro giocoso \nE. Elgar\nSalut d’amour \nJ. Massenet\nMeditation da “Thais” \nN. Rota\nRomeo e Giulietta\, La Dolce Vita\, Il Gattopardo* \nE. Morricone\nLa Califfa* \nC. Gardel\nTango Por una cabeza* \n* Arrangiamenti di Giovanni Minafra
URL:https://www.teatromercadante.com/eventi/suono-damore/
CATEGORIES:Festival dell'Alta Murgia
ATTACH;FMTTYPE=image/jpeg:https://www.teatromercadante.com/wp-content/uploads/2024/02/evento_1_65b2132656c27.jpg
END:VEVENT
BEGIN:VEVENT
DTSTART;TZID=Europe/Helsinki:20240224T230000
DTEND;TZID=Europe/Helsinki:20240225T010000
DTSTAMP:20260422T112657
CREATED:20230620T193059Z
LAST-MODIFIED:20230907T072838Z
UID:10000057-1708815600-1708822800@www.teatromercadante.com
SUMMARY:Ora io labora
DESCRIPTION:In una grande città del Meridione possono trovarsi a coabitare gli individui più dispara che hanno in comune un’unica cosa\, il loro rapporto con il lavoro anzi… il loro assoluto non averne rapporto. In una illustrazione del genere umano meridionale degna di una dissertazione scientifica da premio Nobel\, il nostro eroe ci illustrerà attraverso congetture ed esperimento comprovato il temperamento del soggetto in questione\, ed alla fine di un discorso privo di ogni dubbio arriverà a dimostrare la seguente formula: Il Meridionale non vuole lavorare! In questo spettacolo il pubblico è l’intimo interlocutore delle indiscrezioni di questo personaggio che espone una condizione che gli appartiene\, realtà per molto\, alla quale l’unica soluzione per garantirsi un reddito è quella di metter su una banda\, affidarsi alle più geniali menti criminali e farla capitanare dal più astuto di queste: Testa di Cane avventure assicurate.
URL:https://www.teatromercadante.com/eventi/ora-io-labora/
CATEGORIES:Rassegna "Comi-città"
ATTACH;FMTTYPE=image/jpeg:https://www.teatromercadante.com/wp-content/uploads/2023/06/9cda1-c727c-giovanni-cacioppo-scaled-e1687433621814.jpg
END:VEVENT
BEGIN:VEVENT
DTSTART;TZID=Europe/Helsinki:20240225T213000
DTEND;TZID=Europe/Helsinki:20240225T230000
DTSTAMP:20260422T112657
CREATED:20240209T075348Z
LAST-MODIFIED:20240209T075348Z
UID:10000086-1708896600-1708902000@www.teatromercadante.com
SUMMARY:Viaggio in Sud America
DESCRIPTION:Yamandu Costa è un chitarrista e compositore brasiliano\, considerato dalla critica internazionale come uno tra i più importanti chitarristi della scena mondiale. In occasione del suo debutto ad Altamura\, il musicista ci condurrà in un viaggio attraverso i luoghi e le tradizioni della cultura sudamericana. Le sue melodie incanteranno il pubblico con la vivace energia dei ritmi brasiliani e con le suggestive sonorità colombiane. Un musicista unico\, capace di trasformare il suo strumento in una vera e propria orchestra. Si esibisce con una chitarra classica a sette corde\, strumento iconico utilizzato principalmente nel choro e nel samba in Brasile.
URL:https://www.teatromercadante.com/eventi/viaggio-in-sud-america/
CATEGORIES:Festival dell'Alta Murgia
ATTACH;FMTTYPE=image/jpeg:https://www.teatromercadante.com/wp-content/uploads/2024/02/evento_2_65b2147b4f32e.jpg
END:VEVENT
END:VCALENDAR