BEGIN:VCALENDAR
VERSION:2.0
PRODID:-//Teatro Mercadante - ECPv6.15.20//NONSGML v1.0//EN
CALSCALE:GREGORIAN
METHOD:PUBLISH
X-WR-CALNAME:Teatro Mercadante
X-ORIGINAL-URL:https://www.teatromercadante.com
X-WR-CALDESC:Eventi per Teatro Mercadante
REFRESH-INTERVAL;VALUE=DURATION:PT1H
X-Robots-Tag:noindex
X-PUBLISHED-TTL:PT1H
BEGIN:VTIMEZONE
TZID:Europe/Helsinki
BEGIN:DAYLIGHT
TZOFFSETFROM:+0200
TZOFFSETTO:+0300
TZNAME:EEST
DTSTART:20220327T010000
END:DAYLIGHT
BEGIN:STANDARD
TZOFFSETFROM:+0300
TZOFFSETTO:+0200
TZNAME:EET
DTSTART:20221030T010000
END:STANDARD
BEGIN:DAYLIGHT
TZOFFSETFROM:+0200
TZOFFSETTO:+0300
TZNAME:EEST
DTSTART:20230326T010000
END:DAYLIGHT
BEGIN:STANDARD
TZOFFSETFROM:+0300
TZOFFSETTO:+0200
TZNAME:EET
DTSTART:20231029T010000
END:STANDARD
BEGIN:DAYLIGHT
TZOFFSETFROM:+0200
TZOFFSETTO:+0300
TZNAME:EEST
DTSTART:20240331T010000
END:DAYLIGHT
BEGIN:STANDARD
TZOFFSETFROM:+0300
TZOFFSETTO:+0200
TZNAME:EET
DTSTART:20241027T010000
END:STANDARD
END:VTIMEZONE
BEGIN:VEVENT
DTSTART;TZID=Europe/Helsinki:20231202T230000
DTEND;TZID=Europe/Helsinki:20231203T010000
DTSTAMP:20260422T145114
CREATED:20230621T193019Z
LAST-MODIFIED:20230907T072147Z
UID:10000056-1701558000-1701565200@www.teatromercadante.com
SUMMARY:Gatta morta
DESCRIPTION:S’intitola così il nuovo spettacolo di Francesca Reggiani\, che però ci tiene a precisare di non identificarsi con il titolo D’altro canto\, ci tiene anche a precisare che l’accezione negativa con cui si usa definire quelle donne che si fingono timide e innocenti per ghermire le proprie prede\, non vale per gli uomini Un uomo che si comporta allo stesso modo\, male che vada\, è un simpatico seduttore\, se non un playboy fatto e finito! Disparità di vedute Due pesi e due misure\, come sempre\, quando si parla dei complicati rapporti tra uomini e donne.
URL:https://www.teatromercadante.com/eventi/gatta-morta/
CATEGORIES:Rassegna "Comi-città"
ATTACH;FMTTYPE=image/jpeg:https://www.teatromercadante.com/wp-content/uploads/2023/06/Reggiani-e1687433638392.jpg
END:VEVENT
BEGIN:VEVENT
DTSTART;TZID=Europe/Helsinki:20231203T213000
DTEND;TZID=Europe/Helsinki:20231203T233000
DTSTAMP:20260422T145114
CREATED:20230621T193056Z
LAST-MODIFIED:20230906T084804Z
UID:10000069-1701639000-1701646200@www.teatromercadante.com
SUMMARY:70's Cinema Hits
DESCRIPTION:Un concerto per rendere omaggio alle più belle colonne sonore del cinema anni ’70. La SinedriOrchestra\, diretta dal M° Alfredo Luigi Cornacchia\, ci trasporterà indietro nel tempo eseguendo alcune tra le più iconiche musiche da film di compositori quali Isaac Hayes\, Ennio Morricone\, Armando Trovajoli\, Gato Barbieri\, Franco Micalizzi\, Stelvio Cipriani\, Goblin\, The Shire e molti altri.
URL:https://www.teatromercadante.com/eventi/70s-cinema-hits/
CATEGORIES:Stagione concertistica
ATTACH;FMTTYPE=image/jpeg:https://www.teatromercadante.com/wp-content/uploads/2023/06/Cornacchia_2-1.jpg
END:VEVENT
BEGIN:VEVENT
DTSTART;TZID=Europe/Helsinki:20231208T210000
DTEND;TZID=Europe/Helsinki:20231208T230000
DTSTAMP:20260422T145114
CREATED:20231114T091401Z
LAST-MODIFIED:20231204T173421Z
UID:10000081-1702069200-1702076400@www.teatromercadante.com
SUMMARY:IL VIRTUOSISMO DI SOLLIMA
DESCRIPTION: Il Teatro Mercadante ospita 𝐆𝐢𝐨𝐯𝐚𝐧𝐧𝐢 𝐒𝐨𝐥𝐥𝐢𝐦𝐚\, un compositore fuori dal comune e un vero virtuoso del violoncello che grazie all’empatia che instaura con lo strumento e con le sue emozioni e sensazioni\, comunica attraverso una musica unica nel suo genere\, dai ritmi mediterranei\, con una vena melodica tipicamente italiana\, ma che nel contempo riesce a raccogliere tutte le epoche\, dal barocco al “metal”.
URL:https://www.teatromercadante.com/eventi/il-virtuosismo-di-sollima/
CATEGORIES:Fuori abbonamento
ATTACH;FMTTYPE=image/jpeg:https://www.teatromercadante.com/wp-content/uploads/2023/11/il-virtuosismo-di-sollima.jpeg
END:VEVENT
BEGIN:VEVENT
DTSTART;TZID=Europe/Helsinki:20231209T230000
DTEND;TZID=Europe/Helsinki:20231210T010000
DTSTAMP:20260422T145114
CREATED:20230621T193019Z
LAST-MODIFIED:20230907T072431Z
UID:10000044-1702162800-1702170000@www.teatromercadante.com
SUMMARY:La strana coppia
DESCRIPTION:La Strana Coppia\, è un esempio come Neil Simon\, il più geniale e prolifico autore del teatro comico della seconda metà del ‘900\, riesca sempre a trovare quel pizzico di simpatica follia nella vita di tutti i giorni. Si narra la difficile e complicata convivenza tra due uomini dalle personalità diametralmente opposte. Felix e Oscar accomunati da un divorzio alle spalle decidono di andare a vivere insieme in un appartamento situato in uno dei tanti grattacieli di New York\, sulla Riverside Drive. Questo incontro – scontro quotidiano darà vita a continue ed esilaranti gag garantendo sicuro divertimento nella versione teatrale proposta e interpretata da l’ “inedita” coppia Gianluca Guidi e Giampiero Ingrassia. A Oscar che gli propone di continuare a vedersi insieme agli altri amici per il solito pokerino\, malgrado le ultime clamorose litigate\, Felix risponde di non aver chiuso affatto con il poker\, perché i matrimoni vanno e vengono\, ma la partita è come lo show: deve continuare.
URL:https://www.teatromercadante.com/eventi/la-strana-coppia-1/
CATEGORIES:Rassegna "Mettiamoci in prosa"
ATTACH;FMTTYPE=image/jpeg:https://www.teatromercadante.com/wp-content/uploads/2023/06/guidi-ingrassia-e1687433731512.jpg
END:VEVENT
BEGIN:VEVENT
DTSTART;TZID=Europe/Helsinki:20231210T193000
DTEND;TZID=Europe/Helsinki:20231210T213000
DTSTAMP:20260422T145114
CREATED:20230621T193021Z
LAST-MODIFIED:20230907T072501Z
UID:10000041-1702236600-1702243800@www.teatromercadante.com
SUMMARY:La strana coppia
DESCRIPTION:La Strana Coppia\, è un esempio come Neil Simon\, il più geniale e prolifico autore del teatro comico della seconda metà del ‘900\, riesca sempre a trovare quel pizzico di simpatica follia nella vita di tutti i giorni. Si narra la difficile e complicata convivenza tra due uomini dalle personalità diametralmente opposte. Felix e Oscar accomunati da un divorzio alle spalle decidono di andare a vivere insieme in un appartamento situato in uno dei tanti grattacieli di New York\, sulla Riverside Drive. Questo incontro – scontro quotidiano darà vita a continue ed esilaranti gag garantendo sicuro divertimento nella versione teatrale proposta e interpretata da l’ “inedita” coppia Gianluca Guidi e Giampiero Ingrassia. A Oscar che gli propone di continuare a vedersi insieme agli altri amici per il solito pokerino\, malgrado le ultime clamorose litigate\, Felix risponde di non aver chiuso affatto con il poker\, perché i matrimoni vanno e vengono\, ma la partita è come lo show: deve continuare.
URL:https://www.teatromercadante.com/eventi/la-strana-coppia-2/
CATEGORIES:Rassegna "Mettiamoci in prosa"
ATTACH;FMTTYPE=image/jpeg:https://www.teatromercadante.com/wp-content/uploads/2023/06/guidi-ingrassia-e1687433731512.jpg
END:VEVENT
BEGIN:VEVENT
DTSTART;TZID=Europe/Helsinki:20231217T213000
DTEND;TZID=Europe/Helsinki:20231217T233000
DTSTAMP:20260422T145114
CREATED:20231114T084852Z
LAST-MODIFIED:20231207T100136Z
UID:10000080-1702848600-1702855800@www.teatromercadante.com
SUMMARY:Don Chisciotte alle nozze di Gamaccio
DESCRIPTION:Don Chisciotte alle nozze di Gamaccio è un’opera in un solo atto di Francesco Saverio Mercadante\, su libretto di Stefano Ferrero. La prima rappresentazione andò in scena a Cadice nel 1830. Magnificamente divertente e drammaticamente innovativo\, combina uno stile napoletano alla moda\, con elementi di musica folk spagnola in un indimenticabile Melodramma Giocoso. La scena parte in casa di Don Diego dove si deve svolgere un matrimonio: Chiteria ha giurato amore eterno a Basilio ma il padre vuole farla sposare con Gamaccio\, giovane semplice ma ricco. Basilio fa di tutto per impedire il matrimonio\, ma inutilmente\, finché scopre un trucco che gli permetterà di sposarla. Don Chisciotte e Sancio Panza\, invitati al matrimonio\, saranno fondamentali per la riuscita dello stratagemma di Basilio.
URL:https://www.teatromercadante.com/eventi/don-chisciotte-alle-nozze-di-gamaccio/
CATEGORIES:Fuori abbonamento
ATTACH;FMTTYPE=image/jpeg:https://www.teatromercadante.com/wp-content/uploads/2023/11/Don-Chisciotte-e1699960158298.jpg
END:VEVENT
BEGIN:VEVENT
DTSTART;TZID=Europe/Helsinki:20231228T220000
DTEND;TZID=Europe/Helsinki:20231229T000000
DTSTAMP:20260422T145114
CREATED:20231214T151124Z
LAST-MODIFIED:20231214T151912Z
UID:10000083-1703800800-1703808000@www.teatromercadante.com
SUMMARY:Gospel Show
DESCRIPTION:INGRESSO GRATUITO \nPRENOTAZIONE OBBLIGATORIA \nAccesso gratuito fino ad esaurimento posti esclusivamente previa prenotazione \na partire da 10 giorni prima della data dell’evento attraverso la piattaforma Eventbrite \nI posti non sono assegnati e si potrà prenotare a testa al massimo 3 posti. \n* * * * * * * * * * * * * * \nL’Assessora alla Cultura Angela Miglionico \nIl Sindaco prof. Vitantonio Petronella \n* * * * * * * * * * * * \nEvento promosso da \nComune di Altamura \nAssessorato alla Cultura \n* * * * * * * * * * * * \nDistribuzione \nReggio Iniziative Culturali
URL:https://www.teatromercadante.com/eventi/gospel-show/
CATEGORIES:Fuori abbonamento
ATTACH;FMTTYPE=image/jpeg:https://www.teatromercadante.com/wp-content/uploads/2023/12/IG.jpeg
END:VEVENT
END:VCALENDAR