BEGIN:VCALENDAR
VERSION:2.0
PRODID:-//Teatro Mercadante - ECPv6.15.20//NONSGML v1.0//EN
CALSCALE:GREGORIAN
METHOD:PUBLISH
X-WR-CALNAME:Teatro Mercadante
X-ORIGINAL-URL:https://www.teatromercadante.com
X-WR-CALDESC:Eventi per Teatro Mercadante
REFRESH-INTERVAL;VALUE=DURATION:PT1H
X-Robots-Tag:noindex
X-PUBLISHED-TTL:PT1H
BEGIN:VTIMEZONE
TZID:Europe/Helsinki
BEGIN:DAYLIGHT
TZOFFSETFROM:+0200
TZOFFSETTO:+0300
TZNAME:EEST
DTSTART:20220327T010000
END:DAYLIGHT
BEGIN:STANDARD
TZOFFSETFROM:+0300
TZOFFSETTO:+0200
TZNAME:EET
DTSTART:20221030T010000
END:STANDARD
BEGIN:DAYLIGHT
TZOFFSETFROM:+0200
TZOFFSETTO:+0300
TZNAME:EEST
DTSTART:20230326T010000
END:DAYLIGHT
BEGIN:STANDARD
TZOFFSETFROM:+0300
TZOFFSETTO:+0200
TZNAME:EET
DTSTART:20231029T010000
END:STANDARD
BEGIN:DAYLIGHT
TZOFFSETFROM:+0200
TZOFFSETTO:+0300
TZNAME:EEST
DTSTART:20240331T010000
END:DAYLIGHT
BEGIN:STANDARD
TZOFFSETFROM:+0300
TZOFFSETTO:+0200
TZNAME:EET
DTSTART:20241027T010000
END:STANDARD
END:VTIMEZONE
BEGIN:VEVENT
DTSTART;TZID=Europe/Helsinki:20231006T230000
DTEND;TZID=Europe/Helsinki:20231007T010000
DTSTAMP:20260422T174014
CREATED:20230621T193040Z
LAST-MODIFIED:20230906T111239Z
UID:10000063-1696633200-1696640400@www.teatromercadante.com
SUMMARY:Ascoltare i colori vedere i suoni
DESCRIPTION:  \n \nUn accordo totale tra suono e colore\, una pacificazione necessaria tra l’udito e la vista. La forza descrittiva della musica che attraverso il colore\, il gesto e la forma dell’espressione pittorica diventa impressione sonora\, composizione astratta\, partitura sinestetica. I colori si traducono in termini musicali e il suono prende colore\, la musica diviene materia da dipingere e il suono dirige schizzi\, punti e linee. Il risultato finale è una vera e propria partitura informale su tela da poter suonare\, ascoltare e guardare\, immergendosi in masse di musica e accordi di colore.
URL:https://www.teatromercadante.com/eventi/ascoltare-i-colori-vedere-i-suoni/
CATEGORIES:Rassegna "Rock & Jazz"
ATTACH;FMTTYPE=image/jpeg:https://www.teatromercadante.com/wp-content/uploads/2023/06/MONTENEGRO1-1.jpg
END:VEVENT
BEGIN:VEVENT
DTSTART;TZID=Europe/Helsinki:20231013T230000
DTEND;TZID=Europe/Helsinki:20231014T010000
DTSTAMP:20260422T174014
CREATED:20230621T193019Z
LAST-MODIFIED:20231007T082730Z
UID:10000064-1697238000-1697245200@www.teatromercadante.com
SUMMARY:Mediterranean avantgarde
DESCRIPTION:Il successo del debutto di AVA Trio\, Music from an Imaginary Land\, pubblicato nel 2017\, ha fatto entrare il gruppo nella classifica deiMiglior album d’esordio” per la National Public Radio (NPR) olandese\, l’americano All About Jazz e El Intruso International Jazz Critics. La band ha effettuato numerose tournée in Europa e in Cina. Con l’uscita del loro secondo album “Digging the Sand” nel novembre 2019\, la band ha continuato a scavare nell’immaginazione sonora e ad evitare i percorsi mainstream\, sviluppando sempre più un linguaggio che fonde l’antica tradizione delle makam con l’avanguardia europea. Nella prossima stagione\, AVA Trio si imbarca in una nuova ricerca di archeo-musicologia. Il nuovo EP “Ash” – uscito il 24 febbraio 2022 per l’etichetta olandese Tora Records – ritrae i suoni perduti delle antiche città di Cnosso e Pompei\, sepolte sotto la cenere vulcanica. La band è stata selezionata per l’importante l’European Jazz Showcase al Jazzahead 2023\, che si terrà a Brema\, Germania nell’aprile 2023.
URL:https://www.teatromercadante.com/eventi/mediterranean-avantgarde/
CATEGORIES:Rassegna "Rock & Jazz"
ATTACH;FMTTYPE=image/jpeg:https://www.teatromercadante.com/wp-content/uploads/2023/06/AVA-Trio-by-Jethro-Bijleveld-1.jpg
END:VEVENT
BEGIN:VEVENT
DTSTART;TZID=Europe/Helsinki:20231020T230000
DTEND;TZID=Europe/Helsinki:20231021T010000
DTSTAMP:20260422T174014
CREATED:20230621T193044Z
LAST-MODIFIED:20230906T083457Z
UID:10000065-1697842800-1697850000@www.teatromercadante.com
SUMMARY:All you need is love
DESCRIPTION:Le canzoni dei Beatles\, quelle più popolari\, sono da molti anni degli standard a partire dai quali musicisti di estrazione e vocazione diverse hanno ricavato arrangiamenti\, trascrizioni e variazioni di ogni sorta.\nIl rischio\, in casi del genere\, è duplice. Da un lato si può cedere alla tentazione di arrendersi alla cover\, in cambio del gradimento garantito dall’invenzione firmata Lennon – McCartney. Sull’altro versante\, si subiscono qualche volta operazioni velleitarie\, che in nome dell’originalità degli esiti perpetrano misfatti che di beatlesiano conservano poco o nulla. Felicemente in bilico tra l’uno e l’altro atteggiamento ed al riparo da qualsiasi estremo integralista\, il progetto costruito da Solis String Quartet con Sarah Jane Morris si caratterizza per credibilità dei presupposti e piacevolezza dei risultati\, nel rispetto della forza degli originali come pure dell’inevitabile esigenza di esprimere qualcosa di nuovo e stimolante. Nato da una traccia teatrale (lo spettacolo “Ho ucciso i Beatles”\, incentrato sul morboso rapporto che legò l’assassino di Lennon ai Fab Four)\, l’album/concerto “All you need is love” si mantiene leggermente sulla linea di confine tra classica e pop grazie alla rilettura musicale del Solis String Quartet che cerca e trova un mood sonoro e ritmico accattivante\, fuori dall’ordinario; quindi sfiora il jazz e il blues nelle atmosfere vocali evocate\, naturalmente\, da Sarah Jane Morris\, la cui prepotente cifra personale esclude ogni possibilità di “imitazione” passiva\, privilegiando al contrario un racconto di straordinaria e coinvolgente originalità.
URL:https://www.teatromercadante.com/eventi/all-you-need-is-love/
CATEGORIES:Rassegna "Rock & Jazz"
ATTACH;FMTTYPE=image/jpeg:https://www.teatromercadante.com/wp-content/uploads/2023/06/Sarah-Jane-MORRIS-1.jpg
END:VEVENT
BEGIN:VEVENT
DTSTART;TZID=Europe/Helsinki:20231021T230000
DTEND;TZID=Europe/Helsinki:20231022T010000
DTSTAMP:20260422T174014
CREATED:20230830T085154Z
LAST-MODIFIED:20230906T083556Z
UID:10000073-1697929200-1697936400@www.teatromercadante.com
SUMMARY:Tipi
DESCRIPTION:Dopo anni di successi in tv e in teatro con il famoso gruppo comico “Premiata Ditta”\, Roberto Ciufoli ha intrapreso una carriera di attore e regista che lo ha portato nei più importanti palcoscenici italiani. Il poliedrico artista romano sarà l’ospite d’onore del 20º Festival di Teatro Comico “Bombetta d’Oro”\, quale protagonista regista e autore del recital comico – antropologico “Tipi”. Roberto Ciufoli con la sua irresistibile comicità\, propone varie tipologie umane mostrando come una particolare caratteristica psicologica corrisponda ad un atteggiamento fisico ben preciso\, un modo di parlare e di scegliere le parole attraverso monologhi\, poesie\, scketch\, balli e canzoni in un esilarante percorso che spazia dallo sportivo all’indeciso\, dal timido al supereroe e al danzatore\, musicalmente supportato dalle vocalizzazioni sonore di David Barittoni.\nUn vero “multi-one man live show”!
URL:https://www.teatromercadante.com/eventi/tipi/
CATEGORIES:Festival "Bombetta d'Oro"
ATTACH;FMTTYPE=image/png:https://www.teatromercadante.com/wp-content/uploads/2023/08/Roberto_Ciufoli_Tipi-e1693392458927.png
END:VEVENT
BEGIN:VEVENT
DTSTART;TZID=Europe/Helsinki:20231027T230000
DTEND;TZID=Europe/Helsinki:20231028T010000
DTSTAMP:20260422T174014
CREATED:20230621T193045Z
LAST-MODIFIED:20230906T083634Z
UID:10000066-1698447600-1698454800@www.teatromercadante.com
SUMMARY:You Matter
DESCRIPTION:Il linguaggio musicale di Julie è un processo continuo che associa le sue riflessioni sul mondo all’innovazione musicale. All’inizio della sua carriera\, Julie è stata una delle pioniere dell’arpa jazz. Il suo viaggio attraverso l’improvvisazione\, la musica classica\, l’elettronica e la sperimentazione lo ha portata a sviluppare musica estremamente varia e sperimentale. La sua poliedricità\, arpista\, cantante\, compositrice e produttrice elettronica\, investe sempre la musica con urgenza e fragilità. Il Julie Campiche Quartet\, fondato nel 2016\, riunisce alcuni dei più promettenti musicisti svizzeri della sua generazione; Da questo è nato un set che si distingue per originalità e forte personalità. Il quartetto combina effetti elettronici con lo spazio acustico\, aggiunge suoni e campioni organici\, evolvendosi in forme a volte molto complesse. Il gruppo gestisce tutto questo alla perfezione. Come parte di un jazz attuale e progressivo\, ha creato la propria firma sonora. Il Julie Campiche Quartet torna con il suo secondo album “You Matter”. Un’opera innovativa\, un jazz d’avanguardia i cui fili conduttori sono intessuti dai suoni magici\, inaspettati e sensibili dell’arpa. Questa nuova musica porta con sé i cinque anni di esperienza che l’ensemble ha trascorso in viaggio. La band si è evoluta come una sola voce in un nuovo territorio visionario\, concettuale e intimo\, con arrangiamenti orchestrali più elaborati\, strumentazione più espressiva e strutture musicali e armoniche sempre più complesse.
URL:https://www.teatromercadante.com/eventi/you-matter/
CATEGORIES:Rassegna "Rock & Jazz"
ATTACH;FMTTYPE=image/jpeg:https://www.teatromercadante.com/wp-content/uploads/2023/06/Julie-Campiche-4tet-©Sophie-Le-Meillour_1-1.jpg
END:VEVENT
BEGIN:VEVENT
DTSTART;TZID=Europe/Helsinki:20231028T230000
DTEND;TZID=Europe/Helsinki:20231029T010000
DTSTAMP:20260422T174014
CREATED:20230831T150511Z
LAST-MODIFIED:20230906T083811Z
UID:10000074-1698534000-1698541200@www.teatromercadante.com
SUMMARY:Come fosse amore
DESCRIPTION:Quando le delusioni d’amore trovano sfogo in un rifiuto totale per il sentimento stesso\, come si può tornare ad amare? Tre donne\, totalmente differenti tra di loro\, fanno ricorso ad una terapeuta per riparare il loro cuore infranto\, ma nessuna di loro sa che anche la stessa terapeuta ha il cuore infranto. E allora come fare a far tornare la voglia di aprirsi al sentimento più importante della vita? Forse bisognerebbe scoprire quali sono i loro gusti e cercare “l’uomo ideale”. Riuscirà la nostra terapeuta a salvare le ragazze\, e anche se stessa\, e trovare la felicità?
URL:https://www.teatromercadante.com/eventi/come-fosse-amore/
CATEGORIES:Festival "Bombetta d'Oro"
ATTACH;FMTTYPE=image/jpeg:https://www.teatromercadante.com/wp-content/uploads/2023/08/Come-fosse-amore-e1693501398810.jpg
END:VEVENT
END:VCALENDAR