BEGIN:VCALENDAR
VERSION:2.0
PRODID:-//Teatro Mercadante - ECPv6.15.20//NONSGML v1.0//EN
CALSCALE:GREGORIAN
METHOD:PUBLISH
X-ORIGINAL-URL:https://www.teatromercadante.com
X-WR-CALDESC:Eventi per Teatro Mercadante
REFRESH-INTERVAL;VALUE=DURATION:PT1H
X-Robots-Tag:noindex
X-PUBLISHED-TTL:PT1H
BEGIN:VTIMEZONE
TZID:Europe/Helsinki
BEGIN:DAYLIGHT
TZOFFSETFROM:+0200
TZOFFSETTO:+0300
TZNAME:EEST
DTSTART:20220327T010000
END:DAYLIGHT
BEGIN:STANDARD
TZOFFSETFROM:+0300
TZOFFSETTO:+0200
TZNAME:EET
DTSTART:20221030T010000
END:STANDARD
BEGIN:DAYLIGHT
TZOFFSETFROM:+0200
TZOFFSETTO:+0300
TZNAME:EEST
DTSTART:20230326T010000
END:DAYLIGHT
BEGIN:STANDARD
TZOFFSETFROM:+0300
TZOFFSETTO:+0200
TZNAME:EET
DTSTART:20231029T010000
END:STANDARD
BEGIN:DAYLIGHT
TZOFFSETFROM:+0200
TZOFFSETTO:+0300
TZNAME:EEST
DTSTART:20240331T010000
END:DAYLIGHT
BEGIN:STANDARD
TZOFFSETFROM:+0300
TZOFFSETTO:+0200
TZNAME:EET
DTSTART:20241027T010000
END:STANDARD
END:VTIMEZONE
BEGIN:VEVENT
DTSTART;TZID=Europe/Helsinki:20230204T230000
DTEND;TZID=Europe/Helsinki:20230205T010000
DTSTAMP:20260423T061450
CREATED:20230220T151257Z
LAST-MODIFIED:20230403T143300Z
UID:10000021-1675551600-1675558800@www.teatromercadante.com
SUMMARY:Antonello Costa
DESCRIPTION:Un paio di d’ore di risate e leggerezza\, per farci “alleggerire”. Questa è la ricetta che il poliedrico comico siciliano propone nel suo nuovo spettacolo “C’è Costa per Te”. Una sorta di omaggio a Maria de Filippi\, indiscussa star della TV che con il suo format incentrato sul valore dei sentimenti\, da anni fa sorridere i cuori; e cosa c’è di più sano di una risata come farmaco naturale per il proprio benessere psicofisico? Antonello Costa vuole sottolinearlo nel suo nuovo varietà\, miscelando differenti linguaggi scenici e facendo reagire la tradizione dell’avanspettacolo con una comicità più “contemporanea”; uno show dal ritmo serrato ed incalzante dove l’Artista compone\, arrangia\, caratterizza\, coinvolge\, omaggia e dirige sketch\, gag\, parodie\, macchiette\, canzoni e balletti. Ad affiancarlo\, in questo percorso di ricerca e sperimentazione\, la sorella Annalisa\, soubrette e coreografa\, che da sempre lo accompagna con il suo corpo di ballo. Con “C’è Costa per Te”\, l’Artista\, fedele alla cifra che da sempre lo contraddistingue\, propone senza mai eccedere\, uno spettacolo armonico ed elegante\, adatto a tutta la famiglia. D’altronde\, come ci ricorda lo stesso Antonello: “Io scherzo sempre\, sono serio solo quando faccio ridere”.
URL:https://www.teatromercadante.com/eventi/antonello-costa/
CATEGORIES:Rassegna "Comi-città"
ATTACH;FMTTYPE=image/jpeg:https://www.teatromercadante.com/wp-content/uploads/2023/02/antonello-costa-e1684770016199.jpg
END:VEVENT
BEGIN:VEVENT
DTSTART;TZID=Europe/Helsinki:20230205T213000
DTEND;TZID=Europe/Helsinki:20230205T233000
DTSTAMP:20260423T061450
CREATED:20230306T143855Z
LAST-MODIFIED:20230403T143226Z
UID:10000035-1675632600-1675639800@www.teatromercadante.com
SUMMARY:Inaugurazione: Musiche dall'Europa
DESCRIPTION:Caratterizzato da alcune tra le più note pagine del romanticismo\, l’evento si aprirà con l’esecuzione del Concerto per Pianoforte e Orchestra in la minore di Grieg\, interpretato al pianoforte da Leonardo Colafelice\, per proseguire con la Peer Gynt Suite n. 1 e per concludere con le Danze Ungheresi di Brahms nn. 1 e 5.
URL:https://www.teatromercadante.com/eventi/inaugurazione-musiche-dalleuropa/
CATEGORIES:Fuori abbonamento
ATTACH;FMTTYPE=image/jpeg:https://www.teatromercadante.com/wp-content/uploads/2023/03/Leonardo-Colafelice-e1684770101486.jpg
END:VEVENT
BEGIN:VEVENT
DTSTART;TZID=Europe/Helsinki:20230212T213000
DTEND;TZID=Europe/Helsinki:20230212T233000
DTSTAMP:20260423T061450
CREATED:20230306T143952Z
LAST-MODIFIED:20230403T143155Z
UID:10000036-1676237400-1676244600@www.teatromercadante.com
SUMMARY:Viaggio in America
DESCRIPTION:Un omaggio alle sonorità\, ai ritmi e alle melodie del continente americano attraverso l’esecuzione e la reinterpretazione di brani di Astor Piazzolla\, Bob Dylan\, George Gershwin\, Antonio Carlos Jobim e molti altri.
URL:https://www.teatromercadante.com/eventi/viaggio-in-america/
CATEGORIES:Fuori abbonamento
ATTACH;FMTTYPE=image/jpeg:https://www.teatromercadante.com/wp-content/uploads/2023/03/Orchestra-Filarmonica-Pugliese.jpg
END:VEVENT
BEGIN:VEVENT
DTSTART;TZID=Europe/Helsinki:20230218T230000
DTEND;TZID=Europe/Helsinki:20230219T010000
DTSTAMP:20260423T061450
CREATED:20230220T152742Z
LAST-MODIFIED:20230403T143114Z
UID:10000024-1676761200-1676768400@www.teatromercadante.com
SUMMARY:Compagnia Krimisa di Cirò Marina (KR)
DESCRIPTION:Peppino è un bancario che vive con la moglie e suo fratello. A causa di debiti di gioco contratti con pericolosi usurai dal fratello Gigino\, si trova improvvisamente catapultato in una realtà inattesa\, mentre la moglie svampita e spensierata\, continua la sua frivola esistenza incurante di ciò che sta succedendo in casa. Le richieste degli usurai\, sempre più pressanti\, sono anche a conoscenza della padrona di casa\, che propone di aiutare il disgraziato Peppino proponendogli il denaro necessario alla soluzione dei suoi problemi in cambio di un rene. Peppino farà di tutto per ovviare a questa insana richiesta\, ma l’ultimatum degli strozzini è perentorio e\, pertanto\, convince Gigino a cedere il rene. Da questo momento\, una serie di colpi di scena stravolgeranno l’andamento della trama e lo spettatore si troverà coinvolto in una girandola di situazioni di grande comicità che porteranno a constatare che a volte\, ma anche spesso\, l’apparenza inganna.
URL:https://www.teatromercadante.com/eventi/compagnia-krimisa-di-ciro-marina-kr/
CATEGORIES:Festival "Bombetta d'Oro"
ATTACH;FMTTYPE=image/jpeg:https://www.teatromercadante.com/wp-content/uploads/2023/02/compagnia-krimisa.jpg
END:VEVENT
BEGIN:VEVENT
DTSTART;TZID=Europe/Helsinki:20230225T230000
DTEND;TZID=Europe/Helsinki:20230226T010000
DTSTAMP:20260423T061450
CREATED:20230220T152837Z
LAST-MODIFIED:20230403T143006Z
UID:10000025-1677366000-1677373200@www.teatromercadante.com
SUMMARY:I Ditelo Voi
DESCRIPTION:I Ditelo voi ovvero Francesco De Fraia\, Lello Ferrante e Mimmo Manfredi\, sono tre attori napoletani che raccontano la realtà quotidiana attraverso la magia dello spettacolo\, grazie ad un’originale\, surreale ed esilarante comicità. Dal teatro agli schermi televisivi\, il trio comico si è affermato per la personale interpretazione delle manie degli italiani grazie all’accattivante vena teatrale che da sempre li contraddistingue. Creatività\, surrealismo e improvvisazione\, questi i tre ingredienti di base dello spettacolo comico. Nel mondo de I Ditelo Voi si alternano sul palco situazioni più o meno possibili\, personaggi vecchi e nuovi\, dalle sembianze fumettistiche\, alcuni dei quali visti in note trasmissioni televisive (Made in Sud\, Colorado…) e tanto amati dal pubblico tra i quali i Gomorroidi\, i Preti\, i Vampiri e gli strambi condòmini di Tra-Sit.
URL:https://www.teatromercadante.com/eventi/i-ditelo-voi/
CATEGORIES:Festival "Bombetta d'Oro"
ATTACH;FMTTYPE=image/jpeg:https://www.teatromercadante.com/wp-content/uploads/2023/02/i-ditelo-voi-e1684770134225.jpg
END:VEVENT
BEGIN:VEVENT
DTSTART;TZID=Europe/Helsinki:20230226T213000
DTEND;TZID=Europe/Helsinki:20230226T233000
DTSTAMP:20260423T061450
CREATED:20230306T144117Z
LAST-MODIFIED:20230403T142836Z
UID:10000037-1677447000-1677454200@www.teatromercadante.com
SUMMARY:Chopin: Il pianismo romantico
DESCRIPTION:La sua interpretazione dei brani del compositore polacco più famoso al mondo l’ha portata in finale al Concorso Chopin di Varsavia\, una tra le competizioni pianistiche più prestigiose. In questo concerto vivremo assieme a lei la magia delle note di Fryderyk Chopin.
URL:https://www.teatromercadante.com/eventi/chopin-il-pianismo-romantico/
CATEGORIES:Fuori abbonamento
ATTACH;FMTTYPE=image/jpeg:https://www.teatromercadante.com/wp-content/uploads/2023/03/Leonora-Armellini.jpg
END:VEVENT
END:VCALENDAR