BEGIN:VCALENDAR
VERSION:2.0
PRODID:-//Teatro Mercadante - ECPv6.15.20//NONSGML v1.0//EN
CALSCALE:GREGORIAN
METHOD:PUBLISH
X-ORIGINAL-URL:https://www.teatromercadante.com
X-WR-CALDESC:Eventi per Teatro Mercadante
REFRESH-INTERVAL;VALUE=DURATION:PT1H
X-Robots-Tag:noindex
X-PUBLISHED-TTL:PT1H
BEGIN:VTIMEZONE
TZID:Europe/Helsinki
BEGIN:DAYLIGHT
TZOFFSETFROM:+0200
TZOFFSETTO:+0300
TZNAME:EEST
DTSTART:20220327T010000
END:DAYLIGHT
BEGIN:STANDARD
TZOFFSETFROM:+0300
TZOFFSETTO:+0200
TZNAME:EET
DTSTART:20221030T010000
END:STANDARD
BEGIN:DAYLIGHT
TZOFFSETFROM:+0200
TZOFFSETTO:+0300
TZNAME:EEST
DTSTART:20230326T010000
END:DAYLIGHT
BEGIN:STANDARD
TZOFFSETFROM:+0300
TZOFFSETTO:+0200
TZNAME:EET
DTSTART:20231029T010000
END:STANDARD
BEGIN:DAYLIGHT
TZOFFSETFROM:+0200
TZOFFSETTO:+0300
TZNAME:EEST
DTSTART:20240331T010000
END:DAYLIGHT
BEGIN:STANDARD
TZOFFSETFROM:+0300
TZOFFSETTO:+0200
TZNAME:EET
DTSTART:20241027T010000
END:STANDARD
END:VTIMEZONE
BEGIN:VEVENT
DTSTART;TZID=Europe/Helsinki:20230114T230000
DTEND;TZID=Europe/Helsinki:20230115T010000
DTSTAMP:20260423T074450
CREATED:20230220T150848Z
LAST-MODIFIED:20230404T120526Z
UID:10000017-1673737200-1673744400@www.teatromercadante.com
SUMMARY:Teatro Stabile Nisseno di Caltanissetta
DESCRIPTION:La “farsa” è un genere tanto nobile quanto ormai poco praticato in Italia\, rimane il punto\, però che è difficilissimo\, al limite dell’impossibilità tecnica: è roba da maschere\, da clown\, da performers abituati allo specifico. La forza fisica richiesta è notevolissima. Non parliamo della concentrazione e della ricerca. Il personaggio farsesco non molla mai\, non si eclissa mai\, non si nasconde mai. Ora il Teatro Stabile Nisseno torna alla farsa pura con questa esilarante versione monstre di farsa alla black comedy. Lontanamente ispirata ad alcuni classici anglofoni del genere (“Camere con Crimini”\, “Black Comedy”\, “Disaster Comedy”) ma sciacquati e rigenerati in chiave sicula\, vernacola e provocatoriamente proletaria. Una farsa affidata alla bravura indiscussa\, al talento\, all’esperienza unica di tre attori/interpreti/clown che si affidano alle follie di una meta-rappresentazione spericolata e spudorata. Con l’intento di ricongiungere lo spettatore alle risate dell’infanzia ed alla malinconia dell’adolescenza.
URL:https://www.teatromercadante.com/eventi/teatro-stabile-nisseno-di-caltanissetta/
CATEGORIES:Festival "Bombetta d'Oro"
ATTACH;FMTTYPE=image/jpeg:https://www.teatromercadante.com/wp-content/uploads/2023/02/teatro-stabile-nisseno.jpg
END:VEVENT
BEGIN:VEVENT
DTSTART;TZID=Europe/Helsinki:20230121T230000
DTEND;TZID=Europe/Helsinki:20230122T010000
DTSTAMP:20260423T074450
CREATED:20230220T151004Z
LAST-MODIFIED:20230404T120415Z
UID:10000018-1674342000-1674349200@www.teatromercadante.com
SUMMARY:Chiara Francini
DESCRIPTION:“Prima regola: perché la coppia aperta funzioni\, deve essere aperta da una parte sola\, quella del maschio! Perché… se la coppia aperta è aperta da tutte e due le parti… ci sono le correnti d’aria!”. Ironica quanto basta e sensuale quando vuole\, Chiara Francini si mette alla prova con un testo importante\, che celebra il ruolo della donna all’interno della coppia. L’energica Antonia incarna l’eroina perfetta di tutte le mogli tradite e racconta con ironia la loro “sopravvivenza” tra le mura domestiche. Pur di continuare a stare vicino al marito\, la protagonista decide di accettare l’impensabile. Così tra dialoghi e monologhi brillanti si snodano gli episodi più assurdi. Soltanto quando nel cuore di Antonia si insidia un nuovo uomo\, giovane e intelligente\, il marito sembra accorgersi dell’esistenza della moglie\, del suo essere donna\, del suo disperato bisogno di essere amata e considerata. Questa commedia è una favola tragicomica che racconta cosa vuol dire stare in coppia. Fo e Rame descrivono in modo perfetto con toni divertenti\, ma anche drammatici raccontando le differenze tra psicologia maschile e femminile. Tutti ci si riconoscono infatti “Coppia aperta… quasi spalancata” porta in scena la relativa insofferenza al concetto di monogamia. Rappresenta uno degli spettacoli più popolari in Italia. In Germania ha riscosso un tale successo da essere proposta in ben 30 teatri contemporaneamente.
URL:https://www.teatromercadante.com/eventi/chiara-francini/
CATEGORIES:Rassegna "Mettiamoci in prosa"
ATTACH;FMTTYPE=image/jpeg:https://www.teatromercadante.com/wp-content/uploads/2023/02/chiara-francini-e1684770337651.jpg
END:VEVENT
BEGIN:VEVENT
DTSTART;TZID=Europe/Helsinki:20230122T193000
DTEND;TZID=Europe/Helsinki:20230122T213000
DTSTAMP:20260423T074450
CREATED:20230220T151043Z
LAST-MODIFIED:20230404T120331Z
UID:10000019-1674415800-1674423000@www.teatromercadante.com
SUMMARY:Chiara Francini
DESCRIPTION:“Prima regola: perché la coppia aperta funzioni\, deve essere aperta da una parte sola\, quella del maschio! Perché… se la coppia aperta è aperta da tutte e due le parti… ci sono le correnti d’aria!”. Ironica quanto basta e sensuale quando vuole\, Chiara Francini si mette alla prova con un testo importante\, che celebra il ruolo della donna all’interno della coppia. L’energica Antonia incarna l’eroina perfetta di tutte le mogli tradite e racconta con ironia la loro “sopravvivenza” tra le mura domestiche. Pur di continuare a stare vicino al marito\, la protagonista decide di accettare l’impensabile. Così tra dialoghi e monologhi brillanti si snodano gli episodi più assurdi. Soltanto quando nel cuore di Antonia si insidia un nuovo uomo\, giovane e intelligente\, il marito sembra accorgersi dell’esistenza della moglie\, del suo essere donna\, del suo disperato bisogno di essere amata e considerata. Questa commedia è una favola tragicomica che racconta cosa vuol dire stare in coppia. Fo e Rame descrivono in modo perfetto con toni divertenti\, ma anche drammatici raccontando le differenze tra psicologia maschile e femminile. Tutti ci si riconoscono infatti “Coppia aperta… quasi spalancata” porta in scena la relativa insofferenza al concetto di monogamia. Rappresenta uno degli spettacoli più popolari in Italia. In Germania ha riscosso un tale successo da essere proposta in ben 30 teatri contemporaneamente.
URL:https://www.teatromercadante.com/eventi/chiara-francini-2/
CATEGORIES:Rassegna "Mettiamoci in prosa"
ATTACH;FMTTYPE=image/jpeg:https://www.teatromercadante.com/wp-content/uploads/2023/02/chiara-francini-e1684770337651.jpg
END:VEVENT
BEGIN:VEVENT
DTSTART;TZID=Europe/Helsinki:20230128T230000
DTEND;TZID=Europe/Helsinki:20230129T010000
DTSTAMP:20260423T074450
CREATED:20230220T151147Z
LAST-MODIFIED:20230404T120240Z
UID:10000020-1674946800-1674954000@www.teatromercadante.com
SUMMARY:Teatro Boni Produzioni
DESCRIPTION:È possibile condensare le 1600 pagine del romanzone di Tolstoj in un’opera teatrale divertente\, coinvolgente e con una sorpresa finale che non ti aspetti? Loro ci sono riusciti. Emilio Celata\, incastrato in un quadrato di luci\, dipinge il surrealismo ritmico dei tanti personaggi che girano intorno alla protagonista\, Anna Karenina; donna fuori di sé\, caparbiamente presente a sé stessa. La regia visionaria di Sandro Nardi crea atmosfere che tendono a mutare velocemente\, i pochissimi oggetti in scena stupiscono lo spettatore quando si trasformano in figure che accompagnano l’attore quasi a non volerlo lasciare solo dentro la scena. Il racconto è un insieme di impressioni che\, in un saliscendi di vortici intrecciati di surrealismo e verismo\, incarnano lo stile di scrittura degli autori. La narrazione non è certo lineare ma lo spettatore riuscirà comunque a uscirne indenne\, meravigliato e arricchito. Spettacolo che sta facendo impazzire il pubblico in tutta Italia!
URL:https://www.teatromercadante.com/eventi/teatro-boni-produzioni/
CATEGORIES:Festival "Bombetta d'Oro"
ATTACH;FMTTYPE=image/jpeg:https://www.teatromercadante.com/wp-content/uploads/2023/02/teatro-boni-produzioni.jpg
END:VEVENT
END:VCALENDAR