BEGIN:VCALENDAR
VERSION:2.0
PRODID:-//Teatro Mercadante - ECPv6.15.20//NONSGML v1.0//EN
CALSCALE:GREGORIAN
METHOD:PUBLISH
X-WR-CALNAME:Teatro Mercadante
X-ORIGINAL-URL:https://www.teatromercadante.com
X-WR-CALDESC:Eventi per Teatro Mercadante
REFRESH-INTERVAL;VALUE=DURATION:PT1H
X-Robots-Tag:noindex
X-PUBLISHED-TTL:PT1H
BEGIN:VTIMEZONE
TZID:Europe/Helsinki
BEGIN:DAYLIGHT
TZOFFSETFROM:+0200
TZOFFSETTO:+0300
TZNAME:EEST
DTSTART:20210328T010000
END:DAYLIGHT
BEGIN:STANDARD
TZOFFSETFROM:+0300
TZOFFSETTO:+0200
TZNAME:EET
DTSTART:20211031T010000
END:STANDARD
BEGIN:DAYLIGHT
TZOFFSETFROM:+0200
TZOFFSETTO:+0300
TZNAME:EEST
DTSTART:20220327T010000
END:DAYLIGHT
BEGIN:STANDARD
TZOFFSETFROM:+0300
TZOFFSETTO:+0200
TZNAME:EET
DTSTART:20221030T010000
END:STANDARD
BEGIN:DAYLIGHT
TZOFFSETFROM:+0200
TZOFFSETTO:+0300
TZNAME:EEST
DTSTART:20230326T010000
END:DAYLIGHT
BEGIN:STANDARD
TZOFFSETFROM:+0300
TZOFFSETTO:+0200
TZNAME:EET
DTSTART:20231029T010000
END:STANDARD
END:VTIMEZONE
BEGIN:VEVENT
DTSTART;TZID=Europe/Helsinki:20221119T230000
DTEND;TZID=Europe/Helsinki:20221120T010000
DTSTAMP:20260423T142433
CREATED:20230220T150123Z
LAST-MODIFIED:20230404T120857Z
UID:10000015-1668898800-1668906000@www.teatromercadante.com
SUMMARY:Comic Art di Frattaminore
DESCRIPTION:La commedia del 1881 di origine francese ha dato ispirazioni a numerosi riadattamenti tra i più conosciuti quello di Eduardo Scarpetta. Ci vengono narrate le vicende di Felice Sciosciammocca\, una delle maschere più frequenti e più caratteristiche nelle opere di Scarpetta\, e di sua moglie Amalia. I due coniugi litigano continuamente a causa di tanti quotidiani fraintendimenti\, a cominciare dall’invadente “scarfalietto” (lo scaldaletto) che tormenta le notti trascorse nel talamo nuziale. Intrighi\, equivoci\, giochi di parole e divertenti personaggi accompagneranno gli spettatori a ridere e riflettere su tante situazioni della quotidianità\, con la coppia di sposi che finirà in tribunale per una causa di separazione e con un finale inaspettato tra sogni e confessioni. “Lo scaldaletto” mantiene le arie\, la comicità e i temi dell’opera originaria\, ma con un brillante riadattamento in una chiave moderna.
URL:https://www.teatromercadante.com/eventi/comic-art-di-frattaminore/
CATEGORIES:Festival "Bombetta d'Oro"
ATTACH;FMTTYPE=image/jpeg:https://www.teatromercadante.com/wp-content/uploads/2023/02/comic-art.jpg
END:VEVENT
BEGIN:VEVENT
DTSTART;TZID=Europe/Helsinki:20221113T190000
DTEND;TZID=Europe/Helsinki:20221113T210000
DTSTAMP:20260423T142433
CREATED:20230220T150005Z
LAST-MODIFIED:20230404T121116Z
UID:10000014-1668366000-1668373200@www.teatromercadante.com
SUMMARY:Giovanni Esposito
DESCRIPTION:“A che servono questi quattrini” è una commedia di Armando Curcio messa in scena per la prima volta nel 1940 dalla compagnia dei De Filippo con grande successo di pubblico. La vicenda ruota intorno al Marchese Parascandolo detto il Professore che per dimostrare le sue teorie socratiche\, bizzarre e controcorrente\, ordisce un piano comicamente paradossale che svela l’inutilità del possesso del denaro. Il Marchese offre tutto il suo appoggio\, dando il suo sostegno speculativo\, a Vincenzino\, ricco solo del suo entusiasmo e della sua ingenuità\, e lo aiuta a capovolgere il suo destino di ultimo accompagnandolo in una rapidissima ascesa sociale. Una favola? Un sogno ad occhi aperti? Può darsi. Ma i temi dell’inutilità del denaro e della dannosità del lavoro\, benché calati nella realtà di due famiglie napoletane degli anni ’40\, una poverissima l’altra in apparenza arricchita\, riescono\, sul filo del paradosso\, a incuriosirci ad aprirci nella fantasia strade alternative e a divertirci. E forse proprio spingendo sul parossismo del gioco teatrale\, mostrato a vista\, e sull’assurda fiducia della variegata comunità coinvolta nel piano del Marchese Parascandolo\, si può\, con la scanzonata e creativa adesione degli attori e in un clima popolare e festoso\, relativizzare il potere dei “quattrini”\, valore-totem indiscusso\, che tutto muove oggi come allora.
URL:https://www.teatromercadante.com/eventi/giovanni-esposito-2/
CATEGORIES:Rassegna "Mettiamoci in prosa"
ATTACH;FMTTYPE=image/jpeg:https://www.teatromercadante.com/wp-content/uploads/2023/02/giovanni-esposito-e1684769979264.jpg
END:VEVENT
BEGIN:VEVENT
DTSTART;TZID=Europe/Helsinki:20221112T230000
DTEND;TZID=Europe/Helsinki:20221113T010000
DTSTAMP:20260423T142433
CREATED:20230220T144729Z
LAST-MODIFIED:20230404T121151Z
UID:10000013-1668294000-1668301200@www.teatromercadante.com
SUMMARY:Giovanni Esposito
DESCRIPTION:“A che servono questi quattrini” è una commedia di Armando Curcio messa in scena per la prima volta nel 1940 dalla compagnia dei De Filippo con grande successo di pubblico. La vicenda ruota intorno al Marchese Parascandolo detto il Professore che per dimostrare le sue teorie socratiche\, bizzarre e controcorrente\, ordisce un piano comicamente paradossale che svela l’inutilità del possesso del denaro. Il Marchese offre tutto il suo appoggio\, dando il suo sostegno speculativo\, a Vincenzino\, ricco solo del suo entusiasmo e della sua ingenuità\, e lo aiuta a capovolgere il suo destino di ultimo accompagnandolo in una rapidissima ascesa sociale. Una favola? Un sogno ad occhi aperti? Può darsi. Ma i temi dell’inutilità del denaro e della dannosità del lavoro\, benché calati nella realtà di due famiglie napoletane degli anni ’40\, una poverissima l’altra in apparenza arricchita\, riescono\, sul filo del paradosso\, a incuriosirci ad aprirci nella fantasia strade alternative e a divertirci. E forse proprio spingendo sul parossismo del gioco teatrale\, mostrato a vista\, e sull’assurda fiducia della variegata comunità coinvolta nel piano del Marchese Parascandolo\, si può\, con la scanzonata e creativa adesione degli attori e in un clima popolare e festoso\, relativizzare il potere dei “quattrini”\, valore-totem indiscusso\, che tutto muove oggi come allora.
URL:https://www.teatromercadante.com/eventi/giovanni-esposito/
CATEGORIES:Rassegna "Mettiamoci in prosa"
ATTACH;FMTTYPE=image/jpeg:https://www.teatromercadante.com/wp-content/uploads/2023/02/giovanni-esposito-e1684769979264.jpg
END:VEVENT
BEGIN:VEVENT
DTSTART;TZID=Europe/Helsinki:20221028T230000
DTEND;TZID=Europe/Helsinki:20221029T010000
DTSTAMP:20260423T142433
CREATED:20230220T144625Z
LAST-MODIFIED:20230404T121354Z
UID:10000012-1666998000-1667005200@www.teatromercadante.com
SUMMARY:Faber Musicae
DESCRIPTION:L’esperienza È un progetto nato in occasione delle attività\, organizzate dalla Provincia di Cosenza\, in ricordo di De Andrè: “Le Nuvole di De Andrè” e che coinvolge un gruppo di musicisti di formazione tanto solida quanto varia\, provenienti dagli ambiti della classica\, del jazz\, della world music. Grazie ad un lavoro collettivo sono state riarrangiate alcune tra le più famose canzoni del cantautore genovese che\, a vario titolo\, fanno parte del nostro immaginario e della nostra storia. L’adozione di varie tecniche di orchestrazione e il gusto per lo stravolgimento ritmico caratterizzano il lavoro svolto dal gruppo\, che ha mantenuto integralmente i testi pur facendoli rivivere attraverso l’interpretazione del cantante/attore Alessandro Castriota Scanderbeg. I musicisti interpretano Il Pescatore\, La Canzone di Marinella\, Don Raffaè e altre\, guardandole con occhio nuovo\, anzi con orecchio nuovo.
URL:https://www.teatromercadante.com/eventi/faber-musicae/
CATEGORIES:Rassegna "Rock & Jazz"
ATTACH;FMTTYPE=image/jpeg:https://www.teatromercadante.com/wp-content/uploads/2023/02/faber-musicae.jpg
END:VEVENT
BEGIN:VEVENT
DTSTART;TZID=Europe/Helsinki:20221023T203000
DTEND;TZID=Europe/Helsinki:20221023T223000
DTSTAMP:20260423T142433
CREATED:20230220T144042Z
LAST-MODIFIED:20230404T121713Z
UID:10000011-1666557000-1666564200@www.teatromercadante.com
SUMMARY:La Banda degli onesti
DESCRIPTION:Cosa succederebbe se scomparisse internet in tutto il mondo? Da questa inquietante domanda parte una vicenda surreale\, i cui protagonisti sono Fede e Chiara una coppia iper-digitale che dipende dalla tecnologia\, come la maggior parte di noi. Dopo questo inspiegabile black-out della rete\, la disperazione li assale e arrivano persino ad uno scontro verbale con Augusto\, un avventore di un bar\, “reo” di condurre una vita esattamente all’opposto: senza tecnologia. Da qui inizia una sorta di “viaggio nel tempo” che li porterà fino a quando il mondo digitale non esisteva\, e si giocava a… “Un\, due\, tre… Stella!” A disturbare le loro conversazioni sarà Angelo\, un cameriere scorbutico e stralunato\, che porterà un pizzico di trascendente in questa vicenda grottesca. Ma quale sarà il vero motivo della scomparsa di internet? Lo scoprirete in questa commedia brillante\, dall’umorismo raffinato e con riferimenti nostalgici che faranno ridere ed emozionare\, con un finale sorprendente.
URL:https://www.teatromercadante.com/eventi/la-banda-degli-onesti/
CATEGORIES:Festival "Bombetta d'Oro"
ATTACH;FMTTYPE=image/jpeg:https://www.teatromercadante.com/wp-content/uploads/2023/02/la-banda-degli-onesti.jpg
END:VEVENT
BEGIN:VEVENT
DTSTART;TZID=Europe/Helsinki:20221022T230000
DTEND;TZID=Europe/Helsinki:20221023T010000
DTSTAMP:20260423T142433
CREATED:20230220T144024Z
LAST-MODIFIED:20230404T121806Z
UID:10000010-1666479600-1666486800@www.teatromercadante.com
SUMMARY:La Banda degli onesti
DESCRIPTION:Cosa succederebbe se scomparisse internet in tutto il mondo? Da questa inquietante domanda parte una vicenda surreale\, i cui protagonisti sono Fede e Chiara una coppia iper-digitale che dipende dalla tecnologia\, come la maggior parte di noi. Dopo questo inspiegabile black-out della rete\, la disperazione li assale e arrivano persino ad uno scontro verbale con Augusto\, un avventore di un bar\, “reo” di condurre una vita esattamente all’opposto: senza tecnologia. Da qui inizia una sorta di “viaggio nel tempo” che li porterà fino a quando il mondo digitale non esisteva\, e si giocava a… “Un\, due\, tre… Stella!” A disturbare le loro conversazioni sarà Angelo\, un cameriere scorbutico e stralunato\, che porterà un pizzico di trascendente in questa vicenda grottesca. Ma quale sarà il vero motivo della scomparsa di internet? Lo scoprirete in questa commedia brillante\, dall’umorismo raffinato e con riferimenti nostalgici che faranno ridere ed emozionare\, con un finale sorprendente.
URL:https://www.teatromercadante.com/eventi/la-banda-deglio-onesti/
CATEGORIES:Festival "Bombetta d'Oro"
ATTACH;FMTTYPE=image/jpeg:https://www.teatromercadante.com/wp-content/uploads/2023/02/la-banda-degli-onesti.jpg
END:VEVENT
BEGIN:VEVENT
DTSTART;TZID=Europe/Helsinki:20221021T230000
DTEND;TZID=Europe/Helsinki:20221022T010000
DTSTAMP:20260423T142433
CREATED:20230220T143926Z
LAST-MODIFIED:20230404T122225Z
UID:10000009-1666393200-1666400400@www.teatromercadante.com
SUMMARY:Antonio Dambrosio 6et
DESCRIPTION:Mettendo al centro dell’attenzione da un lato tematiche relative all’immigrazione e al disagio sociale\, interpretate come pagine dolorose della storia passata e presente\, dall’altro parole di speranza\, tramite testi di autori come Edmondo De Amicis\, Pier Paolo Pasolini\, Gezim Hajdari\, Toshiro\, oltre che ad una rielaborazione musicale di “Lili Marleen”\, il progetto torna a riflettere sui momenti più bui della storia dell’umanità. Attraverso linguaggi musicali differenti che rappresentano diversi contesti culturali\, dal Jazz al popolare alla musica contemporanea\, il progetto vuole raccontare\, da un punto di vista “sonoro”\, i reiterati “disonori” nel corso della storia\, e allo stesso tempo dare in “Un attimo” parole di speranza.
URL:https://www.teatromercadante.com/eventi/antonio-dambrosio-6et/
CATEGORIES:Rassegna "Rock & Jazz"
ATTACH;FMTTYPE=image/jpeg:https://www.teatromercadante.com/wp-content/uploads/2023/02/antonio-dambrosio-6et.jpg
END:VEVENT
BEGIN:VEVENT
DTSTART;TZID=Europe/Helsinki:20221007T230000
DTEND;TZID=Europe/Helsinki:20221008T010000
DTSTAMP:20260423T142433
CREATED:20230220T143813Z
LAST-MODIFIED:20230404T122328Z
UID:10000008-1665183600-1665190800@www.teatromercadante.com
SUMMARY:Livio Minafra
DESCRIPTION:«Quella di Livio Minafra ė una musica di scambio e contaminazione\, ricca di echi orientali\, di contenuti minimalistici\, dai rimandi etnici\, definirla jazzistica può starci ma per certi versi è definizione limitativa. Certo ė che l’improvvisazione\, l’istantaneità ne rimangono le travi portanti» dice di lui il giornalista Amedeo Furfaro.
URL:https://www.teatromercadante.com/eventi/livio-minafra/
CATEGORIES:Rassegna "Rock & Jazz"
ATTACH;FMTTYPE=image/jpeg:https://www.teatromercadante.com/wp-content/uploads/2023/02/livio-minafra.jpg
END:VEVENT
BEGIN:VEVENT
DTSTART;TZID=Europe/Helsinki:20220925T213000
DTEND;TZID=Europe/Helsinki:20220925T233000
DTSTAMP:20260423T142433
CREATED:20230220T143721Z
LAST-MODIFIED:20230404T122407Z
UID:10000007-1664141400-1664148600@www.teatromercadante.com
SUMMARY:Antonella Ruggiero Duo
DESCRIPTION:In occasione della partecipazione al Festival della canzone italiana di Sanremo 2007 con il brano “Canzone fra le guerre”\, Antonella Ruggiero pubblicò il suo nuovo album “Souvenir d’Italie”\, risultato di un progetto con il quale l’interprete genovese ha avuto modo di reinterpretare in concerto\, nel corso dell’estate 2006\, alcuni dei brani più significativi composti dal 1915 al 1945. Il lavoro di Antonella Ruggiero è stato volto a recuperare e valorizzare la chiave jazzistica delle canzoni\, con la direzione musicale di Renzo Ruggieri alla fisarmonica. Questo repertorio viene arricchito dalla reinterpretazione di brani portati al successo nel corso degli anni\, tratti dal periodo con i Matia Bazar (1975-1989) e di quello relativo alla sua attività solistica (1996-2022). La rivisitazione musicale proposta\, con l’accompagnamento di Renzo Ruggieri alla fisarmonica\, è sicuramente innovativa e ricca di fascino.
URL:https://www.teatromercadante.com/eventi/antonella-ruggiero-duo/
CATEGORIES:Rassegna "Rock & Jazz"
ATTACH;FMTTYPE=image/jpeg:https://www.teatromercadante.com/wp-content/uploads/2023/02/antonella-ruggiero.jpg
END:VEVENT
END:VCALENDAR