BEGIN:VCALENDAR
VERSION:2.0
PRODID:-//Teatro Mercadante - ECPv6.15.20//NONSGML v1.0//EN
CALSCALE:GREGORIAN
METHOD:PUBLISH
X-ORIGINAL-URL:https://www.teatromercadante.com
X-WR-CALDESC:Eventi per Teatro Mercadante
REFRESH-INTERVAL;VALUE=DURATION:PT1H
X-Robots-Tag:noindex
X-PUBLISHED-TTL:PT1H
BEGIN:VTIMEZONE
TZID:Europe/Helsinki
BEGIN:DAYLIGHT
TZOFFSETFROM:+0200
TZOFFSETTO:+0300
TZNAME:EEST
DTSTART:20250330T010000
END:DAYLIGHT
BEGIN:STANDARD
TZOFFSETFROM:+0300
TZOFFSETTO:+0200
TZNAME:EET
DTSTART:20251026T010000
END:STANDARD
BEGIN:DAYLIGHT
TZOFFSETFROM:+0200
TZOFFSETTO:+0300
TZNAME:EEST
DTSTART:20260329T010000
END:DAYLIGHT
BEGIN:STANDARD
TZOFFSETFROM:+0300
TZOFFSETTO:+0200
TZNAME:EET
DTSTART:20261025T010000
END:STANDARD
BEGIN:DAYLIGHT
TZOFFSETFROM:+0200
TZOFFSETTO:+0300
TZNAME:EEST
DTSTART:20270328T010000
END:DAYLIGHT
BEGIN:STANDARD
TZOFFSETFROM:+0300
TZOFFSETTO:+0200
TZNAME:EET
DTSTART:20271031T010000
END:STANDARD
END:VTIMEZONE
BEGIN:VEVENT
DTSTART;TZID=Europe/Helsinki:20260221T210000
DTEND;TZID=Europe/Helsinki:20260221T230000
DTSTAMP:20260423T195158
CREATED:20250721T110533Z
LAST-MODIFIED:20251018T104203Z
UID:10000182-1771707600-1771714800@www.teatromercadante.com
SUMMARY:Antonio Grosso "Minchia signor tenente"
DESCRIPTION:In Minchia Signor Tenente ci troviamo in Sicilia nel 1992\, in un piccolo paesino c’è una caserma dei carabinieri\, posta su un cucuzzolo di una montagna. I nostri militari (ognuno proveniente da una regione diversa italiana) affrontano la quotidianità del paesino oramai in cui la cosa che turbe di più la gente del porto è il ladro di galline (una volpe!) Tra sfottò\, paradossi\, un matto che denuncia sempre cose impossibili e situazioni personali (uno dei militari è fidanzato con una ragazza del porto e la legge lo vieta) i ragazzi si sentono parte comune di una famigli\, un’unica famiglia. L’arrivo di un tenente destabilizzerà l’unione dei 5 carabinieri. Signor tenente è la commedia che negli ultimi 20 anni\, si parla di mafia ma in maniera totalmente ironica e originale\, facendo si che la risata porti alla riflessione\, ma soprattutto al nodo di porsi verso le ingiustizie per far sì che ognuno di noi\, possa avere uno sguardo dritto senza mai voltarsi\, affrontando con coraggio e leggerezza tutto ciò che la vita ci offre. \nNOTE DI REGIA \nLa regia si propone di rappresentare al meglio il rapporto di quotidianità che accompagna i protagonisti\, vittime di quell’Italia del primi anni Novanta\, in cui morte o distruzione rappresentavano il paese. La comicità dello spettacolo è esilarante\, travolgente\, originale a tradizionalista\, alternando momenti di leggerezza a riflessioni profonde sulla realtà della mafia\, descritta come una “polvere” che\, nonostante gli sforzi per eliminarla\, ritorna e si annida nuovamente negli stessi luoghi. Il titolo dello spettacolo richiama L’espressione amara “Minchia Signor Tenente”\, detta tra i denti perché urlarla significherebbe insubordinazione\, ma tacerla equivarrebbe ad arrendersi alle gerarchie oppressive e al male del mondo. Il tema della legalità è trattato dal punto di vista degli uomini che non fanno notizia\, in un’ottica tragicomica\, rappresentati nella loro quotidianità fatta di momenti belli e brutti\, seriosi e divertenti\, di amore e di passioni.
URL:https://www.teatromercadante.com/eventi/antonio-grosso/
CATEGORIES:Festival "Bombetta d'Oro"
ATTACH;FMTTYPE=image/jpeg:https://www.teatromercadante.com/wp-content/uploads/2025/07/Grosso.jpg
END:VEVENT
END:VCALENDAR