BEGIN:VCALENDAR
VERSION:2.0
PRODID:-//Teatro Mercadante - ECPv6.15.20//NONSGML v1.0//EN
CALSCALE:GREGORIAN
METHOD:PUBLISH
X-WR-CALNAME:Teatro Mercadante
X-ORIGINAL-URL:https://www.teatromercadante.com
X-WR-CALDESC:Eventi per Teatro Mercadante
REFRESH-INTERVAL;VALUE=DURATION:PT1H
X-Robots-Tag:noindex
X-PUBLISHED-TTL:PT1H
BEGIN:VTIMEZONE
TZID:Europe/Helsinki
BEGIN:DAYLIGHT
TZOFFSETFROM:+0200
TZOFFSETTO:+0300
TZNAME:EEST
DTSTART:20250330T010000
END:DAYLIGHT
BEGIN:STANDARD
TZOFFSETFROM:+0300
TZOFFSETTO:+0200
TZNAME:EET
DTSTART:20251026T010000
END:STANDARD
BEGIN:DAYLIGHT
TZOFFSETFROM:+0200
TZOFFSETTO:+0300
TZNAME:EEST
DTSTART:20260329T010000
END:DAYLIGHT
BEGIN:STANDARD
TZOFFSETFROM:+0300
TZOFFSETTO:+0200
TZNAME:EET
DTSTART:20261025T010000
END:STANDARD
BEGIN:DAYLIGHT
TZOFFSETFROM:+0200
TZOFFSETTO:+0300
TZNAME:EEST
DTSTART:20270328T010000
END:DAYLIGHT
BEGIN:STANDARD
TZOFFSETFROM:+0300
TZOFFSETTO:+0200
TZNAME:EET
DTSTART:20271031T010000
END:STANDARD
END:VTIMEZONE
BEGIN:VEVENT
DTSTART;TZID=Europe/Helsinki:20260131T210000
DTEND;TZID=Europe/Helsinki:20260131T230000
DTSTAMP:20260423T194936
CREATED:20250624T190004Z
LAST-MODIFIED:20251016T164352Z
UID:10000151-1769893200-1769900400@www.teatromercadante.com
SUMMARY:Paolo Caiazzo\, Antonello Costa "UN PONTE PER 2"
DESCRIPTION:In piena notte\, sul Tower Bridge di Londra\, un uomo in frac scavalca il parapetto per buttarsi nelle gelide acque del Tamigi. E’ quasi sul punto di lanciarsi quando un passante lo ferma e tenta di dissuaderlo. Entrambi sono emigranti italiani e l’aspirante suicida decide di sospendere l’atto per raccontare la sua disperazione. Antonello di origini siciliane\, da 10 anni ha aperto una Rosticceria specializzata in Arancini\, ma il vizio del gioco lo ha indebitato a tal punto da essere minacciato dagli strozzini londinesi. Non vedendo una via di uscita decide di sacrificare la sua vita per salvare la famiglia. Paolo invece\, napoletano di nascita\, si è trasferito qualche anno prima nella capitale inglese aprendo una succursale di una storica pizzeria di famiglia. Anche lui ha problemi economici\, sentimentali e di famiglia ed esponendoli al connazionale si rende conto che\, forse\, ha più motivazioni dell’altro e decide così di scavalcare il parapetto. La situazione si ribalta ma Antonello non  riesce a far desistere l’altro fino a quando l’arrivo di due poliziotti di ronda intimorisce Paolo che rientra nei margini di sicurezza. Una volta allontanati i poliziotti decidono di tuffarsi insieme\, ma con calma. Vale la pena di cogliere l’occasione e di continuare quella piacevole ed “ultima” chiacchierata. Si confessano così in maniera sincera e profonda e\, per esorcizzare le proprie disgrazie\, le raccontano come una esilarante gara di sfiga. Il rintocco del Big Ben segna il passare del tempo e l’appetito richiede la chiamata ad un rider\, anche e solo per il capriccio di voler morire a stomaco pieno! Ad interrompere puntualmente i vari tentativi di suicidio ci saranno irruzioni di una serie di personaggi\, stranamente somiglianti tra loro fino all’arrivo un’influencer decisa a riprendere il suicidio per un botto di visualizzazioni.
URL:https://www.teatromercadante.com/eventi/paolo-caiazzo-antonello-costa/
CATEGORIES:Rassegna "Mettiamoci in prosa"
ATTACH;FMTTYPE=image/jpeg:https://www.teatromercadante.com/wp-content/uploads/2025/06/Foto-scaled-e1760632973483.jpg
END:VEVENT
END:VCALENDAR