BEGIN:VCALENDAR
VERSION:2.0
PRODID:-//Teatro Mercadante - ECPv6.15.20//NONSGML v1.0//EN
CALSCALE:GREGORIAN
METHOD:PUBLISH
X-ORIGINAL-URL:https://www.teatromercadante.com
X-WR-CALDESC:Eventi per Teatro Mercadante
REFRESH-INTERVAL;VALUE=DURATION:PT1H
X-Robots-Tag:noindex
X-PUBLISHED-TTL:PT1H
BEGIN:VTIMEZONE
TZID:Europe/Helsinki
BEGIN:DAYLIGHT
TZOFFSETFROM:+0200
TZOFFSETTO:+0300
TZNAME:EEST
DTSTART:20250330T010000
END:DAYLIGHT
BEGIN:STANDARD
TZOFFSETFROM:+0300
TZOFFSETTO:+0200
TZNAME:EET
DTSTART:20251026T010000
END:STANDARD
BEGIN:DAYLIGHT
TZOFFSETFROM:+0200
TZOFFSETTO:+0300
TZNAME:EEST
DTSTART:20260329T010000
END:DAYLIGHT
BEGIN:STANDARD
TZOFFSETFROM:+0300
TZOFFSETTO:+0200
TZNAME:EET
DTSTART:20261025T010000
END:STANDARD
BEGIN:DAYLIGHT
TZOFFSETFROM:+0200
TZOFFSETTO:+0300
TZNAME:EEST
DTSTART:20270328T010000
END:DAYLIGHT
BEGIN:STANDARD
TZOFFSETFROM:+0300
TZOFFSETTO:+0200
TZNAME:EET
DTSTART:20271031T010000
END:STANDARD
END:VTIMEZONE
BEGIN:VEVENT
DTSTART;TZID=Europe/Helsinki:20260125T183000
DTEND;TZID=Europe/Helsinki:20260125T200000
DTSTAMP:20260424T042413
CREATED:20250624T190037Z
LAST-MODIFIED:20260122T181104Z
UID:10000161-1769365800-1769371200@www.teatromercadante.com
SUMMARY:Herbert Ballerina
DESCRIPTION:Si informa che lo spettacolo di Herbert Ballerina\, previsto per Domenica 25 Gennaio\, è stato rimandato a Sabato 16 Maggio\, per motivi non dipendenti dal teatro.\nI possessori degli abbonamenti Comi-città e Pacchetto Mercadante avranno diritto ad assistere alla nuova data dello spettacolo automaticamente e non dovranno fare nulla.\nMentre i possessori dei biglietti che vorranno chiedere il rimborso\, dovranno farlo entro e non oltre il 19 Febbraio 2026 e dovranno attenersi alle seguenti indicazioni: \n\nBiglietti acquistati al Box office del teatro – è possibile richiedere il rimborso o l’emissione di un buono equivalente\, previo appuntamento da concordare contattando il +390803101222\,\nBiglietti acquistati online – saranno rimborsati esclusivamente facendo richiesta direttamente a Vivaticket.\nBiglietti acquistati in altre rivendite – saranno rimborsati esclusivamente facendo richiesta alla rivendita di acquisto.\n\nColoro che non intendono chiedere il rimborso del biglietto\, potranno accedere alla nuova data dello spettacolo col medesimo biglietto\, senza alcuna sostituzione.\nCi scusiamo per il disagio occorso non dipeso dalla ns. volontà e ringraziamo il pubblico per la comprensione.
URL:https://www.teatromercadante.com/eventi/herbert-ballerina/
CATEGORIES:Rassegna "Comi-città"
ATTACH;FMTTYPE=image/jpeg:https://www.teatromercadante.com/wp-content/uploads/2025/06/Ballerina-rinviato-scaled-e1769105454843.jpg
END:VEVENT
END:VCALENDAR