BEGIN:VCALENDAR
VERSION:2.0
PRODID:-//Teatro Mercadante - ECPv6.15.20//NONSGML v1.0//EN
CALSCALE:GREGORIAN
METHOD:PUBLISH
X-WR-CALNAME:Teatro Mercadante
X-ORIGINAL-URL:https://www.teatromercadante.com
X-WR-CALDESC:Eventi per Teatro Mercadante
REFRESH-INTERVAL;VALUE=DURATION:PT1H
X-Robots-Tag:noindex
X-PUBLISHED-TTL:PT1H
BEGIN:VTIMEZONE
TZID:Europe/Helsinki
BEGIN:DAYLIGHT
TZOFFSETFROM:+0200
TZOFFSETTO:+0300
TZNAME:EEST
DTSTART:20240331T010000
END:DAYLIGHT
BEGIN:STANDARD
TZOFFSETFROM:+0300
TZOFFSETTO:+0200
TZNAME:EET
DTSTART:20241027T010000
END:STANDARD
BEGIN:DAYLIGHT
TZOFFSETFROM:+0200
TZOFFSETTO:+0300
TZNAME:EEST
DTSTART:20250330T010000
END:DAYLIGHT
BEGIN:STANDARD
TZOFFSETFROM:+0300
TZOFFSETTO:+0200
TZNAME:EET
DTSTART:20251026T010000
END:STANDARD
BEGIN:DAYLIGHT
TZOFFSETFROM:+0200
TZOFFSETTO:+0300
TZNAME:EEST
DTSTART:20260329T010000
END:DAYLIGHT
BEGIN:STANDARD
TZOFFSETFROM:+0300
TZOFFSETTO:+0200
TZNAME:EET
DTSTART:20261025T010000
END:STANDARD
END:VTIMEZONE
BEGIN:VEVENT
DTSTART;TZID=Europe/Helsinki:20251221T193000
DTEND;TZID=Europe/Helsinki:20251221T230000
DTSTAMP:20260424T074823
CREATED:20250624T190036Z
LAST-MODIFIED:20251017T162037Z
UID:10000176-1766345400-1766358000@www.teatromercadante.com
SUMMARY:Pastor Ron "GOSPEL SHOW"
DESCRIPTION:La formazione ha fatto il suo debutto in Italia nel 2010 riscuotendo un clamoroso successo di pubblico e critica. Lo spettacolo vede come protagonista l’esilarante Pastor Ronald Hubbard\, una delle figure più conosciute e carismatiche nel panorama gospel. Un personaggio che ha saputo incantare anche il pubblico italiano con la sua personalità strabordante e coinvolgente. Pastor Ron e il suo gruppo si sono esibiti su prestigiosi palcoscenici\, letteralmente ammaliando ogni genere di pubblico. II repertorio presentato spazia a 360 fra il gospel tradizionale e quello contemporaneo: un vero e proprio viaggio\, dalle origini\, allo spiritual\, per arrivare alle versioni più moderne e scatenate di incredibile genere musicale. Oltre a una sezione interamente dedicata al Natale\, il programma include anche diversi brani composti dallo stesso Pastor Ron. Accanto al Pastore Ron sul palco\, 6 artisti fra cantanti e band: voci potenti e vellutate in pieno stile BLACK. Una miscela esplosiva\, un affiatamento collaudato in anni di tournée\, una presa diretta e immediata sul pubblico! Due ore di musica gospel TOP LEVEL in cui si inseriscono elementi di comicità e umorismo che trascineranno letteralmente lo spettatore in un vortice di sano divertimento! I concerti i Pastor Ron non possono essere descritti a parole: si tratta di una vera propria ‘GOSPEL EXPERIENCE’ in cui lo spettatore è coinvolto sin dalle prime note. \nDottor Ronald Ixaac Hubbard (Pastor Ron) \nE’ conosciuto come “Triple Man” che significa non solo che è in grado di cantare\, ballare e recitare\, ma che è guidato e ispirato dalla più forte Trinità: dal Padre\, dal Figlio e dallo Spirito Santo. Ron è fermamente convinto che vi siano tanti modi per divulgare la Parola di Gesù Cristo\, soprattutto con sincero e sano umorismo: questo è il modo con cui lavora. La sua personalità è “straripante”\, il suo umorismo è esplosivo e contagioso: trascinando tutto e tutti nel suo moto dirompente\, Ron arriva diretto al cuore delle persone! La sua esperienza in campo teatrale è estesa e varia. I suoi studi presso la famosissima Interlochen Music Academy e presso il Cleveland Institute of Music si riflettono nella sua persistenza nell’eccellenza\, sia come solista che in gruppo. In Italia Pastor Ron è divenuto ormai un personaggio famoso ed è molto amato.
URL:https://www.teatromercadante.com/eventi/pastor-ron/
CATEGORIES:Stagione concertistica
ATTACH;FMTTYPE=image/jpeg:https://www.teatromercadante.com/wp-content/uploads/2025/06/Pastor-Ron.jpg
END:VEVENT
END:VCALENDAR