BEGIN:VCALENDAR
VERSION:2.0
PRODID:-//Teatro Mercadante - ECPv6.15.20//NONSGML v1.0//EN
CALSCALE:GREGORIAN
METHOD:PUBLISH
X-ORIGINAL-URL:https://www.teatromercadante.com
X-WR-CALDESC:Eventi per Teatro Mercadante
REFRESH-INTERVAL;VALUE=DURATION:PT1H
X-Robots-Tag:noindex
X-PUBLISHED-TTL:PT1H
BEGIN:VTIMEZONE
TZID:Europe/Helsinki
BEGIN:DAYLIGHT
TZOFFSETFROM:+0200
TZOFFSETTO:+0300
TZNAME:EEST
DTSTART:20240331T010000
END:DAYLIGHT
BEGIN:STANDARD
TZOFFSETFROM:+0300
TZOFFSETTO:+0200
TZNAME:EET
DTSTART:20241027T010000
END:STANDARD
BEGIN:DAYLIGHT
TZOFFSETFROM:+0200
TZOFFSETTO:+0300
TZNAME:EEST
DTSTART:20250330T010000
END:DAYLIGHT
BEGIN:STANDARD
TZOFFSETFROM:+0300
TZOFFSETTO:+0200
TZNAME:EET
DTSTART:20251026T010000
END:STANDARD
BEGIN:DAYLIGHT
TZOFFSETFROM:+0200
TZOFFSETTO:+0300
TZNAME:EEST
DTSTART:20260329T010000
END:DAYLIGHT
BEGIN:STANDARD
TZOFFSETFROM:+0300
TZOFFSETTO:+0200
TZNAME:EET
DTSTART:20261025T010000
END:STANDARD
END:VTIMEZONE
BEGIN:VEVENT
DTSTART;TZID=Europe/Helsinki:20251116T183000
DTEND;TZID=Europe/Helsinki:20251116T203000
DTSTAMP:20260424T092757
CREATED:20250624T190057Z
LAST-MODIFIED:20250926T083018Z
UID:10000163-1763317800-1763325000@www.teatromercadante.com
SUMMARY:Samuel Peron\, Veera Kinnunen "HISTORIA"
DESCRIPTION:Lo spettacolo\, ideato dal maestro Daniele Bocchini\, prodotto da TGC Eventi e distribuito da EQUIPE EVENTI di Fanzia Verlicchi\, racconta una storia di riscatto e di emancipazione ambientata nella Buenos Aires degli anni ’30 del secolo scorso\, nei luoghi in cui ebbe origine il tango. In una milonga d’altri tempi\, Historia porta in scena le coreografie degli amatissimi maestri di ballo Samuel Peron e Veera Kinnunen\, la straordinaria voce di Stefania Caracciolo e la musica dal vivo di cinque musicisti professionisti: Daniele Bocchini (trombone)\, Marco Postacchini (sax\, flauto\, arrangiamenti)\, Enzo Proietti (pianoforte\, fisarmonica)\, Graziano Brufani (contrabbasso)\, Leonardo Ramadori (percussioni). \nLo spettacolo affronta temi attuali attraverso una storia di emigrazione. Esteban\, protagonista e voce narrante di Historia\, è una donna che affronta un viaggio oltreoceano col miraggio di una vita migliore insieme al suo amato\, ma una volta arrivata a destinazione viene abbandonata e si ritrova sola nella realtà malfamata e maschilista di Buenos Aires\, tra la povertà e il degrado dei conventillos. In questa città immensa\, sconosciuta e fortemente pregiudizievole nei confronti della donna\, Esteban\, affascinata e sedotta da una musica nuova fatta di ritmi diversi\, che imperversa di giorno nelle strade e di notte nelle milonghe e che è proibita al mondo femminile\, si traveste da uomo. Questo le consente di essere libera di esprimere il suo talento musicale\, ma al tempo stesso la priva della propria identità. Da questo intimo dualismo nasce un ritmo\, un ostinato che diventa la base per il racconto\, per improvvisare una melodia e per ballare. Nello spettacolo i protagonisti\, attraverso il canto\, il ballo e l’interpretazione scenica portano il pubblico a riflettere su diversi temi: la nostalgia dell’emigrato\, la ricerca della propria identità\, l’uguaglianza di genere e la dignità della donna\, il talento e la passione come strumenti di emancipazione e di sopravvivenza. \nLa narrazione è supportata dal sound elegante e raffinato del son latino di Carlos Eleta Almaran\, Miguel Metamoroso\, Isolina Carrillo\, alla poesia in musica di Carlos Gardel\, Osvaldo Farrès\, Astor Piazzolla\, Pablo Beltran Ruiz\, fino al pop internazionale di Sting\, Cher e Pino Daniele.
URL:https://www.teatromercadante.com/eventi/samuel-peron-veera-kinnunen/
CATEGORIES:Music All
ATTACH;FMTTYPE=image/jpeg:https://www.teatromercadante.com/wp-content/uploads/2025/06/Historia-Migliorato-e1750414900182.jpg
END:VEVENT
END:VCALENDAR