BEGIN:VCALENDAR
VERSION:2.0
PRODID:-//Teatro Mercadante - ECPv6.15.20//NONSGML v1.0//EN
CALSCALE:GREGORIAN
METHOD:PUBLISH
X-ORIGINAL-URL:https://www.teatromercadante.com
X-WR-CALDESC:Eventi per Teatro Mercadante
REFRESH-INTERVAL;VALUE=DURATION:PT1H
X-Robots-Tag:noindex
X-PUBLISHED-TTL:PT1H
BEGIN:VTIMEZONE
TZID:Europe/Helsinki
BEGIN:DAYLIGHT
TZOFFSETFROM:+0200
TZOFFSETTO:+0300
TZNAME:EEST
DTSTART:20240331T010000
END:DAYLIGHT
BEGIN:STANDARD
TZOFFSETFROM:+0300
TZOFFSETTO:+0200
TZNAME:EET
DTSTART:20241027T010000
END:STANDARD
BEGIN:DAYLIGHT
TZOFFSETFROM:+0200
TZOFFSETTO:+0300
TZNAME:EEST
DTSTART:20250330T010000
END:DAYLIGHT
BEGIN:STANDARD
TZOFFSETFROM:+0300
TZOFFSETTO:+0200
TZNAME:EET
DTSTART:20251026T010000
END:STANDARD
BEGIN:DAYLIGHT
TZOFFSETFROM:+0200
TZOFFSETTO:+0300
TZNAME:EEST
DTSTART:20260329T010000
END:DAYLIGHT
BEGIN:STANDARD
TZOFFSETFROM:+0300
TZOFFSETTO:+0200
TZNAME:EET
DTSTART:20261025T010000
END:STANDARD
END:VTIMEZONE
BEGIN:VEVENT
DTSTART;TZID=Europe/Helsinki:20251115T210000
DTEND;TZID=Europe/Helsinki:20251115T230000
DTSTAMP:20260424T092902
CREATED:20250721T105139Z
LAST-MODIFIED:20250909T165118Z
UID:10000179-1763240400-1763247600@www.teatromercadante.com
SUMMARY:Stanlio & Ollio - Amici fino all'ultima risata
DESCRIPTION:“C’è sempre uno stupido a cui non accade mai niente\, e un furbo che in realtà è il più stupido di tutti. Solo che non lo sa.” \nStan Laurel e Oliver Hardy sono la coppia comica più famosa nel mondo; tutti li conoscono e tutti li hanno amati per quella loro goffa ingenuità che li rendeva sullo schermo due adulti mai davvero cresciuti che continuano a farsi i dispetti come due bambini. Scrivere una commedia sulla loro vita artistica è un’impresa impossibile\, visti la quantità di film girati e il materiale archiviato su di loro\, eppure della loro vita privata sappiamo poco. Quanti sanno che Oliver Hardy aveva avviato un allevamento di polli che poi regalava agli amici perché gli dispiaceva mandarli al macello? Quanti sanno che Stan Laurel fu arrestato perché percorse 50 miglia contromano in autostrada completamente ubriaco? E cosa dire poi della loro vita sentimentale? Tra mogli\, amanti\, fughe rocambolesche\, divorzi e accuse di bigamia: in alcuni momenti sembra davvero una farsa. Abbiamo così voluto portare in scena una commedia che mescola fatti reali di vita vissuta dai due attori con eventi di pura fantasia\, per raccontare la storia di un’amicizia vera durata più di trent’anni. La narrazione delle loro vicende è contaminata anche da battute\, citazioni e gags tratte dai loro film\, perché forse è proprio così che Stan Laurel scriveva e trovava le idee più esilaranti: attingendo dalla vita\, che a volte è più assurda di qualsiasi finzione.
URL:https://www.teatromercadante.com/eventi/stanlio-ollio-amici-fino-allultima-risata/
CATEGORIES:Festival "Bombetta d'Oro"
ATTACH;FMTTYPE=image/jpeg:https://www.teatromercadante.com/wp-content/uploads/2025/07/stanlio-e-ollio.jpg
END:VEVENT
END:VCALENDAR