BEGIN:VCALENDAR
VERSION:2.0
PRODID:-//Teatro Mercadante - ECPv6.15.20//NONSGML v1.0//EN
CALSCALE:GREGORIAN
METHOD:PUBLISH
X-WR-CALNAME:Teatro Mercadante
X-ORIGINAL-URL:https://www.teatromercadante.com
X-WR-CALDESC:Eventi per Teatro Mercadante
REFRESH-INTERVAL;VALUE=DURATION:PT1H
X-Robots-Tag:noindex
X-PUBLISHED-TTL:PT1H
BEGIN:VTIMEZONE
TZID:Europe/Helsinki
BEGIN:DAYLIGHT
TZOFFSETFROM:+0200
TZOFFSETTO:+0300
TZNAME:EEST
DTSTART:20240331T010000
END:DAYLIGHT
BEGIN:STANDARD
TZOFFSETFROM:+0300
TZOFFSETTO:+0200
TZNAME:EET
DTSTART:20241027T010000
END:STANDARD
BEGIN:DAYLIGHT
TZOFFSETFROM:+0200
TZOFFSETTO:+0300
TZNAME:EEST
DTSTART:20250330T010000
END:DAYLIGHT
BEGIN:STANDARD
TZOFFSETFROM:+0300
TZOFFSETTO:+0200
TZNAME:EET
DTSTART:20251026T010000
END:STANDARD
BEGIN:DAYLIGHT
TZOFFSETFROM:+0200
TZOFFSETTO:+0300
TZNAME:EEST
DTSTART:20260329T010000
END:DAYLIGHT
BEGIN:STANDARD
TZOFFSETFROM:+0300
TZOFFSETTO:+0200
TZNAME:EET
DTSTART:20261025T010000
END:STANDARD
END:VTIMEZONE
BEGIN:VEVENT
DTSTART;TZID=Europe/Helsinki:20251108T210000
DTEND;TZID=Europe/Helsinki:20251108T233000
DTSTAMP:20260424T092516
CREATED:20250624T190022Z
LAST-MODIFIED:20251016T172328Z
UID:10000170-1762635600-1762644600@www.teatromercadante.com
SUMMARY:of NEW TROLLS
DESCRIPTION:Nella storia e nella vita dei New Trolls c’è e c’è stato di tutto\, dal progressive rock al rock sinfonico\, dall’hard rock al jazz rock\, dal pop al Festival di Sanremo. C’è il “Concerto grosso” e hit come “Quella carezza della sera”. Ci sono amori e incomprensioni\, gioie e dolori\, ma in qualsiasi passo c’è sempre stata tanta passione\, arte e professionalità. \nPiù di 55 anni  anni  di storia sono passati\, dalla brillante apertura dei concerti italiani dei Rolling Stones e dei Led Zeppelin\, che hanno consacrato la stella dei New Trolls nel firmamento delle band di importanza mondiale; da allora non si sono più fermati\, stregando con la tecnica\, le vocalità polifoniche e con le innovative partiture\, le platee di tutto il mondo. Milioni di “note”\, scritte\, interpretate e rimaste impresse nella storia musicale italiana\, dai più grandi successi della band genovese\, nata ne lontano  1967: il primo singolo “Sensazioni”\, “Senza orario Senza bandiera” il primo Concept Album\, “Una miniera”\, “Visioni”\, “Concerto Grosso per i New Trolls”\,  “Quella Carezza della Sera”\, “Aldebaran”\, Faccia di Cane” e tante altre a testimonianza delle loro profonde e ben radicate affinità con la musica. \nGianni Belleno e Nico di Palo\, storici membri del gruppo-leggenda della musica  italiana\,  con il loro progetto “Of New Trolls”\, faranno rivivere con le loro hit indimenticabili\, in  un concerto esclusivo\,  insieme a musicisti di grande spessore come Claudio Cinquegrana\, Stefano Genti e Nando Corradini\, le grandi emozioni della nostra gioventù. Due ore di ricordi\, storie\, aneddoti e brani che hanno fatto la storia della musica leggera italiana. Una colonna che accompagnerà gli spettatori\, anche dopo il ritorno a casa.
URL:https://www.teatromercadante.com/eventi/of-new-trolls/
CATEGORIES:Rassegna "Rock & Jazz"
ATTACH;FMTTYPE=image/jpeg:https://www.teatromercadante.com/wp-content/uploads/2025/06/of-New-Trolls-e1750415376530.jpg
END:VEVENT
END:VCALENDAR