BEGIN:VCALENDAR
VERSION:2.0
PRODID:-//Teatro Mercadante - ECPv6.15.20//NONSGML v1.0//EN
CALSCALE:GREGORIAN
METHOD:PUBLISH
X-ORIGINAL-URL:https://www.teatromercadante.com
X-WR-CALDESC:Eventi per Teatro Mercadante
REFRESH-INTERVAL;VALUE=DURATION:PT1H
X-Robots-Tag:noindex
X-PUBLISHED-TTL:PT1H
BEGIN:VTIMEZONE
TZID:Europe/Helsinki
BEGIN:DAYLIGHT
TZOFFSETFROM:+0200
TZOFFSETTO:+0300
TZNAME:EEST
DTSTART:20240331T010000
END:DAYLIGHT
BEGIN:STANDARD
TZOFFSETFROM:+0300
TZOFFSETTO:+0200
TZNAME:EET
DTSTART:20241027T010000
END:STANDARD
BEGIN:DAYLIGHT
TZOFFSETFROM:+0200
TZOFFSETTO:+0300
TZNAME:EEST
DTSTART:20250330T010000
END:DAYLIGHT
BEGIN:STANDARD
TZOFFSETFROM:+0300
TZOFFSETTO:+0200
TZNAME:EET
DTSTART:20251026T010000
END:STANDARD
BEGIN:DAYLIGHT
TZOFFSETFROM:+0200
TZOFFSETTO:+0300
TZNAME:EEST
DTSTART:20260329T010000
END:DAYLIGHT
BEGIN:STANDARD
TZOFFSETFROM:+0300
TZOFFSETTO:+0200
TZNAME:EET
DTSTART:20261025T010000
END:STANDARD
END:VTIMEZONE
BEGIN:VEVENT
DTSTART;TZID=Europe/Helsinki:20251026T193000
DTEND;TZID=Europe/Helsinki:20251026T220000
DTSTAMP:20260424T093530
CREATED:20250624T190059Z
LAST-MODIFIED:20250917T160032Z
UID:10000172-1761507000-1761516000@www.teatromercadante.com
SUMMARY:Richard Galliano meets Orchestra della Magna Grecia
DESCRIPTION:Considerato uno dei più grandi fisarmonicisti e bandoneonisti del nostro tempo\, Richard Galliano ha rivoluzionato il linguaggio di questi strumenti\, portandoli dalle tradizioni popolari ai palcoscenici della musica classica e del jazz. Artista poliedrico e acclamato in tutto il mondo\, collabora regolarmente con orchestre\, solisti e festival di prestigio internazionale. \nIn questo concerto sarà protagonista accanto all’Orchestra della Magna Grecia\, in un programma che mette in luce la straordinaria versatilità espressiva del suo strumento.\nDopo un’intensa apertura solistica\, il viaggio musicale prosegue con il lirismo e l’energia travolgente di una selezione di sue composizioni\, fino ad approdare a pagine del grande repertorio come la struggente Oblivion di Piazzolla.
URL:https://www.teatromercadante.com/eventi/richard-galliano/
CATEGORIES:Stagione concertistica
ATTACH;FMTTYPE=image/jpeg:https://www.teatromercadante.com/wp-content/uploads/2025/06/Richard-Galliano-e1750415758469.jpg
END:VEVENT
END:VCALENDAR