BEGIN:VCALENDAR
VERSION:2.0
PRODID:-//Teatro Mercadante - ECPv6.15.20//NONSGML v1.0//EN
CALSCALE:GREGORIAN
METHOD:PUBLISH
X-WR-CALNAME:Teatro Mercadante
X-ORIGINAL-URL:https://www.teatromercadante.com
X-WR-CALDESC:Eventi per Teatro Mercadante
REFRESH-INTERVAL;VALUE=DURATION:PT1H
X-Robots-Tag:noindex
X-PUBLISHED-TTL:PT1H
BEGIN:VTIMEZONE
TZID:Europe/Helsinki
BEGIN:DAYLIGHT
TZOFFSETFROM:+0200
TZOFFSETTO:+0300
TZNAME:EEST
DTSTART:20240331T010000
END:DAYLIGHT
BEGIN:STANDARD
TZOFFSETFROM:+0300
TZOFFSETTO:+0200
TZNAME:EET
DTSTART:20241027T010000
END:STANDARD
BEGIN:DAYLIGHT
TZOFFSETFROM:+0200
TZOFFSETTO:+0300
TZNAME:EEST
DTSTART:20250330T010000
END:DAYLIGHT
BEGIN:STANDARD
TZOFFSETFROM:+0300
TZOFFSETTO:+0200
TZNAME:EET
DTSTART:20251026T010000
END:STANDARD
BEGIN:DAYLIGHT
TZOFFSETFROM:+0200
TZOFFSETTO:+0300
TZNAME:EEST
DTSTART:20260329T010000
END:DAYLIGHT
BEGIN:STANDARD
TZOFFSETFROM:+0300
TZOFFSETTO:+0200
TZNAME:EET
DTSTART:20261025T010000
END:STANDARD
END:VTIMEZONE
BEGIN:VEVENT
DTSTART;TZID=Europe/Helsinki:20251025T210000
DTEND;TZID=Europe/Helsinki:20251025T233000
DTSTAMP:20260424T110137
CREATED:20250624T190020Z
LAST-MODIFIED:20251016T170305Z
UID:10000169-1761426000-1761435000@www.teatromercadante.com
SUMMARY:Banco del Mutuo Soccorso
DESCRIPTION:Il Banco del Mutuo Soccorso\, una delle band più iconiche e innovative della scena musicale italiana\, annuncia il nuovo tour teatrale del 2025\, che prenderà vita in concomitanza all’uscita del loro attesissimo album “Storie Invisibili”. Questo lavoro segna il culmine di una trilogia musicale che\, sin dal suo inizio\, ha esplorato i temi più profondi dell’esistenza umana.\nDopo l’intensa e avventurosa “Transiberiana” — un viaggio che ha rappresentato il percorso della vita stessa — e la commovente e appassionata riflessione su “Orlando: le forme dell’amore”\, il Banco ci regala un nuovo capitolo\, che si distacca dalle grandiose epiche per portarci nel quotidiano\, in un racconto di uomini e donne sconosciuti\, invisibili agli occhi della storia\, ma fondamentali per il nostro cammino esistenziale.\nCon “Storie Invisibili”\, il Banco del Mutuo Soccorso ci invita a guardare oltre il palcoscenico del mito e della celebrità per abbracciare le storie di chi\, con la propria vita\, costruisce la realtà di tutti i giorni. Le “Storie Invisibili” sono infatti il ritratto di persone comuni\, dei piccoli eroi che si celano nella normalità delle nostre esistenze. Ogni nota dell’album è un tributo a chi vive senza clamore\, a chi ama\, lotta e sopravvive senza essere celebrato. È un omaggio a chi\, pur non salendo mai sui piedistalli della storia\, rappresenta la forza e la bellezza dell’umano.\nIl nuovo tour teatrale si preannuncia un’esperienza immersiva e intima\, dove la musica del Banco si intreccia con la poesia della vita quotidiana\, in un abbraccio di suoni che toccherà il cuore del pubblico. Ogni tappa sarà un’occasione unica per vivere\, attraverso la musica\, il racconto di storie invisibili ma universali\, che appartengono a tutti noi.\nIl Banco del Mutuo Soccorso ci guiderà in un viaggio emotivo che celebra l’umanità nelle sue forme più pure e autentiche\, senza mai perdere la sua inconfondibile magia musicale. Non un semplice concerto\, ma una vera e propria esperienza teatrale\, dove ogni canzone sarà un capitolo da scoprire\, ogni parola un’emozione da vivere.
URL:https://www.teatromercadante.com/eventi/banco-del-mutuo-soccorso/
CATEGORIES:Rassegna "Rock & Jazz"
ATTACH;FMTTYPE=image/png:https://www.teatromercadante.com/wp-content/uploads/2025/06/quadrata.png
END:VEVENT
END:VCALENDAR