BEGIN:VCALENDAR
VERSION:2.0
PRODID:-//Teatro Mercadante - ECPv6.15.20//NONSGML v1.0//EN
CALSCALE:GREGORIAN
METHOD:PUBLISH
X-ORIGINAL-URL:https://www.teatromercadante.com
X-WR-CALDESC:Eventi per Teatro Mercadante
REFRESH-INTERVAL;VALUE=DURATION:PT1H
X-Robots-Tag:noindex
X-PUBLISHED-TTL:PT1H
BEGIN:VTIMEZONE
TZID:Europe/Helsinki
BEGIN:DAYLIGHT
TZOFFSETFROM:+0200
TZOFFSETTO:+0300
TZNAME:EEST
DTSTART:20240331T010000
END:DAYLIGHT
BEGIN:STANDARD
TZOFFSETFROM:+0300
TZOFFSETTO:+0200
TZNAME:EET
DTSTART:20241027T010000
END:STANDARD
BEGIN:DAYLIGHT
TZOFFSETFROM:+0200
TZOFFSETTO:+0300
TZNAME:EEST
DTSTART:20250330T010000
END:DAYLIGHT
BEGIN:STANDARD
TZOFFSETFROM:+0300
TZOFFSETTO:+0200
TZNAME:EET
DTSTART:20251026T010000
END:STANDARD
BEGIN:DAYLIGHT
TZOFFSETFROM:+0200
TZOFFSETTO:+0300
TZNAME:EEST
DTSTART:20260329T010000
END:DAYLIGHT
BEGIN:STANDARD
TZOFFSETFROM:+0300
TZOFFSETTO:+0200
TZNAME:EET
DTSTART:20261025T010000
END:STANDARD
END:VTIMEZONE
BEGIN:VEVENT
DTSTART;TZID=Europe/Helsinki:20251018T210000
DTEND;TZID=Europe/Helsinki:20251018T230000
DTSTAMP:20260424T220807
CREATED:20250721T104314Z
LAST-MODIFIED:20250909T164906Z
UID:10000178-1760821200-1760828400@www.teatromercadante.com
SUMMARY:Marco Cavallaro "Un amore di peso"
DESCRIPTION:Ci si può innamorare di qualcuno sapendo di andare incontro ad una critica sociale fatta di battute\, commenti e giudizi non proprio esaltanti? Giorgio\, innamorato della bellissima Lara\, suo capo d’azienda\, un giorno cade vittima di Cupido e perde la testa per Carla una donna totalmente diversa da Lara. Tra Lara e Carla ci sono differenze caloriche e sociali che non passano inosservate. Riuscirà Giorgio\, insieme all’aiuto del suo amico Mario\, a non tenere conto del giudizio della gente e tutto quello che ne deriva? Riuscirà a far vincere il sentimento? In una società che bada all’apparire si può ancora dare un senso alla parola “Amore”? Una commedia di…peso. Un modo per raccontare che l’importante è stare bene con sé stessi e con chi ci sta intorno. Dopo il successo di “Amore sono un po’ incinta” e “Come fosse Amore” la nuova commedia di Marco Cavallaro\, nel suo perfetto stile fatto di ritmo\, colori\, musica\, ironia e tante risate. Una nuova storia che regalerà al pubblico due ore di spensieratezze e riflessione e ci farà uscire dalla sala con la consapevolezza che l’essere è più importante dell’apparire.\nLO SPETTACOLO HA DEBUTTATO AL Festival teatrale di Borgo Verezzi.
URL:https://www.teatromercadante.com/eventi/marco-cavallaro-un-amore-di-peso/
CATEGORIES:Festival "Bombetta d'Oro"
ATTACH;FMTTYPE=image/jpeg:https://www.teatromercadante.com/wp-content/uploads/2025/07/Cavallaro.jpg
END:VEVENT
END:VCALENDAR