BEGIN:VCALENDAR
VERSION:2.0
PRODID:-//Teatro Mercadante - ECPv6.15.20//NONSGML v1.0//EN
CALSCALE:GREGORIAN
METHOD:PUBLISH
X-WR-CALNAME:Teatro Mercadante
X-ORIGINAL-URL:https://www.teatromercadante.com
X-WR-CALDESC:Eventi per Teatro Mercadante
REFRESH-INTERVAL;VALUE=DURATION:PT1H
X-Robots-Tag:noindex
X-PUBLISHED-TTL:PT1H
BEGIN:VTIMEZONE
TZID:Europe/Helsinki
BEGIN:DAYLIGHT
TZOFFSETFROM:+0200
TZOFFSETTO:+0300
TZNAME:EEST
DTSTART:20240331T010000
END:DAYLIGHT
BEGIN:STANDARD
TZOFFSETFROM:+0300
TZOFFSETTO:+0200
TZNAME:EET
DTSTART:20241027T010000
END:STANDARD
BEGIN:DAYLIGHT
TZOFFSETFROM:+0200
TZOFFSETTO:+0300
TZNAME:EEST
DTSTART:20250330T010000
END:DAYLIGHT
BEGIN:STANDARD
TZOFFSETFROM:+0300
TZOFFSETTO:+0200
TZNAME:EET
DTSTART:20251026T010000
END:STANDARD
BEGIN:DAYLIGHT
TZOFFSETFROM:+0200
TZOFFSETTO:+0300
TZNAME:EEST
DTSTART:20260329T010000
END:DAYLIGHT
BEGIN:STANDARD
TZOFFSETFROM:+0300
TZOFFSETTO:+0200
TZNAME:EET
DTSTART:20261025T010000
END:STANDARD
END:VTIMEZONE
BEGIN:VEVENT
DTSTART;TZID=Europe/Helsinki:20250625T100000
DTEND;TZID=Europe/Helsinki:20251004T200000
DTSTAMP:20260419T202636
CREATED:20240627T103921Z
LAST-MODIFIED:20250909T092040Z
UID:10000125-1750845600-1759608000@www.teatromercadante.com
SUMMARY:Campagna abbonamenti - Stagione 25/26
DESCRIPTION:Ecco i prezzi degli abbonamenti della Stagione 2025/2026 “Imagine\, we can!”. \nA tutte le tariffe va sommato il costo della prevendita.  \nI ridotti sono riservati esclusivamente agli studenti under 25 anni. \n \nGli abbonamenti non sono acquistabili ONLINE. Per maggiori informazioni CLICCA QUI.
URL:https://www.teatromercadante.com/eventi/campagna-abbonamenti-stagione-25-26/
CATEGORIES:Festival "Bombetta d'Oro",Music All,Rassegna "Comi-città",Rassegna "Mettiamoci in prosa",Rassegna "Rock & Jazz",Stagione concertistica
ATTACH;FMTTYPE=image/jpeg:https://www.teatromercadante.com/wp-content/uploads/2024/06/PREZZI-ABB-STAG-25-26-scaled.jpg
END:VEVENT
BEGIN:VEVENT
DTSTART;TZID=Europe/Helsinki:20251004T210000
DTEND;TZID=Europe/Helsinki:20251004T233000
DTSTAMP:20260419T202636
CREATED:20250624T190058Z
LAST-MODIFIED:20250721T101205Z
UID:10000167-1759611600-1759620600@www.teatromercadante.com
SUMMARY:Danilo Rea e Peppe Servillo "NAPOLI E JAZZ"
DESCRIPTION:Un tributo alla tradizione napoletana\, un viaggio in duo tra le perpetue trame della canzone partenopea\, dove le melodie dei compositori più celebri rivivono nell’appassionata interpretazione di Peppe Servillo e nelle accese note del pianoforte di Danilo Rea. I poetici testi di Murolo\, Bovio\, Carosone\, quelli evocativi di Je Te vurria Vasà\, Reginella\, Era De Maggio\, si uniscono all’improvvisazione e all’emozione del momento con eleganza jazz\, senza tralasciare una doverosa citazione al grande Modugno ed altri memorabili autori.\nDanilo Rea è uno dei pianisti jazz italiani più apprezzati al mondo\, protagonista di progetti e performance che sono già nella storia del jazz. Vanta collaborazioni con i più grandi solisti statunitensi come Chet Baker\, Lee Konitz\, John Scofield\, Joe Lovano\, Art Farmer.\nDanilo Rea si pone al servizio della musica con apparente straordinaria semplicità\, caratteristica che distingue i più grandi artisti.\nPeppe Servillo è cantante\, autore di colonne sonore\, di canzoni interpretate da Fiorella Mannoia e Patty Pravo\, nonché attore cinematografico e teatrale. Autodidatta\, debutta nel 1980 con gli Avion Travel. Dal 2005 è il frontman del progetto speciale «Uomini in Frac»\, un concerto omaggio a Domenico Modugno rivisitato in chiave Jazz. Nel progetto sono coinvolti alcuni dei più grandi jazzisti italiani\, tra cui Danilo Rea\, Fabrizio Bosso\, Javier Girotto e Gianluca Petrella.
URL:https://www.teatromercadante.com/eventi/rea-servillo/
CATEGORIES:Rassegna "Rock & Jazz"
ATTACH;FMTTYPE=image/jpeg:https://www.teatromercadante.com/wp-content/uploads/2025/06/REA-SERVILLO-e1750416418877.jpg
END:VEVENT
END:VCALENDAR