BEGIN:VCALENDAR
VERSION:2.0
PRODID:-//Teatro Mercadante - ECPv6.15.20//NONSGML v1.0//EN
CALSCALE:GREGORIAN
METHOD:PUBLISH
X-WR-CALNAME:Teatro Mercadante
X-ORIGINAL-URL:https://www.teatromercadante.com
X-WR-CALDESC:Eventi per Teatro Mercadante
REFRESH-INTERVAL;VALUE=DURATION:PT1H
X-Robots-Tag:noindex
X-PUBLISHED-TTL:PT1H
BEGIN:VTIMEZONE
TZID:Europe/Helsinki
BEGIN:DAYLIGHT
TZOFFSETFROM:+0200
TZOFFSETTO:+0300
TZNAME:EEST
DTSTART:20240331T010000
END:DAYLIGHT
BEGIN:STANDARD
TZOFFSETFROM:+0300
TZOFFSETTO:+0200
TZNAME:EET
DTSTART:20241027T010000
END:STANDARD
BEGIN:DAYLIGHT
TZOFFSETFROM:+0200
TZOFFSETTO:+0300
TZNAME:EEST
DTSTART:20250330T010000
END:DAYLIGHT
BEGIN:STANDARD
TZOFFSETFROM:+0300
TZOFFSETTO:+0200
TZNAME:EET
DTSTART:20251026T010000
END:STANDARD
BEGIN:DAYLIGHT
TZOFFSETFROM:+0200
TZOFFSETTO:+0300
TZNAME:EEST
DTSTART:20260329T010000
END:DAYLIGHT
BEGIN:STANDARD
TZOFFSETFROM:+0300
TZOFFSETTO:+0200
TZNAME:EET
DTSTART:20261025T010000
END:STANDARD
END:VTIMEZONE
BEGIN:VEVENT
DTSTART;TZID=Europe/Helsinki:20250516T203000
DTEND;TZID=Europe/Helsinki:20250516T213000
DTSTAMP:20260419T154333
CREATED:20250423T170027Z
LAST-MODIFIED:20250429T180522Z
UID:10000142-1747427400-1747431000@www.teatromercadante.com
SUMMARY:Donne della finzione\, donne della realtà
DESCRIPTION:Gli amici del Teatro Mercadante APS presentano uno spettacolo interamente dedicato all’universo femminile\, scritto e diretto da Massimo Dilevrano e Maria Grazia Pani. Una narrazione che intreccia voci e storie di donne: artiste e muse\, amate e odiate\, reali o immaginarie. Donne ribelli\, simboli di forza\, passione ed emancipazione.\nA dare corpo e voce a questa galleria al femminile sono Giusy Frallonardo\, voce narrante\, e le cantanti Martina Tragni\, Claudia Urru\, Loriana Castellano e Alessandra Volpe\, accompagnate al pianoforte da Angela Zaccaria.
URL:https://www.teatromercadante.com/eventi/donne-della-finzione-donne-della-realta/
CATEGORIES:Fuori abbonamento
ATTACH;FMTTYPE=image/png:https://www.teatromercadante.com/wp-content/uploads/2025/04/Locandina_Donne-della-finzione-donne-della-realta_con_logo-per-social.png
END:VEVENT
END:VCALENDAR