BEGIN:VCALENDAR
VERSION:2.0
PRODID:-//Teatro Mercadante - ECPv6.15.20//NONSGML v1.0//EN
CALSCALE:GREGORIAN
METHOD:PUBLISH
X-ORIGINAL-URL:https://www.teatromercadante.com
X-WR-CALDESC:Eventi per Teatro Mercadante
REFRESH-INTERVAL;VALUE=DURATION:PT1H
X-Robots-Tag:noindex
X-PUBLISHED-TTL:PT1H
BEGIN:VTIMEZONE
TZID:Europe/Helsinki
BEGIN:DAYLIGHT
TZOFFSETFROM:+0200
TZOFFSETTO:+0300
TZNAME:EEST
DTSTART:20240331T010000
END:DAYLIGHT
BEGIN:STANDARD
TZOFFSETFROM:+0300
TZOFFSETTO:+0200
TZNAME:EET
DTSTART:20241027T010000
END:STANDARD
BEGIN:DAYLIGHT
TZOFFSETFROM:+0200
TZOFFSETTO:+0300
TZNAME:EEST
DTSTART:20250330T010000
END:DAYLIGHT
BEGIN:STANDARD
TZOFFSETFROM:+0300
TZOFFSETTO:+0200
TZNAME:EET
DTSTART:20251026T010000
END:STANDARD
BEGIN:DAYLIGHT
TZOFFSETFROM:+0200
TZOFFSETTO:+0300
TZNAME:EEST
DTSTART:20260329T010000
END:DAYLIGHT
BEGIN:STANDARD
TZOFFSETFROM:+0300
TZOFFSETTO:+0200
TZNAME:EET
DTSTART:20261025T010000
END:STANDARD
END:VTIMEZONE
BEGIN:VEVENT
DTSTART;TZID=Europe/Helsinki:20250426T210000
DTEND;TZID=Europe/Helsinki:20250426T230000
DTSTAMP:20260419T154516
CREATED:20240625T190002Z
LAST-MODIFIED:20240910T173949Z
UID:10000109-1745701200-1745708400@www.teatromercadante.com
SUMMARY:Gente di facili costumi
DESCRIPTION:Protagonisti della pièce sono Anna (Giulia Fumo)\, nome d’arte sul lavoro “Principessa”\, una prostituta che sogna di diventare “giostraia”\, che rincasa tardi la notte\, disordinata e rumorosa che\, ovviamente\, disturba l’inquilino del piano di sotto\, che soffre d’insonnia. E Ugo (Flavio Insinna)\, un intellettuale che vivacchia scrivendo per la tv e per il cinema\, l’inquilino del piano di sotto\, che sogna di fare un film d’arte e avrebbe bisogno di un po’ di tranquillità per concentrarsi. Ma che ovviamente non riesce a dormire né a lavorare a causa di Anna.
URL:https://www.teatromercadante.com/eventi/gente-di-facili-costumi/
CATEGORIES:Rassegna "Mettiamoci in prosa"
ATTACH;FMTTYPE=image/jpeg:https://www.teatromercadante.com/wp-content/uploads/2024/06/gente-di-facili-costumi.jpg
END:VEVENT
END:VCALENDAR