BEGIN:VCALENDAR
VERSION:2.0
PRODID:-//Teatro Mercadante - ECPv6.15.20//NONSGML v1.0//EN
CALSCALE:GREGORIAN
METHOD:PUBLISH
X-ORIGINAL-URL:https://www.teatromercadante.com
X-WR-CALDESC:Eventi per Teatro Mercadante
REFRESH-INTERVAL;VALUE=DURATION:PT1H
X-Robots-Tag:noindex
X-PUBLISHED-TTL:PT1H
BEGIN:VTIMEZONE
TZID:Europe/Helsinki
BEGIN:DAYLIGHT
TZOFFSETFROM:+0200
TZOFFSETTO:+0300
TZNAME:EEST
DTSTART:20240331T010000
END:DAYLIGHT
BEGIN:STANDARD
TZOFFSETFROM:+0300
TZOFFSETTO:+0200
TZNAME:EET
DTSTART:20241027T010000
END:STANDARD
BEGIN:DAYLIGHT
TZOFFSETFROM:+0200
TZOFFSETTO:+0300
TZNAME:EEST
DTSTART:20250330T010000
END:DAYLIGHT
BEGIN:STANDARD
TZOFFSETFROM:+0300
TZOFFSETTO:+0200
TZNAME:EET
DTSTART:20251026T010000
END:STANDARD
BEGIN:DAYLIGHT
TZOFFSETFROM:+0200
TZOFFSETTO:+0300
TZNAME:EEST
DTSTART:20260329T010000
END:DAYLIGHT
BEGIN:STANDARD
TZOFFSETFROM:+0300
TZOFFSETTO:+0200
TZNAME:EET
DTSTART:20261025T010000
END:STANDARD
END:VTIMEZONE
BEGIN:VEVENT
DTSTART;TZID=Europe/Helsinki:20250406T193000
DTEND;TZID=Europe/Helsinki:20250406T203000
DTSTAMP:20260419T153732
CREATED:20250304T180023Z
LAST-MODIFIED:20250402T100343Z
UID:10000141-1743967800-1743971400@www.teatromercadante.com
SUMMARY:I SUONI DELLA SPAGNA
DESCRIPTION:Il concerto di chiusura del Festival dell’Alta Murgia 2025 ospiterà nuovamente l’Orchestra Filarmonica Pugliese\, questa volta impegnata in un programma dedicato alla Spagna. Solista d’eccezione sarà la talentuosa Carlotta Dalia\, tra le più promettenti giovani chitarriste italiane\, che eseguirà il celebre Concierto de Aranjuez di Joaquín Rodrigo. A dirigere l’orchestra sarà il M° Mario Ciervo. \nProgramma: \nG. Giménez: Intermezzo da “La boda de Luis Alonso \nJ. Rodrigo: Concierto de Aranjuez per chitarra e orchestra \nA. Di Zenzo: Sivigliana \nM. de Falla: Danza Spagnola n. 1 da “La vida breve” \nM. de Falla: Danza del fuoco da “El amor brujo” \nE. Granados: Intermezzo da Goyescas \nG. Giménez: Danzòn n. 2
URL:https://www.teatromercadante.com/eventi/i-suoni-della-spagna/
CATEGORIES:Festival dell'Alta Murgia
ATTACH;FMTTYPE=image/jpeg:https://www.teatromercadante.com/wp-content/uploads/2025/03/Carlotta-Dalia.jpg
END:VEVENT
END:VCALENDAR