BEGIN:VCALENDAR
VERSION:2.0
PRODID:-//Teatro Mercadante - ECPv6.15.20//NONSGML v1.0//EN
CALSCALE:GREGORIAN
METHOD:PUBLISH
X-ORIGINAL-URL:https://www.teatromercadante.com
X-WR-CALDESC:Eventi per Teatro Mercadante
REFRESH-INTERVAL;VALUE=DURATION:PT1H
X-Robots-Tag:noindex
X-PUBLISHED-TTL:PT1H
BEGIN:VTIMEZONE
TZID:Europe/Helsinki
BEGIN:DAYLIGHT
TZOFFSETFROM:+0200
TZOFFSETTO:+0300
TZNAME:EEST
DTSTART:20240331T010000
END:DAYLIGHT
BEGIN:STANDARD
TZOFFSETFROM:+0300
TZOFFSETTO:+0200
TZNAME:EET
DTSTART:20241027T010000
END:STANDARD
BEGIN:DAYLIGHT
TZOFFSETFROM:+0200
TZOFFSETTO:+0300
TZNAME:EEST
DTSTART:20250330T010000
END:DAYLIGHT
BEGIN:STANDARD
TZOFFSETFROM:+0300
TZOFFSETTO:+0200
TZNAME:EET
DTSTART:20251026T010000
END:STANDARD
BEGIN:DAYLIGHT
TZOFFSETFROM:+0200
TZOFFSETTO:+0300
TZNAME:EEST
DTSTART:20260329T010000
END:DAYLIGHT
BEGIN:STANDARD
TZOFFSETFROM:+0300
TZOFFSETTO:+0200
TZNAME:EET
DTSTART:20261025T010000
END:STANDARD
END:VTIMEZONE
BEGIN:VEVENT
DTSTART;TZID=Europe/Helsinki:20250329T210000
DTEND;TZID=Europe/Helsinki:20250329T230000
DTSTAMP:20260419T170350
CREATED:20240625T190056Z
LAST-MODIFIED:20240910T180555Z
UID:10000118-1743282000-1743289200@www.teatromercadante.com
SUMMARY:FRÀ
DESCRIPTION:Come si fa a parlare di San Francesco D’Assisi senza essere mostruosamente banali? Come farò a mettere in scena questo spettacolo senza che sembri una canzone di Jovanotti? \nSe chiedo a un ateo anticlericale “dimmi un santo che ti piace” lui dirà: Francesco. Perché tutti conoscono San Francesco? Perché sono stati scritti decine di migliaia di testi su di lui? Perché è così irresistibile? E perché proprio lui? Non era l’unico a praticare il pauperismo. In quell’epoca era pieno di santi e movimenti eretici che avevano fatto la stessa scelta estrema\, che aveva di speciale questo coatto di periferia piccolo borghese mezzo frikkettone che lascia tutto per diventare straccione? \nAveva di speciale che era un artista. Forse il più grande della storia. Le sue prediche erano capolavori folli e visionari. Erano performance di teatro contemporaneo. Giocava con gli elementi della natura\, improvvisava in francese\, citando a memoria brani dalle chanson de geste\, stravolgendone il senso\, utilizzava il corpo\, il nudo\, perfino la propria malattia\, il dolore fisico e il mutismo. \nIl 24 dicembre celebreremo gli 800 anni del presepe di Greccio\, la più geniale (e più copiata) invenzione di Francesco. Ma all’epoca non c’era la Siae. \nIl monologo\, orchestrato con le laudi medievali e gli strumenti antichi di Luciano di Giandomenico\, Maurizio Picchiò e Stefano Carloncelli\, si interroga sull’enorme potere persuasivo che genera su noi contemporanei la figura pop di Francesco\, e percorre la vita del poverello di Assisi e il suo sforzo ossessivo di raccontare il mistero di Dio in ogni forma\, fino al logoramento fisico che lo porterà alla morte\, dalla predica ai porci fino alla composizione del cantico delle creature\, il primo componimento lirico in volgare italiano della storia\, Francesco canta la bellezza di frate sole dal buio della sua cella\, cieco e devastato dalla malattia. Nessuno nella storia ha raccontato Dio con tanta geniale creatività. Francesco sapeva incantare il pubblico\, folle sterminate\, sapeva far ridere\, piangere\, sapeva cantare\, ballare. Il vero problema con cui mi sono dovuto scontrare preparando questo spettacolo è che Francesco era un attore molto più bravo di me. \nE poi il gran finale\, la morte\, il rapporto di fratellanza\, quasi di amore carnale che aveva Francesco con Sora nostra morte corporale\, da la quale nullu homo vivente pò scappare. E neanche il pubblico potrà scappare da questo finale\, incatenati sulle poltrone del teatro saranno costretti anche loro ad affrontare il vero\, l’ultimo\, grande tabù della nostra contemporaneità: non siamo immortali. \n                                                                                                    Giovanni Scifoni
URL:https://www.teatromercadante.com/eventi/fra/
CATEGORIES:Music All
ATTACH;FMTTYPE=image/jpeg:https://www.teatromercadante.com/wp-content/uploads/2024/06/Scifoni.jpg
END:VEVENT
END:VCALENDAR