BEGIN:VCALENDAR
VERSION:2.0
PRODID:-//Teatro Mercadante - ECPv6.15.20//NONSGML v1.0//EN
CALSCALE:GREGORIAN
METHOD:PUBLISH
X-ORIGINAL-URL:https://www.teatromercadante.com
X-WR-CALDESC:Eventi per Teatro Mercadante
REFRESH-INTERVAL;VALUE=DURATION:PT1H
X-Robots-Tag:noindex
X-PUBLISHED-TTL:PT1H
BEGIN:VTIMEZONE
TZID:Europe/Helsinki
BEGIN:DAYLIGHT
TZOFFSETFROM:+0200
TZOFFSETTO:+0300
TZNAME:EEST
DTSTART:20240331T010000
END:DAYLIGHT
BEGIN:STANDARD
TZOFFSETFROM:+0300
TZOFFSETTO:+0200
TZNAME:EET
DTSTART:20241027T010000
END:STANDARD
BEGIN:DAYLIGHT
TZOFFSETFROM:+0200
TZOFFSETTO:+0300
TZNAME:EEST
DTSTART:20250330T010000
END:DAYLIGHT
BEGIN:STANDARD
TZOFFSETFROM:+0300
TZOFFSETTO:+0200
TZNAME:EET
DTSTART:20251026T010000
END:STANDARD
BEGIN:DAYLIGHT
TZOFFSETFROM:+0200
TZOFFSETTO:+0300
TZNAME:EEST
DTSTART:20260329T010000
END:DAYLIGHT
BEGIN:STANDARD
TZOFFSETFROM:+0300
TZOFFSETTO:+0200
TZNAME:EET
DTSTART:20261025T010000
END:STANDARD
END:VTIMEZONE
BEGIN:VEVENT
DTSTART;TZID=Europe/Helsinki:20250316T193000
DTEND;TZID=Europe/Helsinki:20250316T203000
DTSTAMP:20260419T171937
CREATED:20250304T120514Z
LAST-MODIFIED:20250304T120824Z
UID:10000139-1742153400-1742157000@www.teatromercadante.com
SUMMARY:KARIMA - LIFETIME
DESCRIPTION:La seconda serata del Festival ospiterà\, sul palco del Teatro Mercadante di Altamura\, la straordinaria voce di Karima\, tra le interpreti più raffinate del panorama jazz e pop. La sua carriera prende il volo nel 2006 con la partecipazione ad “Amici di Maria De Filippi”\, dove si classifica al terzo posto\, conquistando il prestigioso Premio della Critica\, assegnato all’unanimità dalla giuria tecnica. Nello stesso anno firma il suo primo contratto discografico con Sony BMG\, pubblicando il suo primo EP. Nonostante la sua giovane età\, vanta già una carriera ricca di esperienze significative\, tra cui la partecipazione al Festival di Sanremo nel 2009 e la collaborazione con il leggendario Burt Bacharach. \nPer il suo concerto ad Altamura\, Karima sarà accompagnata al pianoforte dal M° Piero Frassi. \n 
URL:https://www.teatromercadante.com/eventi/karima/
CATEGORIES:Festival dell'Alta Murgia
ATTACH;FMTTYPE=image/jpeg:https://www.teatromercadante.com/wp-content/uploads/2025/03/KARIMA-LIFETIME-scaled-1.jpg
END:VEVENT
END:VCALENDAR