BEGIN:VCALENDAR
VERSION:2.0
PRODID:-//Teatro Mercadante - ECPv6.15.20//NONSGML v1.0//EN
CALSCALE:GREGORIAN
METHOD:PUBLISH
X-WR-CALNAME:Teatro Mercadante
X-ORIGINAL-URL:https://www.teatromercadante.com
X-WR-CALDESC:Eventi per Teatro Mercadante
REFRESH-INTERVAL;VALUE=DURATION:PT1H
X-Robots-Tag:noindex
X-PUBLISHED-TTL:PT1H
BEGIN:VTIMEZONE
TZID:Europe/Helsinki
BEGIN:DAYLIGHT
TZOFFSETFROM:+0200
TZOFFSETTO:+0300
TZNAME:EEST
DTSTART:20240331T010000
END:DAYLIGHT
BEGIN:STANDARD
TZOFFSETFROM:+0300
TZOFFSETTO:+0200
TZNAME:EET
DTSTART:20241027T010000
END:STANDARD
BEGIN:DAYLIGHT
TZOFFSETFROM:+0200
TZOFFSETTO:+0300
TZNAME:EEST
DTSTART:20250330T010000
END:DAYLIGHT
BEGIN:STANDARD
TZOFFSETFROM:+0300
TZOFFSETTO:+0200
TZNAME:EET
DTSTART:20251026T010000
END:STANDARD
BEGIN:DAYLIGHT
TZOFFSETFROM:+0200
TZOFFSETTO:+0300
TZNAME:EEST
DTSTART:20260329T010000
END:DAYLIGHT
BEGIN:STANDARD
TZOFFSETFROM:+0300
TZOFFSETTO:+0200
TZNAME:EET
DTSTART:20261025T010000
END:STANDARD
END:VTIMEZONE
BEGIN:VEVENT
DTSTART;TZID=Europe/Helsinki:20250309T193000
DTEND;TZID=Europe/Helsinki:20250309T203000
DTSTAMP:20260419T171807
CREATED:20250304T115454Z
LAST-MODIFIED:20250304T115454Z
UID:10000138-1741548600-1741552200@www.teatromercadante.com
SUMMARY:ASTOR PIAZZOLLA: TANGO NUEVO
DESCRIPTION:Il concerto inaugurale del Festival dell’Alta Murgia 2025 renderà omaggio al grande compositore argentino Astor Piazzolla. Protagonista della serata sarà il M° Fabio Furia\, tra i massimi interpreti della sua musica. Concertista\, didatta\, compositore e arrangiatore\, è riconosciuto come uno dei più importanti bandoneonisti della sua generazione. Ad accompagnarlo\, l’Orchestra Filarmonica Pugliese e il M° Marco Schirru al pianoforte. \nProgramma: \nAstor Piazzolla \n\n⁠  ⁠Michelangelo ‘70\n⁠  ⁠⁠Invierno Porteño\n⁠  ⁠⁠Muerte del Ángel\n⁠  ⁠⁠Aconcagua (concerto in 3 movimenti: Allegro Marcato\, Moderato\, Presto)\n⁠  ⁠⁠Adiós Nonino\n⁠  ⁠⁠Tristezas de un doble A\n\n 
URL:https://www.teatromercadante.com/eventi/astor-piazzolla-tango-nuevo/
CATEGORIES:Festival dell'Alta Murgia
ATTACH;FMTTYPE=image/jpeg:https://www.teatromercadante.com/wp-content/uploads/2025/03/Tango.jpg
END:VEVENT
END:VCALENDAR