BEGIN:VCALENDAR
VERSION:2.0
PRODID:-//Teatro Mercadante - ECPv6.15.20//NONSGML v1.0//EN
CALSCALE:GREGORIAN
METHOD:PUBLISH
X-ORIGINAL-URL:https://www.teatromercadante.com
X-WR-CALDESC:Eventi per Teatro Mercadante
REFRESH-INTERVAL;VALUE=DURATION:PT1H
X-Robots-Tag:noindex
X-PUBLISHED-TTL:PT1H
BEGIN:VTIMEZONE
TZID:Europe/Helsinki
BEGIN:DAYLIGHT
TZOFFSETFROM:+0200
TZOFFSETTO:+0300
TZNAME:EEST
DTSTART:20240331T010000
END:DAYLIGHT
BEGIN:STANDARD
TZOFFSETFROM:+0300
TZOFFSETTO:+0200
TZNAME:EET
DTSTART:20241027T010000
END:STANDARD
BEGIN:DAYLIGHT
TZOFFSETFROM:+0200
TZOFFSETTO:+0300
TZNAME:EEST
DTSTART:20250330T010000
END:DAYLIGHT
BEGIN:STANDARD
TZOFFSETFROM:+0300
TZOFFSETTO:+0200
TZNAME:EET
DTSTART:20251026T010000
END:STANDARD
BEGIN:DAYLIGHT
TZOFFSETFROM:+0200
TZOFFSETTO:+0300
TZNAME:EEST
DTSTART:20260329T010000
END:DAYLIGHT
BEGIN:STANDARD
TZOFFSETFROM:+0300
TZOFFSETTO:+0200
TZNAME:EET
DTSTART:20261025T010000
END:STANDARD
END:VTIMEZONE
BEGIN:VEVENT
DTSTART;TZID=Europe/Helsinki:20250308T210000
DTEND;TZID=Europe/Helsinki:20250308T223000
DTSTAMP:20260419T171155
CREATED:20240705T093216Z
LAST-MODIFIED:20240910T180424Z
UID:10000131-1741467600-1741473000@www.teatromercadante.com
SUMMARY:La vita è un attico
DESCRIPTION:Un corriere è alle prese con la consegna dell’ultimo pacco della giornata in un palazzo del centro\, prima di tornare a casa e godersi il meritato riposo. In questo “bizzarro” stabile\, nessuno sembra conoscere il destinatario\, a partire dalla strampalata portinaia. Inoltre\, sul citofono non sono scritti i cognomi dei condomini. Dopo aver superato l’iniziale stupore\, con caparbietà e tanta pazienza\, il corriere dovrà anche fare leva sul suo animo sensibile e un po’ malinconico\, quando si troverà\, suo malgrado\, costretto a bussare ad ogni porta\, vagando per tutti i pianerottoli alla ricerca del beneficiario del pacco. Qui lo attendono confronti con inquilini tanto bislacchi\, surreali e problematici quanto esilaranti. Cosa conterrà questo pacco e\, soprattutto\, sarà mai consegnato al misterioso destinatario?
URL:https://www.teatromercadante.com/eventi/la-vita-e-un-attico/
CATEGORIES:Festival "Bombetta d'Oro"
ATTACH;FMTTYPE=image/jpeg:https://www.teatromercadante.com/wp-content/uploads/2024/07/Costa-e1720171924346.jpg
END:VEVENT
END:VCALENDAR