BEGIN:VCALENDAR
VERSION:2.0
PRODID:-//Teatro Mercadante - ECPv6.15.20//NONSGML v1.0//EN
CALSCALE:GREGORIAN
METHOD:PUBLISH
X-ORIGINAL-URL:https://www.teatromercadante.com
X-WR-CALDESC:Eventi per Teatro Mercadante
REFRESH-INTERVAL;VALUE=DURATION:PT1H
X-Robots-Tag:noindex
X-PUBLISHED-TTL:PT1H
BEGIN:VTIMEZONE
TZID:Europe/Helsinki
BEGIN:DAYLIGHT
TZOFFSETFROM:+0200
TZOFFSETTO:+0300
TZNAME:EEST
DTSTART:20240331T010000
END:DAYLIGHT
BEGIN:STANDARD
TZOFFSETFROM:+0300
TZOFFSETTO:+0200
TZNAME:EET
DTSTART:20241027T010000
END:STANDARD
BEGIN:DAYLIGHT
TZOFFSETFROM:+0200
TZOFFSETTO:+0300
TZNAME:EEST
DTSTART:20250330T010000
END:DAYLIGHT
BEGIN:STANDARD
TZOFFSETFROM:+0300
TZOFFSETTO:+0200
TZNAME:EET
DTSTART:20251026T010000
END:STANDARD
BEGIN:DAYLIGHT
TZOFFSETFROM:+0200
TZOFFSETTO:+0300
TZNAME:EEST
DTSTART:20260329T010000
END:DAYLIGHT
BEGIN:STANDARD
TZOFFSETFROM:+0300
TZOFFSETTO:+0200
TZNAME:EET
DTSTART:20261025T010000
END:STANDARD
END:VTIMEZONE
BEGIN:VEVENT
DTSTART;TZID=Europe/Helsinki:20250302T193000
DTEND;TZID=Europe/Helsinki:20250302T213000
DTSTAMP:20260419T170319
CREATED:20250212T180631Z
LAST-MODIFIED:20250212T181026Z
UID:10000137-1740943800-1740951000@www.teatromercadante.com
SUMMARY:La casa chiusa - Replica
DESCRIPTION:Dopo il successo di gennaio\, torna a grande richiesta lo spettacolo VINCITORE DI 10 PREMI NAZIONALI. Cosa succederebbe se la casa di un prete diventasse una… “casa chiusa”?! Da questa domanda impensabile prende vita questa divertentissima commedia\, i cui protagonisti sono due fratelli: un delinquente ed un sacerdote. Quest’ultimo è costretto ad ospitare in casa sua una escort\, accettando i ricatti del fratello che\, a sua volta\, è alla mercé di un grosso boss mafioso\, suo complice in una rapina. Ne scaturisce una situazione paradossale che determina una infinita serie di momenti esilaranti scanditi da un ritmo incalzante\, in cui vengono denunciati tra le righe temi scottanti di grande attualità. E’ la commedia del rovesciamento delle parti: il bene e il male\, il morale e l’immorale\, la legge divina e quella umana\, con continue mescolanze e inversioni di ruolo. E’ la commedia degli argomenti scomodi: prostituzione e Chiesa\, affrontati con leggerezza e brio\, senza ipocrisie e volgarità. E’ la commedia della ridicolizzazione delle “divise”\, intese seguendo la filosofia di Totò\, ossia quella della divisione dell’umanità in “uomini e caporali”. “La casa chiusa” è un testo brillante che\, in un turbine di risate\, pone domande e questioni irrisolte\, lasciando lo spettatore libero di riflettere e giudicare. Non vi vergognerete di aver riso tanto…!!!
URL:https://www.teatromercadante.com/eventi/la-casa-chiusa-replica/
CATEGORIES:Festival "Bombetta d'Oro",Fuori abbonamento
ATTACH;FMTTYPE=image/jpeg:https://www.teatromercadante.com/wp-content/uploads/2025/02/WhatsApp-Image-2025-02-11-at-19.04.30.jpeg
END:VEVENT
END:VCALENDAR