BEGIN:VCALENDAR
VERSION:2.0
PRODID:-//Teatro Mercadante - ECPv6.15.20//NONSGML v1.0//EN
CALSCALE:GREGORIAN
METHOD:PUBLISH
X-WR-CALNAME:Teatro Mercadante
X-ORIGINAL-URL:https://www.teatromercadante.com
X-WR-CALDESC:Eventi per Teatro Mercadante
REFRESH-INTERVAL;VALUE=DURATION:PT1H
X-Robots-Tag:noindex
X-PUBLISHED-TTL:PT1H
BEGIN:VTIMEZONE
TZID:Europe/Helsinki
BEGIN:DAYLIGHT
TZOFFSETFROM:+0200
TZOFFSETTO:+0300
TZNAME:EEST
DTSTART:20240331T010000
END:DAYLIGHT
BEGIN:STANDARD
TZOFFSETFROM:+0300
TZOFFSETTO:+0200
TZNAME:EET
DTSTART:20241027T010000
END:STANDARD
BEGIN:DAYLIGHT
TZOFFSETFROM:+0200
TZOFFSETTO:+0300
TZNAME:EEST
DTSTART:20250330T010000
END:DAYLIGHT
BEGIN:STANDARD
TZOFFSETFROM:+0300
TZOFFSETTO:+0200
TZNAME:EET
DTSTART:20251026T010000
END:STANDARD
BEGIN:DAYLIGHT
TZOFFSETFROM:+0200
TZOFFSETTO:+0300
TZNAME:EEST
DTSTART:20260329T010000
END:DAYLIGHT
BEGIN:STANDARD
TZOFFSETFROM:+0300
TZOFFSETTO:+0200
TZNAME:EET
DTSTART:20261025T010000
END:STANDARD
END:VTIMEZONE
BEGIN:VEVENT
DTSTART;TZID=Europe/Helsinki:20250223T193000
DTEND;TZID=Europe/Helsinki:20250223T213000
DTSTAMP:20260419T184742
CREATED:20240625T190044Z
LAST-MODIFIED:20240910T180327Z
UID:10000124-1740339000-1740346200@www.teatromercadante.com
SUMMARY:Mario Rosini trio
DESCRIPTION:Mario Rosini è un musicista di grande talento\, noto per la sua voce calda e coinvolgente e la sua abilità al pianoforte. Mario Rosini\, un musicista e cantante appassionato fin dall’infanzia\, ha iniziato la sua carriera partecipando a manifestazioni canore in Puglia con suo fratello Gianni. Dopo aver vinto il “Cantapuglia” nel 1976 e il Cantagiro nel 1980\, ha studiato al Conservatorio Niccolò Piccinni di Bari per sette anni prima di intraprendere la carriera da solista a Milano. Ha collaborato con vari artisti e ha fatto parte di tour musicali con molti cantanti famosi dagli anni ottanta agli anni novanta. Nel 2004 ha ottenuto un contratto discografico e ha partecipato al Festival di Sanremo\, arrivando secondo con il brano “Sei la vita mia”. È stato anche membro del Duni Jazz Choir e docente al Conservatorio di Matera. Nel 2024 ha partecipato alla quarta edizione di The Voice Senior su Rai 1\, entrando nel team di Arisa.
URL:https://www.teatromercadante.com/eventi/mario-rosini-trio/
CATEGORIES:Stagione concertistica
ATTACH;FMTTYPE=image/jpeg:https://www.teatromercadante.com/wp-content/uploads/2024/06/mario_rosini_trio.jpg
END:VEVENT
END:VCALENDAR