BEGIN:VCALENDAR
VERSION:2.0
PRODID:-//Teatro Mercadante - ECPv6.15.20//NONSGML v1.0//EN
CALSCALE:GREGORIAN
METHOD:PUBLISH
X-WR-CALNAME:Teatro Mercadante
X-ORIGINAL-URL:https://www.teatromercadante.com
X-WR-CALDESC:Eventi per Teatro Mercadante
REFRESH-INTERVAL;VALUE=DURATION:PT1H
X-Robots-Tag:noindex
X-PUBLISHED-TTL:PT1H
BEGIN:VTIMEZONE
TZID:Europe/Helsinki
BEGIN:DAYLIGHT
TZOFFSETFROM:+0200
TZOFFSETTO:+0300
TZNAME:EEST
DTSTART:20240331T010000
END:DAYLIGHT
BEGIN:STANDARD
TZOFFSETFROM:+0300
TZOFFSETTO:+0200
TZNAME:EET
DTSTART:20241027T010000
END:STANDARD
BEGIN:DAYLIGHT
TZOFFSETFROM:+0200
TZOFFSETTO:+0300
TZNAME:EEST
DTSTART:20250330T010000
END:DAYLIGHT
BEGIN:STANDARD
TZOFFSETFROM:+0300
TZOFFSETTO:+0200
TZNAME:EET
DTSTART:20251026T010000
END:STANDARD
BEGIN:DAYLIGHT
TZOFFSETFROM:+0200
TZOFFSETTO:+0300
TZNAME:EEST
DTSTART:20260329T010000
END:DAYLIGHT
BEGIN:STANDARD
TZOFFSETFROM:+0300
TZOFFSETTO:+0200
TZNAME:EET
DTSTART:20261025T010000
END:STANDARD
END:VTIMEZONE
BEGIN:VEVENT
DTSTART;TZID=Europe/Helsinki:20250215T210000
DTEND;TZID=Europe/Helsinki:20250215T230000
DTSTAMP:20260419T185625
CREATED:20240625T190014Z
LAST-MODIFIED:20240910T180140Z
UID:10000102-1739653200-1739660400@www.teatromercadante.com
SUMMARY:Tenente Colombo
DESCRIPTION:Il famoso detective interpretato nella serie tv da Peter Falk nasce a teatro prima che sul piccolo schermo: gli stessi autori nel 1960 avevano creato il personaggio per una commedia gialla di grande impatto che a Broadway rimase per 5 anni consecutivi. Gli autori erano proprio Richard Levinson e William Link. La costruzione è perfetta\, il giallo incredibile e il personaggio del tenente già molto delineato.  Oggi per la prima volta in Italia in scena la commedia nella quale\, per la prima volta\, il pubblico assiste al delitto guardando negli occhi l’assassino che preparava l’omicidio perfetto. \nIl dottor Fleming è un brillante psichiatra di New York che non riesce più a tollerare il matrimonio con la moglie. Insieme alla sua giovane amante Susan\, architetta un piano per ucciderla. Ci sono tutti gli elementi che hanno poi caratterizzato la serie televisiva: un detective trasandato e maldestro che nasconde una vena sagace ed ironica e la capacità di conoscere a fondo la natura umana\, stanando i colpevoli. Talento ed esperienza nel cast di attori formato da Gianluca Ramazzotti\, Pietro Bontempo\, Samuela Sardo e Sara Ricci.
URL:https://www.teatromercadante.com/eventi/tenente-colombo-2/
CATEGORIES:Rassegna "Mettiamoci in prosa"
ATTACH;FMTTYPE=image/webp:https://www.teatromercadante.com/wp-content/uploads/2024/06/Il-Tenente-Colombo.webp
END:VEVENT
END:VCALENDAR