BEGIN:VCALENDAR
VERSION:2.0
PRODID:-//Teatro Mercadante - ECPv6.15.20//NONSGML v1.0//EN
CALSCALE:GREGORIAN
METHOD:PUBLISH
X-ORIGINAL-URL:https://www.teatromercadante.com
X-WR-CALDESC:Eventi per Teatro Mercadante
REFRESH-INTERVAL;VALUE=DURATION:PT1H
X-Robots-Tag:noindex
X-PUBLISHED-TTL:PT1H
BEGIN:VTIMEZONE
TZID:Europe/Helsinki
BEGIN:DAYLIGHT
TZOFFSETFROM:+0200
TZOFFSETTO:+0300
TZNAME:EEST
DTSTART:20240331T010000
END:DAYLIGHT
BEGIN:STANDARD
TZOFFSETFROM:+0300
TZOFFSETTO:+0200
TZNAME:EET
DTSTART:20241027T010000
END:STANDARD
BEGIN:DAYLIGHT
TZOFFSETFROM:+0200
TZOFFSETTO:+0300
TZNAME:EEST
DTSTART:20250330T010000
END:DAYLIGHT
BEGIN:STANDARD
TZOFFSETFROM:+0300
TZOFFSETTO:+0200
TZNAME:EET
DTSTART:20251026T010000
END:STANDARD
BEGIN:DAYLIGHT
TZOFFSETFROM:+0200
TZOFFSETTO:+0300
TZNAME:EEST
DTSTART:20260329T010000
END:DAYLIGHT
BEGIN:STANDARD
TZOFFSETFROM:+0300
TZOFFSETTO:+0200
TZNAME:EET
DTSTART:20261025T010000
END:STANDARD
END:VTIMEZONE
BEGIN:VEVENT
DTSTART;TZID=Europe/Helsinki:20250208T210000
DTEND;TZID=Europe/Helsinki:20250208T223000
DTSTAMP:20260419T184926
CREATED:20240625T190020Z
LAST-MODIFIED:20240913T104125Z
UID:10000113-1739048400-1739053800@www.teatromercadante.com
SUMMARY:Vincenzo Albano
DESCRIPTION:Monologhi\, riflessioni e punti di vista di un comico quarantenne che fa i conti con la vita quotidiana e soprattutto con l’età che avanza. Uno slalom tra tutti quegli aspetti della vita di tutti i giorni che fanno perdere tanto tempo e che forse è bene iniziare a limitare. E poi una sferzata caustica sui luoghi comuni\, sulle manie di tutti noi\, dallo sport allo shopping. \nC’è spazio anche per il personaggio del Manager di spettacolo visto a Zelig e Colorado: Enzo Ratti. A legare il tutto ci sarà anche qualche canzone\, ma da non prendere troppo sul serio! STAND-IN non è stand-up\, ma si avvicina molto nell’essenza: un microfono e la fantasia\, del comico e del pubblico. E poi si sa che i “panni sporchi” si lavano in casa\, ma si asciugano fuori\, meglio sul palco!
URL:https://www.teatromercadante.com/eventi/vincenzo-albano/
CATEGORIES:Rassegna "Comi-città"
ATTACH;FMTTYPE=image/jpeg:https://www.teatromercadante.com/wp-content/uploads/2024/06/Vincenzo_Albano-scaled.jpg
END:VEVENT
END:VCALENDAR