BEGIN:VCALENDAR
VERSION:2.0
PRODID:-//Teatro Mercadante - ECPv6.15.20//NONSGML v1.0//EN
CALSCALE:GREGORIAN
METHOD:PUBLISH
X-WR-CALNAME:Teatro Mercadante
X-ORIGINAL-URL:https://www.teatromercadante.com
X-WR-CALDESC:Eventi per Teatro Mercadante
REFRESH-INTERVAL;VALUE=DURATION:PT1H
X-Robots-Tag:noindex
X-PUBLISHED-TTL:PT1H
BEGIN:VTIMEZONE
TZID:Europe/Helsinki
BEGIN:DAYLIGHT
TZOFFSETFROM:+0200
TZOFFSETTO:+0300
TZNAME:EEST
DTSTART:20240331T010000
END:DAYLIGHT
BEGIN:STANDARD
TZOFFSETFROM:+0300
TZOFFSETTO:+0200
TZNAME:EET
DTSTART:20241027T010000
END:STANDARD
BEGIN:DAYLIGHT
TZOFFSETFROM:+0200
TZOFFSETTO:+0300
TZNAME:EEST
DTSTART:20250330T010000
END:DAYLIGHT
BEGIN:STANDARD
TZOFFSETFROM:+0300
TZOFFSETTO:+0200
TZNAME:EET
DTSTART:20251026T010000
END:STANDARD
BEGIN:DAYLIGHT
TZOFFSETFROM:+0200
TZOFFSETTO:+0300
TZNAME:EEST
DTSTART:20260329T010000
END:DAYLIGHT
BEGIN:STANDARD
TZOFFSETFROM:+0300
TZOFFSETTO:+0200
TZNAME:EET
DTSTART:20261025T010000
END:STANDARD
END:VTIMEZONE
BEGIN:VEVENT
DTSTART;TZID=Europe/Helsinki:20250201T210000
DTEND;TZID=Europe/Helsinki:20250201T223000
DTSTAMP:20260419T185619
CREATED:20240705T092516Z
LAST-MODIFIED:20240910T175928Z
UID:10000130-1738443600-1738449000@www.teatromercadante.com
SUMMARY:Non ci facciamo riconoscere
DESCRIPTION:Cosa significasse esattamente questa frase che i genitori degli anni 70\, 80 e 90 ritenevano buona per tutte le circostanze nelle quali bisognasse richiamare i figli ad un comportamento comunque diverso\, è rimasto un mistero! \nPerò questa frase risuona ancora nelle orecchie di tutti quelli che\, come me\, sono nati o cresciuti in quegli anni. Gli anni di piombo\, gli anni della legge sul divorzio\, sull’aborto\, gli anni del sequestro Moro\, ma anche del boom economico\, dell’Italia campione del Mondo in Spagna. Gli anni della Panda 30 con il finestrino abassato e l’autoradio che suonava i Depeche Mood\, i Duran Duran\, gli Spandau Ballet e“Boys” di una dirompente Sabrina Salerno che metteva d’accordo tutti. \nAnni ai quali la mia generazione guarda sempre con nostalgia. Certo eravamo giovani e spensierati\, ma siamo proprio sicuri che non farsi riconoscere sia stato un vantaggio o forse\, in qualche circostanza\, avremmo potuto alzare la voce e … farci riconoscere? \nProviamo a rispondere insieme a questa domanda passando attraverso quello che siamo stati\, per vedere come siamo diventati noi che le domande le facevamo ai cugini più grandi\, allo zio più moderno e non avevamo né Alexa\, né Google. \nCome spieghiamo tutto ciò ai nostri figli ai quali non possiamo più raccontare che con “certe pratiche” si diventa ciechi?
URL:https://www.teatromercadante.com/eventi/non-ci-facciamo-riconoscere/
CATEGORIES:Festival "Bombetta d'Oro"
ATTACH;FMTTYPE=image/jpeg:https://www.teatromercadante.com/wp-content/uploads/2024/07/4U4A4224-e1720171504535.jpg
END:VEVENT
END:VCALENDAR