BEGIN:VCALENDAR
VERSION:2.0
PRODID:-//Teatro Mercadante - ECPv6.15.20//NONSGML v1.0//EN
CALSCALE:GREGORIAN
METHOD:PUBLISH
X-ORIGINAL-URL:https://www.teatromercadante.com
X-WR-CALDESC:Eventi per Teatro Mercadante
REFRESH-INTERVAL;VALUE=DURATION:PT1H
X-Robots-Tag:noindex
X-PUBLISHED-TTL:PT1H
BEGIN:VTIMEZONE
TZID:Europe/Helsinki
BEGIN:DAYLIGHT
TZOFFSETFROM:+0200
TZOFFSETTO:+0300
TZNAME:EEST
DTSTART:20240331T010000
END:DAYLIGHT
BEGIN:STANDARD
TZOFFSETFROM:+0300
TZOFFSETTO:+0200
TZNAME:EET
DTSTART:20241027T010000
END:STANDARD
BEGIN:DAYLIGHT
TZOFFSETFROM:+0200
TZOFFSETTO:+0300
TZNAME:EEST
DTSTART:20250330T010000
END:DAYLIGHT
BEGIN:STANDARD
TZOFFSETFROM:+0300
TZOFFSETTO:+0200
TZNAME:EET
DTSTART:20251026T010000
END:STANDARD
BEGIN:DAYLIGHT
TZOFFSETFROM:+0200
TZOFFSETTO:+0300
TZNAME:EEST
DTSTART:20260329T010000
END:DAYLIGHT
BEGIN:STANDARD
TZOFFSETFROM:+0300
TZOFFSETTO:+0200
TZNAME:EET
DTSTART:20261025T010000
END:STANDARD
END:VTIMEZONE
BEGIN:VEVENT
DTSTART;TZID=Europe/Helsinki:20250126T173000
DTEND;TZID=Europe/Helsinki:20250126T193000
DTSTAMP:20260419T202925
CREATED:20240625T190058Z
LAST-MODIFIED:20240910T175850Z
UID:10000101-1737912600-1737919800@www.teatromercadante.com
SUMMARY:Trappola per topi
DESCRIPTION:Il 25 novembre 1952\, all’Ambassadors Theatre di Londra andava in scena per la prima volta “Trappola per topi” di Agatha Christie. Da allora\, per 70 anni ininterrottamente\, il sipario si è alzato su questa commedia “gialla” senza tempo e di straordinaria efficacia scenica. Ed ora tocca a noi… Non è consueto per me\, spesso regista drammaturgo in proprio\, misurarmi con un classico della letteratura teatrale. Certo da interpretare\, ma da servire e rispettare. Ma non ho avuto dubbi ad accettare. Perché “Trappola per topi” ha un plot ferreo ed incalzante\, è impregnata di suspense ed ironia\, ed è abitata da personaggi che non sono mai solo silhouette o stereotipi di genere\, ma creature bizzarre ed ambigue il giusto per stimolare e permettere una messa in scena non polverosa o di cliché. In fondo è questo che cerco nel mio lavoro: un mix di rigore ed eccentricità. D’altronde\, dice il poeta\, il dovere di tramandare non deve censurare il piacere di interpretare. Altra considerazione: nonostante l’ambientazione d’epoca e tipicamente British\, il racconto e la trama possono essere vissuti come contemporanei\, senza obbligatoriamente appoggiarsi sul già visto\, un po’ calligrafico o di maniera\, fatto spesso di boiserie\, kilt\, pipe e tè. Stereotipi della Gran Bretagna non lontani dalla semplicistica visione dell’Italia pizza e mandolino. Credo che i personaggi di Trappola nascano ovviamente nella loro epoca\, ma siano vivi e rappresentabili oggi\, perché i conflitti\, le ferite esistenziali\, i segreti che ognuno di loro esplicita o nasconde sono quelli dell’uomo contemporaneo\, dell’io diviso\, della pazzia inconsapevole. E credo riusciremo a dimostrarlo grazie alla potenza senza tempo di Agatha Christie\, ma anche e soprattutto con il talento e l’adesione di una compagnia di artisti che gioca seriamente con un’opera “chiusa” e precisa come una filigrana\, che però lascia spazio all’invenzione e alla sorpresa. In questo la scelta di Ettore Bassi come protagonista è emblematica\, una promessa di imprevedibilità e insieme di esattezza. Come sempre: metodo e follia. E poi c’è la neve\, la tormenta\, l’incubo dell’isolamento e della bivalenza\, il sospetto e la consapevolezza che il confine tra vittima e carnefice può essere superato in qualsiasi momento. Ingredienti succosi ed intriganti che spero intrappoleranno il pubblico.\n \nGiorgio Gallione
URL:https://www.teatromercadante.com/eventi/trappola-per-topi-26-gen/
CATEGORIES:Rassegna "Mettiamoci in prosa"
ATTACH;FMTTYPE=image/jpeg:https://www.teatromercadante.com/wp-content/uploads/2024/06/Ettore_Bassi.jpg
END:VEVENT
END:VCALENDAR