BEGIN:VCALENDAR
VERSION:2.0
PRODID:-//Teatro Mercadante - ECPv6.15.20//NONSGML v1.0//EN
CALSCALE:GREGORIAN
METHOD:PUBLISH
X-ORIGINAL-URL:https://www.teatromercadante.com
X-WR-CALDESC:Eventi per Teatro Mercadante
REFRESH-INTERVAL;VALUE=DURATION:PT1H
X-Robots-Tag:noindex
X-PUBLISHED-TTL:PT1H
BEGIN:VTIMEZONE
TZID:Europe/Helsinki
BEGIN:DAYLIGHT
TZOFFSETFROM:+0200
TZOFFSETTO:+0300
TZNAME:EEST
DTSTART:20240331T010000
END:DAYLIGHT
BEGIN:STANDARD
TZOFFSETFROM:+0300
TZOFFSETTO:+0200
TZNAME:EET
DTSTART:20241027T010000
END:STANDARD
BEGIN:DAYLIGHT
TZOFFSETFROM:+0200
TZOFFSETTO:+0300
TZNAME:EEST
DTSTART:20250330T010000
END:DAYLIGHT
BEGIN:STANDARD
TZOFFSETFROM:+0300
TZOFFSETTO:+0200
TZNAME:EET
DTSTART:20251026T010000
END:STANDARD
BEGIN:DAYLIGHT
TZOFFSETFROM:+0200
TZOFFSETTO:+0300
TZNAME:EEST
DTSTART:20260329T010000
END:DAYLIGHT
BEGIN:STANDARD
TZOFFSETFROM:+0300
TZOFFSETTO:+0200
TZNAME:EET
DTSTART:20261025T010000
END:STANDARD
END:VTIMEZONE
BEGIN:VEVENT
DTSTART;TZID=Europe/Helsinki:20250118T210000
DTEND;TZID=Europe/Helsinki:20250118T223000
DTSTAMP:20260419T202925
CREATED:20240625T190023Z
LAST-MODIFIED:20240913T103933Z
UID:10000112-1737234000-1737239400@www.teatromercadante.com
SUMMARY:Roberto Lipari
DESCRIPTION:“..E ho detto tutto” è l’espressione tipicamente usata da chi vuole mettere un punto ad una discussione\, ma è anche un modo per rafforzare ciò che si dice. In questo secondo caso diventa il correlativo di “sono convinto di ciò che ho detto”. Roberto Lipari utilizza tale frase nella sua duplice accezione. Lo spettacolo è concepito come una vera e propria discussione in cui Roberto esprime\, con la sua ormai nota comicità\, un punto di vista sul mondo che ci circonda\, portando avanti le sue convinzioni e aggiungendone di nuove. Riprende infatti il suo repertorio comico rafforzando i principi\, esprimendo nuovi punti di vista alla luce della trasformazione che la nostra società sta vivendo negli ultimi anni. Una trasformazione che ha coinvolto la quotidianità di tutti noi disegnando una società fluida nella quale sono nate nuove prospettive sui grandi temi quali l’ecologia\, l’economia\, la scuola\, i vecchi e i nuovi media.\nCon la sua comicità Roberto attraverserà le storture e i paradossi di questa nuova società con lo sguardo leggero e disincantato. Dietro la risata\, l’analisi e la riflessione offrono nuovi spazi e nuovi punti di vista.
URL:https://www.teatromercadante.com/eventi/roberto-lipari/
CATEGORIES:Rassegna "Comi-città"
ATTACH;FMTTYPE=image/jpeg:https://www.teatromercadante.com/wp-content/uploads/2024/06/Roberto-Lipari.jpg
END:VEVENT
END:VCALENDAR