BEGIN:VCALENDAR
VERSION:2.0
PRODID:-//Teatro Mercadante - ECPv6.15.20//NONSGML v1.0//EN
CALSCALE:GREGORIAN
METHOD:PUBLISH
X-ORIGINAL-URL:https://www.teatromercadante.com
X-WR-CALDESC:Eventi per Teatro Mercadante
REFRESH-INTERVAL;VALUE=DURATION:PT1H
X-Robots-Tag:noindex
X-PUBLISHED-TTL:PT1H
BEGIN:VTIMEZONE
TZID:Europe/Helsinki
BEGIN:DAYLIGHT
TZOFFSETFROM:+0200
TZOFFSETTO:+0300
TZNAME:EEST
DTSTART:20230326T010000
END:DAYLIGHT
BEGIN:STANDARD
TZOFFSETFROM:+0300
TZOFFSETTO:+0200
TZNAME:EET
DTSTART:20231029T010000
END:STANDARD
BEGIN:DAYLIGHT
TZOFFSETFROM:+0200
TZOFFSETTO:+0300
TZNAME:EEST
DTSTART:20240331T010000
END:DAYLIGHT
BEGIN:STANDARD
TZOFFSETFROM:+0300
TZOFFSETTO:+0200
TZNAME:EET
DTSTART:20241027T010000
END:STANDARD
BEGIN:DAYLIGHT
TZOFFSETFROM:+0200
TZOFFSETTO:+0300
TZNAME:EEST
DTSTART:20250330T010000
END:DAYLIGHT
BEGIN:STANDARD
TZOFFSETFROM:+0300
TZOFFSETTO:+0200
TZNAME:EET
DTSTART:20251026T010000
END:STANDARD
END:VTIMEZONE
BEGIN:VEVENT
DTSTART;TZID=Europe/Helsinki:20241130T210000
DTEND;TZID=Europe/Helsinki:20241130T230000
DTSTAMP:20260419T215931
CREATED:20240625T190021Z
LAST-MODIFIED:20240910T175339Z
UID:10000115-1733000400-1733007600@www.teatromercadante.com
SUMMARY:La signora della tv
DESCRIPTION:Un inno alla leggerezza ed un riferimento principe: il varietà. Vincenzo De Lucia\, dopo le fortunate apparizioni televisive nelle prime serate Rai da “Made in Sud”\, “Stasera tutto è possibile” a “Tale e Quale Show” fino alle incursioni a “Domenica In”\, accompagnato da 4 ballerini e performer\, con le musiche e gli arrangiamenti firmati dal maestro Claudio Romano\, traghetterà il pubblico in una galleria di Signore del piccolo e grande schermo e della musica: Barbara d’Urso\, Maria de Filippi e Mara Venier\, per citarne alcune. Risate garantite\, costumi sfavillanti\, gag improvvisate ed il continuo coinvolgimento del pubblico: uno spettacolo carnale che ha come unica missione quella di intrattenere e divertire e che lo scorso anno ha registrato il sold out per ogni replica. Torna in scena quest’anno\, a grande richiesta\, conservando la struttura originale e diversificandosi per la presenza di “nuove” e sempre più esilaranti Signore della tv!
URL:https://www.teatromercadante.com/eventi/la-signora-della-tv/
CATEGORIES:Music All
ATTACH;FMTTYPE=image/jpeg:https://www.teatromercadante.com/wp-content/uploads/2024/06/Vincenzo-De-Lucia.jpg
END:VEVENT
END:VCALENDAR