BEGIN:VCALENDAR
VERSION:2.0
PRODID:-//Teatro Mercadante - ECPv6.15.20//NONSGML v1.0//EN
CALSCALE:GREGORIAN
METHOD:PUBLISH
X-ORIGINAL-URL:https://www.teatromercadante.com
X-WR-CALDESC:Eventi per Teatro Mercadante
REFRESH-INTERVAL;VALUE=DURATION:PT1H
X-Robots-Tag:noindex
X-PUBLISHED-TTL:PT1H
BEGIN:VTIMEZONE
TZID:Europe/Helsinki
BEGIN:DAYLIGHT
TZOFFSETFROM:+0200
TZOFFSETTO:+0300
TZNAME:EEST
DTSTART:20230326T010000
END:DAYLIGHT
BEGIN:STANDARD
TZOFFSETFROM:+0300
TZOFFSETTO:+0200
TZNAME:EET
DTSTART:20231029T010000
END:STANDARD
BEGIN:DAYLIGHT
TZOFFSETFROM:+0200
TZOFFSETTO:+0300
TZNAME:EEST
DTSTART:20240331T010000
END:DAYLIGHT
BEGIN:STANDARD
TZOFFSETFROM:+0300
TZOFFSETTO:+0200
TZNAME:EET
DTSTART:20241027T010000
END:STANDARD
BEGIN:DAYLIGHT
TZOFFSETFROM:+0200
TZOFFSETTO:+0300
TZNAME:EEST
DTSTART:20250330T010000
END:DAYLIGHT
BEGIN:STANDARD
TZOFFSETFROM:+0300
TZOFFSETTO:+0200
TZNAME:EET
DTSTART:20251026T010000
END:STANDARD
END:VTIMEZONE
BEGIN:VEVENT
DTSTART;TZID=Europe/Helsinki:20241123T210000
DTEND;TZID=Europe/Helsinki:20241123T223000
DTSTAMP:20260419T234202
CREATED:20240625T190018Z
LAST-MODIFIED:20240913T103754Z
UID:10000111-1732395600-1732401000@www.teatromercadante.com
SUMMARY:Peppe Iodice
DESCRIPTION:Gli eventi degli ultimi anni hanno fatto perdere a tutti noi i riferimenti\, le certezze\, quei piccoli punti fermi che sostengono la vita di ognuno. Tutto il mondo sta provando a venire fuori da un periodo estremamente complesso. Guerra\, pandemia\, crisi economica hanno cambiato profondamente le regole del gioco! \nIl nuovo spettacolo di Peppe Iodice insieme a Francesco Mastrandrea sarà un’occasione per liberarsi delle proprie paura\, preoccupazioni\, perplessità. Attraverso lo show verranno condivise con gli spettatori le riflessioni\, i pensieri e la personalissima visione comica della realtà che ha reso Peppe un beniamino del pubblico. Cercheranno di dar vita ad una terapia di gruppo alla loro maniera\, svelando i loro segreti\, liberamente e senza filtri. Perché tanto alla fine “resta fra di noi”.
URL:https://www.teatromercadante.com/eventi/peppe-iodice/
CATEGORIES:Rassegna "Comi-città"
ATTACH;FMTTYPE=image/jpeg:https://www.teatromercadante.com/wp-content/uploads/2024/06/Peppe-iodice-.jpg
END:VEVENT
END:VCALENDAR