BEGIN:VCALENDAR
VERSION:2.0
PRODID:-//Teatro Mercadante - ECPv6.15.20//NONSGML v1.0//EN
CALSCALE:GREGORIAN
METHOD:PUBLISH
X-ORIGINAL-URL:https://www.teatromercadante.com
X-WR-CALDESC:Eventi per Teatro Mercadante
REFRESH-INTERVAL;VALUE=DURATION:PT1H
X-Robots-Tag:noindex
X-PUBLISHED-TTL:PT1H
BEGIN:VTIMEZONE
TZID:Europe/Helsinki
BEGIN:DAYLIGHT
TZOFFSETFROM:+0200
TZOFFSETTO:+0300
TZNAME:EEST
DTSTART:20230326T010000
END:DAYLIGHT
BEGIN:STANDARD
TZOFFSETFROM:+0300
TZOFFSETTO:+0200
TZNAME:EET
DTSTART:20231029T010000
END:STANDARD
BEGIN:DAYLIGHT
TZOFFSETFROM:+0200
TZOFFSETTO:+0300
TZNAME:EEST
DTSTART:20240331T010000
END:DAYLIGHT
BEGIN:STANDARD
TZOFFSETFROM:+0300
TZOFFSETTO:+0200
TZNAME:EET
DTSTART:20241027T010000
END:STANDARD
BEGIN:DAYLIGHT
TZOFFSETFROM:+0200
TZOFFSETTO:+0300
TZNAME:EEST
DTSTART:20250330T010000
END:DAYLIGHT
BEGIN:STANDARD
TZOFFSETFROM:+0300
TZOFFSETTO:+0200
TZNAME:EET
DTSTART:20251026T010000
END:STANDARD
END:VTIMEZONE
BEGIN:VEVENT
DTSTART;TZID=Europe/Helsinki:20241103T193000
DTEND;TZID=Europe/Helsinki:20241103T213000
DTSTAMP:20260419T234201
CREATED:20240625T190019Z
LAST-MODIFIED:20240910T174931Z
UID:10000119-1730662200-1730669400@www.teatromercadante.com
SUMMARY:Barcelona Gipsy balKan Orchestra
DESCRIPTION:Il sound unico e contemporaneo della Barcelona Gipsy balKan Orchestra deriva dalla sua appassionata e inarrestabile esplorazione dei suoni e dei timbri della musica rom\, klezmer\, balkan e mediterranea\, inteso come un insieme di tradizioni musicali e culture multietniche che va oltre ogni confine geografico.\nLa Barcelona Gipsy balKan Orchestra mescola le differenze artistiche dei vari membri\, arricchito dalla vibrante scena musicale di Barcelona: dalla tradizione catalana\, greca\, italiana\, russa e mediorientale alle vibrazioni del jazz manouche e del rock.
URL:https://www.teatromercadante.com/eventi/barcelona-gipsy-balkan-orchestra/
CATEGORIES:Stagione concertistica
ATTACH;FMTTYPE=image/jpeg:https://www.teatromercadante.com/wp-content/uploads/2024/06/BGKO.jpg
END:VEVENT
END:VCALENDAR