BEGIN:VCALENDAR
VERSION:2.0
PRODID:-//Teatro Mercadante - ECPv6.15.20//NONSGML v1.0//EN
CALSCALE:GREGORIAN
METHOD:PUBLISH
X-ORIGINAL-URL:https://www.teatromercadante.com
X-WR-CALDESC:Eventi per Teatro Mercadante
REFRESH-INTERVAL;VALUE=DURATION:PT1H
X-Robots-Tag:noindex
X-PUBLISHED-TTL:PT1H
BEGIN:VTIMEZONE
TZID:Europe/Helsinki
BEGIN:DAYLIGHT
TZOFFSETFROM:+0200
TZOFFSETTO:+0300
TZNAME:EEST
DTSTART:20230326T010000
END:DAYLIGHT
BEGIN:STANDARD
TZOFFSETFROM:+0300
TZOFFSETTO:+0200
TZNAME:EET
DTSTART:20231029T010000
END:STANDARD
BEGIN:DAYLIGHT
TZOFFSETFROM:+0200
TZOFFSETTO:+0300
TZNAME:EEST
DTSTART:20240331T010000
END:DAYLIGHT
BEGIN:STANDARD
TZOFFSETFROM:+0300
TZOFFSETTO:+0200
TZNAME:EET
DTSTART:20241027T010000
END:STANDARD
BEGIN:DAYLIGHT
TZOFFSETFROM:+0200
TZOFFSETTO:+0300
TZNAME:EEST
DTSTART:20250330T010000
END:DAYLIGHT
BEGIN:STANDARD
TZOFFSETFROM:+0300
TZOFFSETTO:+0200
TZNAME:EET
DTSTART:20251026T010000
END:STANDARD
END:VTIMEZONE
BEGIN:VEVENT
DTSTART;TZID=Europe/Helsinki:20240323T230000
DTEND;TZID=Europe/Helsinki:20240324T010000
DTSTAMP:20260422T112932
CREATED:20230620T193045Z
LAST-MODIFIED:20230906T090132Z
UID:10000062-1711234800-1711242000@www.teatromercadante.com
SUMMARY:Vasame
DESCRIPTION:Uno spettacolo che parla d’ammore e che ha come filo conduttore la musica del cantautore Enzo Gragnaniello e la spumeggiante presenza di Marisa Laurito che canta e recita” l’ammore” nelle sue tenere struggenti e divertenti sfaccettature. Una musica originaria\, atavica e istintiva che si rivela al pubblico attraverso sonorità e ritmiche sincere\, dirette e che ha lo scopo di ricondurlo alle sue\nradici più remote e ancor di più a punti di riflessione sulla condizione attuale che il mondo sta vivendo. Un invito al sentimento più semplice e complesso: l’ammore\, la chiave di tutto. Insieme a loro una band di tre bravissimi musicisti.
URL:https://www.teatromercadante.com/eventi/vasame/
CATEGORIES:Music All
ATTACH;FMTTYPE=image/jpeg:https://www.teatromercadante.com/wp-content/uploads/2023/06/Laurito-Gragnaniello-e1687433536694.jpg
END:VEVENT
END:VCALENDAR