BEGIN:VCALENDAR
VERSION:2.0
PRODID:-//Teatro Mercadante - ECPv6.15.20//NONSGML v1.0//EN
CALSCALE:GREGORIAN
METHOD:PUBLISH
X-WR-CALNAME:Teatro Mercadante
X-ORIGINAL-URL:https://www.teatromercadante.com
X-WR-CALDESC:Eventi per Teatro Mercadante
REFRESH-INTERVAL;VALUE=DURATION:PT1H
X-Robots-Tag:noindex
X-PUBLISHED-TTL:PT1H
BEGIN:VTIMEZONE
TZID:Europe/Helsinki
BEGIN:DAYLIGHT
TZOFFSETFROM:+0200
TZOFFSETTO:+0300
TZNAME:EEST
DTSTART:20230326T010000
END:DAYLIGHT
BEGIN:STANDARD
TZOFFSETFROM:+0300
TZOFFSETTO:+0200
TZNAME:EET
DTSTART:20231029T010000
END:STANDARD
BEGIN:DAYLIGHT
TZOFFSETFROM:+0200
TZOFFSETTO:+0300
TZNAME:EEST
DTSTART:20240331T010000
END:DAYLIGHT
BEGIN:STANDARD
TZOFFSETFROM:+0300
TZOFFSETTO:+0200
TZNAME:EET
DTSTART:20241027T010000
END:STANDARD
BEGIN:DAYLIGHT
TZOFFSETFROM:+0200
TZOFFSETTO:+0300
TZNAME:EEST
DTSTART:20250330T010000
END:DAYLIGHT
BEGIN:STANDARD
TZOFFSETFROM:+0300
TZOFFSETTO:+0200
TZNAME:EET
DTSTART:20251026T010000
END:STANDARD
END:VTIMEZONE
BEGIN:VEVENT
DTSTART;TZID=Europe/Helsinki:20240210T230000
DTEND;TZID=Europe/Helsinki:20240211T010000
DTSTAMP:20260422T125522
CREATED:20230831T155649Z
LAST-MODIFIED:20230906T085707Z
UID:10000077-1707606000-1707613200@www.teatromercadante.com
SUMMARY:Che stress andare a teatro
DESCRIPTION:Tutto nasce quando ad una coppia Fofò e Catena  (marito e moglie) molto ignoranti\, vengono regalati dalla padrona di casa due biglietti omaggio per andare a vedere a teatro uno spettacolo di ricerca. Uno spettacolo radical chic. Dopo i primi tentennamenti e dubbi decidono di andare. C’è da scegliere però l’abbigliamento adatto per una serata così “speciale”. “Cappello o non cappello ” . “Abito lungo o corto” . “Vestito con cravatta o senza”. Scelte difficili per chi non pratica abitualmente un teatro. O per meglio dire per chi come Fofò e Catena non lo praticano affatto. Però il tempo stringe e bisogna decidere in fretta. Se poi a far perdere tempo ci si mette pure una “strana” vicina  di casa che non perde occasione per presentarsi sempre con scuse diverse a casa dei coniugi Fofò/Catena tutto diventa più complicato e inverosimile. Come è tipico della FARSA\, non mancano i colpi di scena\, i ribaltamenti di ruolo\, le situazioni paradossalmente comiche che s’innescano una nell’altra. Sono tutti spunti possibili per ampliare le scene in altrettante ipotesi brillanti\, con la chiara intenzione di rendere quanto più comico possibile il tessuto drammaturgico. Cercando – al tempo stesso – di lasciare intatta la carica ironica del testo\, destinandola ai suoi scopi minimi (se non di critica sociale) quanto meno di riflessione. La nostra Compagnia cerca di raccontare frammenti di verità (quando è possibile) attraverso lo strumento del divertimento: sia esso nel segno della commedia\, che in quello\, più surreale e fisico\, della farsa. Buon divertimento
URL:https://www.teatromercadante.com/eventi/che-stress-andare-a-teatro/
CATEGORIES:Festival "Bombetta d'Oro"
ATTACH;FMTTYPE=image/jpeg:https://www.teatromercadante.com/wp-content/uploads/2023/08/che-stress-andare-a-teatro-e1693504465528.jpeg
END:VEVENT
END:VCALENDAR