BEGIN:VCALENDAR
VERSION:2.0
PRODID:-//Teatro Mercadante - ECPv6.15.20//NONSGML v1.0//EN
CALSCALE:GREGORIAN
METHOD:PUBLISH
X-ORIGINAL-URL:https://www.teatromercadante.com
X-WR-CALDESC:Eventi per Teatro Mercadante
REFRESH-INTERVAL;VALUE=DURATION:PT1H
X-Robots-Tag:noindex
X-PUBLISHED-TTL:PT1H
BEGIN:VTIMEZONE
TZID:Europe/Helsinki
BEGIN:DAYLIGHT
TZOFFSETFROM:+0200
TZOFFSETTO:+0300
TZNAME:EEST
DTSTART:20230326T010000
END:DAYLIGHT
BEGIN:STANDARD
TZOFFSETFROM:+0300
TZOFFSETTO:+0200
TZNAME:EET
DTSTART:20231029T010000
END:STANDARD
BEGIN:DAYLIGHT
TZOFFSETFROM:+0200
TZOFFSETTO:+0300
TZNAME:EEST
DTSTART:20240331T010000
END:DAYLIGHT
BEGIN:STANDARD
TZOFFSETFROM:+0300
TZOFFSETTO:+0200
TZNAME:EET
DTSTART:20241027T010000
END:STANDARD
BEGIN:DAYLIGHT
TZOFFSETFROM:+0200
TZOFFSETTO:+0300
TZNAME:EEST
DTSTART:20250330T010000
END:DAYLIGHT
BEGIN:STANDARD
TZOFFSETFROM:+0300
TZOFFSETTO:+0200
TZNAME:EET
DTSTART:20251026T010000
END:STANDARD
END:VTIMEZONE
BEGIN:VEVENT
DTSTART;TZID=Europe/Helsinki:20240125T230000
DTEND;TZID=Europe/Helsinki:20240126T010000
DTSTAMP:20260422T145243
CREATED:20230621T193044Z
LAST-MODIFIED:20231009T061445Z
UID:10000059-1706223600-1706230800@www.teatromercadante.com
SUMMARY:La prima volta
DESCRIPTION:Paolo Conticini\, canta e racconta un po’ di sé: la famiglia\, gli studi\, i suoi primi lavori\, poi l’incontro con Christian De Sica\, che gli dà la possibilità di esprimersi come attore… E’ solo l’inizio di un percorso artistico in continua evoluzione\, ricco di soddisfazioni nel cinema\, in tv e in teatro. Tra un aneddoto e l’altro\, Paolo legge e racconta le sue prime volte\, ma è come se raccontasse la vita di tutti noi: le sue prime volte\, sono le nostre prime volte\, i suoi dubbi\, sono i nostri\, così come le occasioni perse e le piccole soddisfazioni. Coincidenze incredibili che narrano cose credibili. Congiunzioni astrali favorevoli che hanno determinato eventi unici\, le cosiddette Sliding doors che ognuno di noi ha incontrato nella vita\, che hanno inconsapevolmente costruito la struttura portante di una vita originale. Paolo ci confida le sue insicurezze\, ci mostra le sue paure e le sue fragilità\, permettendoci di vedere cosa c’è dietro l’immagine dell’attore bello e atletico\, e ci fa scoprire l’essere umano tanto simile a “quel nostro amico della porta accanto”. Divertenti\, poetiche\, drammatiche esperienze che ci fanno riflettere su quanto è sorprendente la vita. Paolo\, inoltre\, condivide con il pubblico un’altra sua passione\, il canto. Propone alcune canzoni che hanno un significato particolare nel suo mondo e che confermano le sue doti di artista a trecentosessantagradi. Un breve e ironico bilancio di un uomo che a cinquant’anni ha imparato a fare della sua esistenza ciò che ha sempre sognato\, e a metà del suo cammino sceglie con coraggio di condividere le sue esperienze\, i suoi errori e giocare a fare progetti per il futuro\, perché consapevole che nella vita niente è facile ma nulla è impossibile. Un leggìo e una chitarra\, storie e canzoni\, gli ingredienti principali e leggeri di una performance di ottanta minuti circa\, in cui Paolo ci fa dimenticare temporaneamente un momento storico difficile per tutto il mondo.
URL:https://www.teatromercadante.com/eventi/la-prima-volta/
CATEGORIES:Music All
ATTACH;FMTTYPE=image/jpeg:https://www.teatromercadante.com/wp-content/uploads/2023/06/paolo-conticini-la-prima-volta-e1687432971282.jpg
END:VEVENT
END:VCALENDAR