BEGIN:VCALENDAR
VERSION:2.0
PRODID:-//Teatro Mercadante - ECPv6.15.20//NONSGML v1.0//EN
CALSCALE:GREGORIAN
METHOD:PUBLISH
X-ORIGINAL-URL:https://www.teatromercadante.com
X-WR-CALDESC:Eventi per Teatro Mercadante
REFRESH-INTERVAL;VALUE=DURATION:PT1H
X-Robots-Tag:noindex
X-PUBLISHED-TTL:PT1H
BEGIN:VTIMEZONE
TZID:Europe/Helsinki
BEGIN:DAYLIGHT
TZOFFSETFROM:+0200
TZOFFSETTO:+0300
TZNAME:EEST
DTSTART:20230326T010000
END:DAYLIGHT
BEGIN:STANDARD
TZOFFSETFROM:+0300
TZOFFSETTO:+0200
TZNAME:EET
DTSTART:20231029T010000
END:STANDARD
BEGIN:DAYLIGHT
TZOFFSETFROM:+0200
TZOFFSETTO:+0300
TZNAME:EEST
DTSTART:20240331T010000
END:DAYLIGHT
BEGIN:STANDARD
TZOFFSETFROM:+0300
TZOFFSETTO:+0200
TZNAME:EET
DTSTART:20241027T010000
END:STANDARD
BEGIN:DAYLIGHT
TZOFFSETFROM:+0200
TZOFFSETTO:+0300
TZNAME:EEST
DTSTART:20250330T010000
END:DAYLIGHT
BEGIN:STANDARD
TZOFFSETFROM:+0300
TZOFFSETTO:+0200
TZNAME:EET
DTSTART:20251026T010000
END:STANDARD
END:VTIMEZONE
BEGIN:VEVENT
DTSTART;TZID=Europe/Helsinki:20240119T230000
DTEND;TZID=Europe/Helsinki:20240120T003000
DTSTAMP:20260422T145238
CREATED:20240112T144248Z
LAST-MODIFIED:20240112T145008Z
UID:10000084-1705705200-1705710600@www.teatromercadante.com
SUMMARY:Amici per sempre Tour '24
DESCRIPTION:Un grande spettacolo musicale che ripercorre fedelmente e con grande passione tutta la carriera e la storia del più grande gruppo musicale italiano. \n  \nI Poohlive sono Tribute band dei mitici Pooh. Un progetto musicale che realizza\, attraverso un imponente spettacolo\, la storia di questa grande e storica band. \nI Poohlive nascono oltre 30 anni fa e nel 2013 partecipano al “Pooh tribute band”\, con il brano “Amici per sempre”\, un doppio album prodotto da Red CANZIAN. Il disco esce in tutta Italia il 15 Aprile del 2014. \nIl 21 settembre del 2013 i Poohlive si esibiscono in un memorabile concerto ospitando Red Canzian per omaggiarlo con un premio alla sua lunga carriera artistica. \nA sorpresa\, in considerazione della stima e dell’amicizia\, Red si esibisce sul palco con i Poohlive davanti ad oltre 5000 persone. \n“Amici per sempre Tour” è uno spettacolo pieno di emozioni. La scaletta ripercorre tutta la storia dei Pooh in una sintesi musicale di grande effetto e impatto emotivo. Lo spettacolo in un unico atto esalta la partecipazione del pubblico coinvolto fino all’ultima nota e all’ultima canzone. \nUna entusiasmante esperienza di emozione\, cuore e passione della band da condividere assolutamente con tutto il pubblico.
URL:https://www.teatromercadante.com/eventi/poohlive/
CATEGORIES:Fuori abbonamento
ATTACH;FMTTYPE=image/jpeg:https://www.teatromercadante.com/wp-content/uploads/2024/01/Poohlive.jpg
END:VEVENT
BEGIN:VEVENT
DTSTART;TZID=Europe/Helsinki:20240120T230000
DTEND;TZID=Europe/Helsinki:20240121T010000
DTSTAMP:20260422T145238
CREATED:20230621T193007Z
LAST-MODIFIED:20230906T085339Z
UID:10000060-1705791600-1705798800@www.teatromercadante.com
SUMMARY:Ci vuole orecchio
DESCRIPTION:Enzo Jannacci\, il poetastro come amava definirsi\, è stato il cantautore più eccentrico e personale della storia della canzone italiana\, in grado di intrecciare temi e stili apparentemente inconciliabili: allegria e tristezza\, tragedia e farsa\, gioia e malinconia. E ogni volta il suo sguardo\, poetico e bizzarro\, è riuscito a spiazzare\, a stupire: popolare e anticonformista contemporaneamente. \nJannacci è anche l’artista che meglio di chiunque altro ha saputo raccontare la Milano delle periferie degli anni ‘60 e ‘70\, trasfigurandola in una sorta di teatro dell’assurdo realissimo e toccante\, dove agiscono miriadi di personaggi picareschi e borderline\, ai confini del surreale.\n“Roba minima”\, diceva Jannacci: barboni\, tossici\, prostitute coi calzett de seda\, ma anche cani coi capelli o telegrafisti dal cuore urgente.\nUn Buster Keaton della canzone\, nato dalle parti di Lambrate\, che verrà rivisitato\, reinterpretato e “ricantato” da Elio. \nSul palco\, nella coloratissima scenografia disegnata da Giorgio Gallione\, troveremo assieme a Elio cinque musicisti\, i suoi stravaganti compagni di viaggio\, che formeranno un’insolita e bizzarra carovana sonora. A loro toccherà il compito di accompagnare lo scoppiettante confronto tra due saltimbanchi della musica alle prese con un repertorio umano e musicale sconfinato e irripetibile\, arricchito da scritti e pensieri di compagni di strada\, reali o ideali\, di “schizzo” Jannacci. Da Beppe Viola a Cesare Zavattini\, da Franco Loi a Michele Serra\, da Umberto Eco a Fo o a Gadda.\nUno spettacolo giocoso e profondo perché “chi non ride non è una persona seria”.
URL:https://www.teatromercadante.com/eventi/ci-vuole-orecchio/
CATEGORIES:Music All
ATTACH;FMTTYPE=image/jpeg:https://www.teatromercadante.com/wp-content/uploads/2023/06/elio_jannacci-scaled-e1687433583927.jpg
END:VEVENT
END:VCALENDAR