BEGIN:VCALENDAR
VERSION:2.0
PRODID:-//Teatro Mercadante - ECPv6.15.20//NONSGML v1.0//EN
CALSCALE:GREGORIAN
METHOD:PUBLISH
X-WR-CALNAME:Teatro Mercadante
X-ORIGINAL-URL:https://www.teatromercadante.com
X-WR-CALDESC:Eventi per Teatro Mercadante
REFRESH-INTERVAL;VALUE=DURATION:PT1H
X-Robots-Tag:noindex
X-PUBLISHED-TTL:PT1H
BEGIN:VTIMEZONE
TZID:Europe/Helsinki
BEGIN:DAYLIGHT
TZOFFSETFROM:+0200
TZOFFSETTO:+0300
TZNAME:EEST
DTSTART:20220327T010000
END:DAYLIGHT
BEGIN:STANDARD
TZOFFSETFROM:+0300
TZOFFSETTO:+0200
TZNAME:EET
DTSTART:20221030T010000
END:STANDARD
BEGIN:DAYLIGHT
TZOFFSETFROM:+0200
TZOFFSETTO:+0300
TZNAME:EEST
DTSTART:20230326T010000
END:DAYLIGHT
BEGIN:STANDARD
TZOFFSETFROM:+0300
TZOFFSETTO:+0200
TZNAME:EET
DTSTART:20231029T010000
END:STANDARD
BEGIN:DAYLIGHT
TZOFFSETFROM:+0200
TZOFFSETTO:+0300
TZNAME:EEST
DTSTART:20240331T010000
END:DAYLIGHT
BEGIN:STANDARD
TZOFFSETFROM:+0300
TZOFFSETTO:+0200
TZNAME:EET
DTSTART:20241027T010000
END:STANDARD
END:VTIMEZONE
BEGIN:VEVENT
DTSTART;TZID=Europe/Helsinki:20231105T213000
DTEND;TZID=Europe/Helsinki:20231105T233000
DTSTAMP:20260422T173948
CREATED:20230621T193015Z
LAST-MODIFIED:20230906T083853Z
UID:10000067-1699219800-1699227000@www.teatromercadante.com
SUMMARY:Omaggio a Piazzolla
DESCRIPTION:Un concerto dedicato al grande musicista e compositore argentino\, di origini pugliesi: Astor Piazzolla. La voce inconfondibile di Silvia Mezzanotte\, storica cantante dei Matia Bazar\, interpreterà i testi di Horacio Ferrer\, accompagnata dal pianoforte del giovane direttore d’orchestra Filippo Arlia che si combina con la magia del bandoneon di  Cesare Chiacchieretta\, in arte DUETTANGO.
URL:https://www.teatromercadante.com/eventi/omaggio-a-piazzolla/
CATEGORIES:Stagione concertistica
ATTACH;FMTTYPE=image/webp:https://www.teatromercadante.com/wp-content/uploads/2023/06/Silvia-Mezzanotte-3.webp
END:VEVENT
END:VCALENDAR