BEGIN:VCALENDAR
VERSION:2.0
PRODID:-//Teatro Mercadante - ECPv6.15.20//NONSGML v1.0//EN
CALSCALE:GREGORIAN
METHOD:PUBLISH
X-ORIGINAL-URL:https://www.teatromercadante.com
X-WR-CALDESC:Eventi per Teatro Mercadante
REFRESH-INTERVAL;VALUE=DURATION:PT1H
X-Robots-Tag:noindex
X-PUBLISHED-TTL:PT1H
BEGIN:VTIMEZONE
TZID:Europe/Helsinki
BEGIN:DAYLIGHT
TZOFFSETFROM:+0200
TZOFFSETTO:+0300
TZNAME:EEST
DTSTART:20220327T010000
END:DAYLIGHT
BEGIN:STANDARD
TZOFFSETFROM:+0300
TZOFFSETTO:+0200
TZNAME:EET
DTSTART:20221030T010000
END:STANDARD
BEGIN:DAYLIGHT
TZOFFSETFROM:+0200
TZOFFSETTO:+0300
TZNAME:EEST
DTSTART:20230326T010000
END:DAYLIGHT
BEGIN:STANDARD
TZOFFSETFROM:+0300
TZOFFSETTO:+0200
TZNAME:EET
DTSTART:20231029T010000
END:STANDARD
BEGIN:DAYLIGHT
TZOFFSETFROM:+0200
TZOFFSETTO:+0300
TZNAME:EEST
DTSTART:20240331T010000
END:DAYLIGHT
BEGIN:STANDARD
TZOFFSETFROM:+0300
TZOFFSETTO:+0200
TZNAME:EET
DTSTART:20241027T010000
END:STANDARD
END:VTIMEZONE
BEGIN:VEVENT
DTSTART;TZID=Europe/Helsinki:20230401T230000
DTEND;TZID=Europe/Helsinki:20230402T010000
DTSTAMP:20260423T044224
CREATED:20230220T153352Z
LAST-MODIFIED:20230331T132318Z
UID:10000030-1680390000-1680397200@www.teatromercadante.com
SUMMARY:Yari Gugliucci
DESCRIPTION:Napoli\, 17 aprile 1967\, giorno del funerale di Totò. Un fiume di gente attonita\, addolorata e scomposta rende l’estremo omaggio ad Antonio de Curtis\, morto due giorni prima a Roma\, centoventimila persone\, una ressa incredibile. Una donna lancia un grido\, additando un individuo: “Sì! Oddio! È proprio lui!”. Un uomo esclama: “Guardate là! Totò è vivo! Totò non è morto! è resuscitato!”. Ma che sta succedendo? Il personaggio che viene indicato per molti anni è stato a fianco di Totò e spesso lo ha sostituito per la sua incredibile somiglianza: Dino Valdi\, la sua controfigura. Durante il funerale\, il secondo dei tre che furono celebrati in onore del defunto\, Valdi viene avvicinato da una giornalista del quotidiano “Il Mattino” di Napoli che\, incuriosita dalle urla e dagli svenimenti\, gli chiede di rilasciargli un’intervista\, proprio per raccontare\, a modo suo\, la vita del Principe della risata. Lo spettacolo teatrale è un’intervista immaginaria\, che intende tracciare una biografia non autorizzata. La vita di Totò viene raccontata in maniera assolutamente inedita da colui che ne ha rappresentato l’ombra. L’umile Dino diventa\, almeno una volta nella sua vita\, improvvisamente e inconsapevolmente protagonista assoluto di una storia che non è la sua. Attraverso i suoi ricordi\, riemergono i fatti e i personaggi del percorso artistico e familiare\, pubblico e privato\, del celebre attore.
URL:https://www.teatromercadante.com/eventi/yari-gugliucci/
CATEGORIES:Rassegna "Mettiamoci in prosa"
ATTACH;FMTTYPE=image/jpeg:https://www.teatromercadante.com/wp-content/uploads/2023/02/yuri-gugliucci-e1684770372115.jpg
END:VEVENT
BEGIN:VEVENT
DTSTART;TZID=Europe/Helsinki:20230402T193000
DTEND;TZID=Europe/Helsinki:20230402T193000
DTSTAMP:20260423T044224
CREATED:20230221T114545Z
LAST-MODIFIED:20230331T132112Z
UID:10000032-1680463800-1680463800@www.teatromercadante.com
SUMMARY:Yari Gugliucci
DESCRIPTION:Napoli\, 17 aprile 1967\, giorno del funerale di Totò. Un fiume di gente attonita\, addolorata e scomposta rende l’estremo omaggio ad Antonio de Curtis\, morto due giorni prima a Roma\, centoventimila persone\, una ressa incredibile. Una donna lancia un grido\, additando un individuo: “Sì! Oddio! È proprio lui!”. Un uomo esclama: “Guardate là! Totò è vivo! Totò non è morto! è resuscitato!”. Ma che sta succedendo? Il personaggio che viene indicato per molti anni è stato a fianco di Totò e spesso lo ha sostituito per la sua incredibile somiglianza: Dino Valdi\, la sua controfigura. Durante il funerale\, il secondo dei tre che furono celebrati in onore del defunto\, Valdi viene avvicinato da una giornalista del quotidiano “Il Mattino” di Napoli che\, incuriosita dalle urla e dagli svenimenti\, gli chiede di rilasciargli un’intervista\, proprio per raccontare\, a modo suo\, la vita del Principe della risata. Lo spettacolo teatrale è un’intervista immaginaria\, che intende tracciare una biografia non autorizzata. La vita di Totò viene raccontata in maniera assolutamente inedita da colui che ne ha rappresentato l’ombra. L’umile Dino diventa\, almeno una volta nella sua vita\, improvvisamente e inconsapevolmente protagonista assoluto di una storia che non è la sua. Attraverso i suoi ricordi\, riemergono i fatti e i personaggi del percorso artistico e familiare\, pubblico e privato\, del celebre attore.
URL:https://www.teatromercadante.com/eventi/yari-gugliucci-2/
CATEGORIES:Rassegna "Mettiamoci in prosa"
ATTACH;FMTTYPE=image/jpeg:https://www.teatromercadante.com/wp-content/uploads/2023/02/yuri-gugliucci-e1684770372115.jpg
END:VEVENT
END:VCALENDAR