BEGIN:VCALENDAR
VERSION:2.0
PRODID:-//Teatro Mercadante - ECPv6.15.20//NONSGML v1.0//EN
CALSCALE:GREGORIAN
METHOD:PUBLISH
X-ORIGINAL-URL:https://www.teatromercadante.com
X-WR-CALDESC:Eventi per Teatro Mercadante
REFRESH-INTERVAL;VALUE=DURATION:PT1H
X-Robots-Tag:noindex
X-PUBLISHED-TTL:PT1H
BEGIN:VTIMEZONE
TZID:Europe/Helsinki
BEGIN:DAYLIGHT
TZOFFSETFROM:+0200
TZOFFSETTO:+0300
TZNAME:EEST
DTSTART:20220327T010000
END:DAYLIGHT
BEGIN:STANDARD
TZOFFSETFROM:+0300
TZOFFSETTO:+0200
TZNAME:EET
DTSTART:20221030T010000
END:STANDARD
BEGIN:DAYLIGHT
TZOFFSETFROM:+0200
TZOFFSETTO:+0300
TZNAME:EEST
DTSTART:20230326T010000
END:DAYLIGHT
BEGIN:STANDARD
TZOFFSETFROM:+0300
TZOFFSETTO:+0200
TZNAME:EET
DTSTART:20231029T010000
END:STANDARD
BEGIN:DAYLIGHT
TZOFFSETFROM:+0200
TZOFFSETTO:+0300
TZNAME:EEST
DTSTART:20240331T010000
END:DAYLIGHT
BEGIN:STANDARD
TZOFFSETFROM:+0300
TZOFFSETTO:+0200
TZNAME:EET
DTSTART:20241027T010000
END:STANDARD
END:VTIMEZONE
BEGIN:VEVENT
DTSTART;TZID=Europe/Helsinki:20230304T230000
DTEND;TZID=Europe/Helsinki:20230305T010000
DTSTAMP:20260423T061339
CREATED:20230220T152929Z
LAST-MODIFIED:20230403T142753Z
UID:10000026-1677970800-1677978000@www.teatromercadante.com
SUMMARY:Leonardo Manera
DESCRIPTION:In questo spettacolo Leonardo Manera prova a vivere una giornata qualunque di uno di noi\, dalla colazione del mattino alla cena della sera\, dalla raccolta differenziata dei rifiuti all’inevitabile pausa sui social\, dall’accompagnare a scuola i figli fino all’arrivo al lavoro\, più o meno gratificante. Momenti pieni di ansia ma nei quali è anche possibile cogliere spunti di divertimento e comicità. Finché\, giunta la sera\, è inevitabile chiedersi: c’è ancora\, per noi insoddisfatti uomini d’oggi\, un motivo per sorridere alla vita? Leonardo Manera attraversa allora la città\, ma è una città con nomi simbolici: “Corso Tatuaggi”\, “Via Tronisti”\, “Via della Scuola Vuota”\, per arrivare\, infine\, in “Piazza della Paura”\, a interrogarsi sugli elementi che danno ancora un senso alla vita\, concludendo con un messaggio di speranza. Uno spettacolo che unisce il sorriso alla concreta considerazione del nostro modo di vivere quotidiano.
URL:https://www.teatromercadante.com/eventi/leonardo-manera/
CATEGORIES:Festival "Bombetta d'Oro"
ATTACH;FMTTYPE=image/jpeg:https://www.teatromercadante.com/wp-content/uploads/2023/02/leonardo-manera.jpg
END:VEVENT
END:VCALENDAR