BEGIN:VCALENDAR
VERSION:2.0
PRODID:-//Teatro Mercadante - ECPv6.15.20//NONSGML v1.0//EN
CALSCALE:GREGORIAN
METHOD:PUBLISH
X-WR-CALNAME:Teatro Mercadante
X-ORIGINAL-URL:https://www.teatromercadante.com
X-WR-CALDESC:Eventi per Teatro Mercadante
REFRESH-INTERVAL;VALUE=DURATION:PT1H
X-Robots-Tag:noindex
X-PUBLISHED-TTL:PT1H
BEGIN:VTIMEZONE
TZID:Europe/Helsinki
BEGIN:DAYLIGHT
TZOFFSETFROM:+0200
TZOFFSETTO:+0300
TZNAME:EEST
DTSTART:20220327T010000
END:DAYLIGHT
BEGIN:STANDARD
TZOFFSETFROM:+0300
TZOFFSETTO:+0200
TZNAME:EET
DTSTART:20221030T010000
END:STANDARD
BEGIN:DAYLIGHT
TZOFFSETFROM:+0200
TZOFFSETTO:+0300
TZNAME:EEST
DTSTART:20230326T010000
END:DAYLIGHT
BEGIN:STANDARD
TZOFFSETFROM:+0300
TZOFFSETTO:+0200
TZNAME:EET
DTSTART:20231029T010000
END:STANDARD
BEGIN:DAYLIGHT
TZOFFSETFROM:+0200
TZOFFSETTO:+0300
TZNAME:EEST
DTSTART:20240331T010000
END:DAYLIGHT
BEGIN:STANDARD
TZOFFSETFROM:+0300
TZOFFSETTO:+0200
TZNAME:EET
DTSTART:20241027T010000
END:STANDARD
END:VTIMEZONE
BEGIN:VEVENT
DTSTART;TZID=Europe/Helsinki:20230225T230000
DTEND;TZID=Europe/Helsinki:20230226T010000
DTSTAMP:20260423T074909
CREATED:20230220T152837Z
LAST-MODIFIED:20230403T143006Z
UID:10000025-1677366000-1677373200@www.teatromercadante.com
SUMMARY:I Ditelo Voi
DESCRIPTION:I Ditelo voi ovvero Francesco De Fraia\, Lello Ferrante e Mimmo Manfredi\, sono tre attori napoletani che raccontano la realtà quotidiana attraverso la magia dello spettacolo\, grazie ad un’originale\, surreale ed esilarante comicità. Dal teatro agli schermi televisivi\, il trio comico si è affermato per la personale interpretazione delle manie degli italiani grazie all’accattivante vena teatrale che da sempre li contraddistingue. Creatività\, surrealismo e improvvisazione\, questi i tre ingredienti di base dello spettacolo comico. Nel mondo de I Ditelo Voi si alternano sul palco situazioni più o meno possibili\, personaggi vecchi e nuovi\, dalle sembianze fumettistiche\, alcuni dei quali visti in note trasmissioni televisive (Made in Sud\, Colorado…) e tanto amati dal pubblico tra i quali i Gomorroidi\, i Preti\, i Vampiri e gli strambi condòmini di Tra-Sit.
URL:https://www.teatromercadante.com/eventi/i-ditelo-voi/
CATEGORIES:Festival "Bombetta d'Oro"
ATTACH;FMTTYPE=image/jpeg:https://www.teatromercadante.com/wp-content/uploads/2023/02/i-ditelo-voi-e1684770134225.jpg
END:VEVENT
END:VCALENDAR