BEGIN:VCALENDAR
VERSION:2.0
PRODID:-//Teatro Mercadante - ECPv6.15.20//NONSGML v1.0//EN
CALSCALE:GREGORIAN
METHOD:PUBLISH
X-WR-CALNAME:Teatro Mercadante
X-ORIGINAL-URL:https://www.teatromercadante.com
X-WR-CALDESC:Eventi per Teatro Mercadante
REFRESH-INTERVAL;VALUE=DURATION:PT1H
X-Robots-Tag:noindex
X-PUBLISHED-TTL:PT1H
BEGIN:VTIMEZONE
TZID:Europe/Helsinki
BEGIN:DAYLIGHT
TZOFFSETFROM:+0200
TZOFFSETTO:+0300
TZNAME:EEST
DTSTART:20220327T010000
END:DAYLIGHT
BEGIN:STANDARD
TZOFFSETFROM:+0300
TZOFFSETTO:+0200
TZNAME:EET
DTSTART:20221030T010000
END:STANDARD
BEGIN:DAYLIGHT
TZOFFSETFROM:+0200
TZOFFSETTO:+0300
TZNAME:EEST
DTSTART:20230326T010000
END:DAYLIGHT
BEGIN:STANDARD
TZOFFSETFROM:+0300
TZOFFSETTO:+0200
TZNAME:EET
DTSTART:20231029T010000
END:STANDARD
BEGIN:DAYLIGHT
TZOFFSETFROM:+0200
TZOFFSETTO:+0300
TZNAME:EEST
DTSTART:20240331T010000
END:DAYLIGHT
BEGIN:STANDARD
TZOFFSETFROM:+0300
TZOFFSETTO:+0200
TZNAME:EET
DTSTART:20241027T010000
END:STANDARD
END:VTIMEZONE
BEGIN:VEVENT
DTSTART;TZID=Europe/Helsinki:20230114T230000
DTEND;TZID=Europe/Helsinki:20230115T010000
DTSTAMP:20260423T093246
CREATED:20230220T150848Z
LAST-MODIFIED:20230404T120526Z
UID:10000017-1673737200-1673744400@www.teatromercadante.com
SUMMARY:Teatro Stabile Nisseno di Caltanissetta
DESCRIPTION:La “farsa” è un genere tanto nobile quanto ormai poco praticato in Italia\, rimane il punto\, però che è difficilissimo\, al limite dell’impossibilità tecnica: è roba da maschere\, da clown\, da performers abituati allo specifico. La forza fisica richiesta è notevolissima. Non parliamo della concentrazione e della ricerca. Il personaggio farsesco non molla mai\, non si eclissa mai\, non si nasconde mai. Ora il Teatro Stabile Nisseno torna alla farsa pura con questa esilarante versione monstre di farsa alla black comedy. Lontanamente ispirata ad alcuni classici anglofoni del genere (“Camere con Crimini”\, “Black Comedy”\, “Disaster Comedy”) ma sciacquati e rigenerati in chiave sicula\, vernacola e provocatoriamente proletaria. Una farsa affidata alla bravura indiscussa\, al talento\, all’esperienza unica di tre attori/interpreti/clown che si affidano alle follie di una meta-rappresentazione spericolata e spudorata. Con l’intento di ricongiungere lo spettatore alle risate dell’infanzia ed alla malinconia dell’adolescenza.
URL:https://www.teatromercadante.com/eventi/teatro-stabile-nisseno-di-caltanissetta/
CATEGORIES:Festival "Bombetta d'Oro"
ATTACH;FMTTYPE=image/jpeg:https://www.teatromercadante.com/wp-content/uploads/2023/02/teatro-stabile-nisseno.jpg
END:VEVENT
END:VCALENDAR